Workbook

Sheet Inicio
B17: Fuente
B18: Definiciones
B20: Sentencias según pronunciamiento, causa del litigio, vivienda u otro uso
B21: Sentencias según pronunciamiento, causa del litigio,TSJ, vivienda u otro uso
B22: Sentencias según pronunciamiento (porcentaje) , causa del litigio, TSJ, vivienda u otro uso
B23: Decretos según tipo, TSJ, vivienda u otro uso
B24: Evolución del número de sentencias y decretos, por TSJ

Sheet Fuente
J1: i | K1: i
B7: Fuente:
B10: Datos obtenidos en los boletines trimestrales recogidos por el CGPJ en los juzgados de primera instancia y primera instancia e instrucción o los órganos correspondientes en los Tribunales de Instancia constituidos en el periodo.
B12: Se recogen por medio de dos cuadros incluidos en los boletines de los juzgados de primera instancia y primera instancia e instrucción dentro del bloque de resoluciones finales civiles

Sheet Definiciones
B5: En los decretos
B6: Entrega de posesion | C6: Si el demandado atendiere el requerimiento en cuanto al desalojo del inmueble sin formular oposición ni pagar la cantidad que se reclamase.
B7: Enervacion | C7: Si, antes de la celebración de la vista, el arrendatario paga al actor o pone a su disposición en el tribunal o notarialmente el importe de las cantidades reclamadas en la demanda y el de las que adeude en el momento de dicho pago enervador del desahucio.
B8: Archivo para ejecucion | C8: Si el demandado, en el plazo concedido no desaloja el inmueble, paga al actor la totalidad de lo adeudado o comparece para formular oposición a la demanda.
B9: Otras causas | C9: Otras formas de terminación anticipada del proceso producidas una vez admitida a trámite la demanda, por ejemplo, desistimiento
B12: En las sentencias
B13: Estimando la demanda totalmente | C13: El juez acoge la totalidad de las pretensiones del demandantes
B14: Estimando la demanda parcialmente | C14: El juez solo estima parte de las pretensiones del demandante
B15: Desestimando la demanda | C15: El juez desestima la totalidad de las pretensiones del demandante

Sheet Sentencias Nacional
B7: Vivienda | C7: parcialmente | D7: demanda | F7: Uso distinto a vivienda | G7: Estimando la demanda | H7: Desestimando la demanda | J7: Total | K7: Estimando la demanda | L7: Desestimando la demanda
B8: Estimando la demanda totalmente | C8: Estimando la demanda parcialmente | D8: Desestimando la demanda | E8: Total | F8: Estimando la demanda totalmente | G8: Estimando la demanda parcialmente | H8: Desestimando la demanda | I8: Total | J8: Estimando la demanda totalmente | K8: Estimando la demanda parcialmente | L8: Desestimando la demanda | M8: Total
A9: Falta de pago de la renta o de cantidades que se asimilan (incluido fianzas) | B9: 2392 | C9: 182 | D9: 143 | E9: 2717 | F9: 132 | G9: 23 | H9: 28 | I9: 183 | J9: =+B9+F9 -> 2524 | K9: =+C9+G9 -> 205 | L9: =+D9+H9 -> 171 | M9: 2796
A10: Subarriendo o cesion inconsentidos | B10: 22 | C10: 0 | D10: 2 | E10: 24 | F10: 1 | G10: 0 | H10: 0 | I10: 1 | J10: =+B10+F10 -> 23 | K10: =+C10+G10 -> 0 | L10: =+D10+H10 -> 2 | M10: 26
A11: Realizacion de actividades molestas, insalubres o peligrosas | B11: 0 | C11: 2 | D11: 0 | E11: 2 | F11: 0 | G11: 0 | H11: 0 | I11: 0 | J11: =+B11+F11 -> 0 | K11: =+C11+G11 -> 2 | L11: =+D11+H11 -> 0 | M11: 4
A12: No uso como vivienda permanente | B12: 4 | C12: 1 | D12: 0 | E12: 5 | F12: 0 | G12: 0 | H12: 0 | I12: 0 | J12: =+B12+F12 -> 4 | K12: =+C12+G12 -> 1 | L12: =+D12+H12 -> 0 | M12: 4
A13: Realizacion de daños u obras no consentidas | B13: 4 | C13: 1 | D13: 0 | E13: 5 | F13: 0 | G13: 1 | H13: 0 | I13: 1 | J13: =+B13+F13 -> 4 | K13: =+C13+G13 -> 2 | L13: =+D13+H13 -> 0 | M13: 5
A14: Denegacion de prorroga | B14: 197 | C14: 40 | D14: 23 | E14: 260 | F14: 15 | G14: 5 | H14: 1 | I14: 21 | J14: =+B14+F14 -> 212 | K14: =+C14+G14 -> 45 | L14: =+D14+H14 -> 24 | M14: 209
A15: Otros | B15: 436 | C15: 29 | D15: 52 | E15: 517 | F15: 29 | G15: 3 | H15: 3 | I15: 35 | J15: =+B15+F15 -> 465 | K15: =+C15+G15 -> 32 | L15: =+D15+H15 -> 55 | M15: 547
A16: TOTAL | B16: 3055 | C16: 255 | D16: 220 | E16: 3530 | F16: 177 | G16: 32 | H16: 32 | I16: 241 | J16: 3232 | K16: 287 | L16: 252 | M16: 3771
B19: Vivienda | E19: Uso distinto a vivienda | H19: Total
B20: Estimando la demanda totalmente | C20: Estimando la demanda parcialmente | D20: Desestimando la demanda | E20: Estimando la demanda totalmente | F20: Estimando la demanda parcialmente | G20: Desestimando la demanda | H20: Estimando la demanda totalmente | I20: Estimando la demanda parcialmente | J20: Desestimando la demanda
A21: Falta de pago de la renta o de cantidades que se asimilan (incluido fianzas) | B21: =IF($E9=0,"-",(B9/$E9)) -> 0.88038278 | C21: =IF($E9=0,"-",(C9/$E9)) -> 0.066985646 | D21: =IF($E9=0,"-",(D9/$E9)) -> 0.052631579 | E21: =IF($I9=0,"-",(F9/$I9)) -> 0.72131148 | F21: =IF($I9=0,"-",(G9/$I9)) -> 0.12568306 | G21: =IF($I9=0,"-",(H9/$I9)) -> 0.15300546 | H21: =IF($M9=0,"-",(J9/$M9)) -> 0.90271817 | I21: =IF($M9=0,"-",(K9/$M9)) -> 0.073319027 | J21: =IF($M9=0,"-",(L9/$M9)) -> 0.061158798
A22: Subarriendo o cesion inconsentidos | B22: =IF($E10=0,"-",(B10/$E10)) -> 0.91666667 | C22: =IF($E10=0,"-",(C10/$E10)) -> 0 | D22: =IF($E10=0,"-",(D10/$E10)) -> 0.083333333 | E22: =IF($I10=0,"-",(F10/$I10)) -> 1 | F22: =IF($I10=0,"-",(G10/$I10)) -> 0 | G22: =IF($I10=0,"-",(H10/$I10)) -> 0 | H22: =IF($M10=0,"-",(J10/$M10)) -> 0.88461538 | I22: =IF($M10=0,"-",(K10/$M10)) -> 0 | J22: =IF($M10=0,"-",(L10/$M10)) -> 0.076923077
A23: Realizacion de actividades molestas, insalubres o peligrosas | B23: =IF($E11=0,"-",(B11/$E11)) -> 0 | C23: =IF($E11=0,"-",(C11/$E11)) -> 1 | D23: =IF($E11=0,"-",(D11/$E11)) -> 0 | E23: =IF($I11=0,"-",(F11/$I11)) -> - | F23: =IF($I11=0,"-",(G11/$I11)) -> - | G23: =IF($I11=0,"-",(H11/$I11)) -> - | H23: =IF($M11=0,"-",(J11/$M11)) -> 0 | I23: =IF($M11=0,"-",(K11/$M11)) -> 0.5 | J23: =IF($M11=0,"-",(L11/$M11)) -> 0
A24: No uso como vivienda permanente | B24: =IF($E12=0,"-",(B12/$E12)) -> 0.8 | C24: =IF($E12=0,"-",(C12/$E12)) -> 0.2 | D24: =IF($E12=0,"-",(D12/$E12)) -> 0 | E24: =IF($I12=0,"-",(F12/$I12)) -> - | F24: =IF($I12=0,"-",(G12/$I12)) -> - | G24: =IF($I12=0,"-",(H12/$I12)) -> - | H24: =IF($M12=0,"-",(J12/$M12)) -> 1 | I24: =IF($M12=0,"-",(K12/$M12)) -> 0.25 | J24: =IF($M12=0,"-",(L12/$M12)) -> 0
A25: Realizacion de daños u obras no consentidas | B25: =IF($E13=0,"-",(B13/$E13)) -> 0.8 | C25: =IF($E13=0,"-",(C13/$E13)) -> 0.2 | D25: =IF($E13=0,"-",(D13/$E13)) -> 0 | E25: =IF($I13=0,"-",(F13/$I13)) -> 0 | F25: =IF($I13=0,"-",(G13/$I13)) -> 1 | G25: =IF($I13=0,"-",(H13/$I13)) -> 0 | H25: =IF($M13=0,"-",(J13/$M13)) -> 0.8 | I25: =IF($M13=0,"-",(K13/$M13)) -> 0.4 | J25: =IF($M13=0,"-",(L13/$M13)) -> 0
A26: Denegacion de proroga | B26: =IF($E14=0,"-",(B14/$E14)) -> 0.75769231 | C26: =IF($E14=0,"-",(C14/$E14)) -> 0.15384615 | D26: =IF($E14=0,"-",(D14/$E14)) -> 0.088461538 | E26: =IF($I14=0,"-",(F14/$I14)) -> 0.71428571 | F26: =IF($I14=0,"-",(G14/$I14)) -> 0.23809524 | G26: =IF($I14=0,"-",(H14/$I14)) -> 0.047619048 | H26: =IF($M14=0,"-",(J14/$M14)) -> 1.0143541 | I26: =IF($M14=0,"-",(K14/$M14)) -> 0.215311 | J26: =IF($M14=0,"-",(L14/$M14)) -> 0.11483254
A27: Otros | B27: =IF($E15=0,"-",(B15/$E15)) -> 0.84332689 | C27: =IF($E15=0,"-",(C15/$E15)) -> 0.056092843 | D27: =IF($E15=0,"-",(D15/$E15)) -> 0.10058027 | E27: =IF($I15=0,"-",(F15/$I15)) -> 0.82857143 | F27: =IF($I15=0,"-",(G15/$I15)) -> 0.085714286 | G27: =IF($I15=0,"-",(H15/$I15)) -> 0.085714286 | H27: =IF($M15=0,"-",(J15/$M15)) -> 0.85009141 | I27: =IF($M15=0,"-",(K15/$M15)) -> 0.058500914 | J27: =IF($M15=0,"-",(L15/$M15)) -> 0.10054845
A28: TOTAL | B28: =IF($E16=0,"-",(B16/$E16)) -> 0.86543909 | C28: =IF($E16=0,"-",(C16/$E16)) -> 0.07223796 | D28: =IF($E16=0,"-",(D16/$E16)) -> 0.062322946 | E28: =IF($I16=0,"-",(F16/$I16)) -> 0.73443983 | F28: =IF($I16=0,"-",(G16/$I16)) -> 0.13278008 | G28: =IF($I16=0,"-",(H16/$I16)) -> 0.13278008 | H28: =IF($M16=0,"-",(J16/$M16)) -> 0.85706709 | I28: =IF($M16=0,"-",(K16/$M16)) -> 0.076107133 | J28: =IF($M16=0,"-",(L16/$M16)) -> 0.066825776

Sheet Sentencias TSJ
A5: Viviendas | B5: Acción principal ejercitada en la demanda
B6: Falta de pago de la renta o de cantidades que se asimilan | E6: Denegacion de prorroga | H6: Otros (*) | K6: Total
B7: Estimando la demanda totalmente | C7: Estimando la demanda parcialmente | D7: Desestimando la demanda | E7: Estimando la demanda totalmente | F7: Estimando la demanda parcialmente | G7: Desestimando la demanda | H7: Estimando la demanda totalmente | I7: Estimando la demanda parcialmente | J7: Desestimando la demanda | K7: Estimando la demanda totalmente | L7: Estimando la demanda parcialmente | M7: Desestimando la demanda | O7: 45658
A8: Andalucía | B8: 257 | C8: 25 | D8: 19 | E8: 11 | F8: 2 | G8: 4 | H8: 66 | I8: 2 | J8: 1 | K8: 334 | L8: 29 | M8: 24 | N8: =+K8+L8+M8 -> 387 | O8: 8836787 | P8: =+N8/O8*100000 -> 4.3794198
A9: Aragón | B9: 60 | C9: 11 | D9: 5 | E9: 4 | F9: 10 | G9: 0 | H9: 14 | I9: 0 | J9: 8 | K9: 78 | L9: 21 | M9: 13 | N9: =+K9+L9+M9 -> 112 | O9: 1358812 | P9: =+N9/O9*100000 -> 8.2424942
A10: Asturias | B10: 55 | C10: 1 | D10: 4 | E10: 1 | F10: 0 | G10: 0 | H10: 15 | I10: 0 | J10: 0 | K10: 71 | L10: 1 | M10: 4 | N10: =+K10+L10+M10 -> 76 | O10: 1013529 | P10: =+N10/O10*100000 -> 7.4985521
A11: Illes Balears | B11: 72 | C11: 2 | D11: 4 | E11: 11 | F11: 0 | G11: 2 | H11: 8 | I11: 0 | J11: 0 | K11: 91 | L11: 2 | M11: 6 | N11: =+K11+L11+M11 -> 99 | O11: 1237480 | P11: =+N11/O11*100000 -> 8.0001293
A12: Canarias | B12: 139 | C12: 13 | D12: 12 | E12: 8 | F12: 0 | G12: 2 | H12: 23 | I12: 1 | J12: 4 | K12: 170 | L12: 14 | M12: 18 | N12: =+K12+L12+M12 -> 202 | O12: 2249976 | P12: =+N12/O12*100000 -> 8.9778735
A13: Cantabria | B13: 49 | C13: 3 | D13: 3 | E13: 0 | F13: 8 | G13: 1 | H13: 3 | I13: 6 | J13: 1 | K13: 52 | L13: 17 | M13: 5 | N13: =+K13+L13+M13 -> 74 | O13: 593964 | P13: =+N13/O13*100000 -> 12.458668
A14: Castilla y León | B14: 81 | C14: 13 | D14: 8 | E14: 4 | F14: 0 | G14: 0 | H14: 8 | I14: 0 | J14: 3 | K14: 93 | L14: 13 | M14: 11 | N14: =+K14+L14+M14 -> 117 | O14: 2398500 | P14: =+N14/O14*100000 -> 4.8780488
A15: Castilla-La Mancha | B15: 72 | C15: 3 | D15: 6 | E15: 0 | F15: 0 | G15: 1 | H15: 7 | I15: 1 | J15: 0 | K15: 79 | L15: 4 | M15: 7 | N15: =+K15+L15+M15 -> 90 | O15: 2119234 | P15: =+N15/O15*100000 -> 4.2468175
A16: Cataluña | B16: 542 | C16: 49 | D16: 29 | E16: 70 | F16: 7 | G16: 3 | H16: 207 | I16: 18 | J16: 15 | K16: 819 | L16: 74 | M16: 47 | N16: =+K16+L16+M16 -> 940 | O16: 8146265 | P16: =+N16/O16*100000 -> 11.53903
A17: C. Valenciana | B17: 299 | C17: 29 | D17: 17 | E17: 22 | F17: 5 | G17: 3 | H17: 44 | I17: 2 | J17: 7 | K17: 365 | L17: 36 | M17: 27 | N17: =+K17+L17+M17 -> 428 | O17: 5415843 | P17: =+N17/O17*100000 -> 7.9027402
A18: Extremadura | B18: 18 | C18: 3 | D18: 0 | E18: 0 | F18: 0 | G18: 0 | H18: 0 | I18: 0 | J18: 1 | K18: 18 | L18: 3 | M18: 1 | N18: =+K18+L18+M18 -> 22 | O18: 1051638 | P18: =+N18/O18*100000 -> 2.0919746
A19: Galicia | B19: 80 | C19: 1 | D19: 1 | E19: 3 | F19: 1 | G19: 0 | H19: 7 | I19: 0 | J19: 0 | K19: 90 | L19: 2 | M19: 1 | N19: =+K19+L19+M19 -> 93 | O19: 2713169 | P19: =+N19/O19*100000 -> 3.427726
... A24: La Rioja | B24: 16 | C24: 3 | D24: 0 | E24: 0 | F24: 0 | G24: 0 | H24: 0 | I24: 0 | J24: 0 | K24: 16 | L24: 3 | M24: 0 | N24: =+K24+L24+M24 -> 19 | O24: 327286 | P24: =+N24/O24*100000 -> 5.8053201
A25: TOTAL | B25: 2392 | C25: 182 | D25: 143 | E25: 197 | F25: 40 | G25: 23 | H25: 466 | I25: 33 | J25: 54 | K25: 3055 | L25: 255 | M25: 220 | N25: =SUM(N8:N24) -> 3530 | O25: 49114494 | P25: =SUM(P8:P24) -> 118.2751
A27: (*) incluye Subarriendo o cesion inconsentidos, Realizacion de actividades molestas, insalubres o peligrosas, No uso como vivienda permanente, Realizacion de daños u obras no consentidas, y Otros
A29: Uso distinto a vivienda | B29: Acción principal ejercitada en la demanda
B30: Falta de pago de la renta o de cantidades que se asimilan | E30: Denegacion de prorroga | H30: Otros (*) | K30: Total
B31: Estimando la demanda totalmente | C31: Estimando la demanda parcialmente | D31: Desestimando la demanda | E31: Estimando la demanda totalmente | F31: Estimando la demanda parcialmente | G31: Desestimando la demanda | H31: Estimando la demanda totalmente | I31: Estimando la demanda parcialmente | J31: Desestimando la demanda | K31: Estimando la demanda totalmente | L31: Estimando la demanda parcialmente | M31: Desestimando la demanda
A32: Andalucía | B32: 14 | C32: 2 | D32: 2 | E32: 0 | F32: 2 | G32: 0 | H32: 0 | I32: 0 | J32: 2 | K32: 14 | L32: 4 | M32: 4
A33: Aragón | B33: 1 | C33: 2 | D33: 0 | E33: 0 | F33: 1 | G33: 0 | H33: 1 | I33: 2 | J33: 0 | K33: 2 | L33: 5 | M33: 0
A34: Asturias | B34: 3 | C34: 0 | D34: 0 | E34: 1 | F34: 0 | G34: 0 | H34: 2 | I34: 0 | J34: 0 | K34: 6 | L34: 0 | M34: 0
A35: Illes Balears | B35: 3 | C35: 1 | D35: 3 | E35: 0 | F35: 0 | G35: 0 | H35: 0 | I35: 0 | J35: 0 | K35: 3 | L35: 1 | M35: 3
A36: Canarias | B36: 5 | C36: 0 | D36: 2 | E36: 1 | F36: 1 | G36: 0 | H36: 1 | I36: 0 | J36: 0 | K36: 7 | L36: 1 | M36: 2
A37: Cantabria | B37: 1 | C37: 4 | D37: 0 | E37: 0 | F37: 0 | G37: 0 | H37: 1 | I37: 0 | J37: 0 | K37: 2 | L37: 4 | M37: 0
A38: Castilla y León | B38: 6 | C38: 0 | D38: 2 | E38: 1 | F38: 0 | G38: 0 | H38: 3 | I38: 1 | J38: 0 | K38: 10 | L38: 1 | M38: 2
A39: Castilla-La Mancha | B39: 2 | C39: 0 | D39: 1 | E39: 0 | F39: 0 | G39: 0 | H39: 1 | I39: 0 | J39: 0 | K39: 3 | L39: 0 | M39: 1
A40: Cataluña | B40: 29 | C40: 4 | D40: 6 | E40: 7 | F40: 0 | G40: 0 | H40: 17 | I40: 1 | J40: 0 | K40: 53 | L40: 5 | M40: 6
A41: C. Valenciana | B41: 13 | C41: 5 | D41: 4 | E41: 0 | F41: 0 | G41: 1 | H41: 0 | I41: 0 | J41: 0 | K41: 13 | L41: 5 | M41: 5
A42: Extremadura | B42: 0 | C42: 0 | D42: 0 | E42: 1 | F42: 0 | G42: 0 | H42: 0 | I42: 0 | J42: 0 | K42: 1 | L42: 0 | M42: 0
A43: Galicia | B43: 6 | C43: 1 | D43: 2 | E43: 1 | F43: 0 | G43: 0 | H43: 0 | I43: 0 | J43: 0 | K43: 7 | L43: 1 | M43: 2
... A49: TOTAL | B49: 132 | C49: 23 | D49: 28 | E49: 15 | F49: 5 | G49: 1 | H49: 30 | I49: 4 | J49: 3 | K49: 177 | L49: 32 | M49: 32
A50: (*) incluye Subarriendo o cesion inconsentidos, Realizacion de actividades molestas, insalubres o peligrosas, No uso como vivienda permanente, Realizacion de daños u obras no consentidas, y Otros
A52: Total | B52: Acción principal ejercitada en la demanda
B53: Falta de pago de la renta o de cantidades que se asimilan | E53: Denegacion de prorroga | H53: Otros | K53: Total
B54: Estimando la demanda totalmente | C54: Estimando la demanda parcialmente | D54: Desestimando la demanda | E54: Estimando la demanda totalmente | F54: Estimando la demanda parcialmente | G54: Desestimando la demanda | H54: Estimando la demanda totalmente | I54: Estimando la demanda parcialmente | J54: Desestimando la demanda | K54: Estimando la demanda totalmente | L54: Estimando la demanda parcialmente | M54: Desestimando la demanda
A55: Andalucía | B55: =+B8+B32 -> 271 | C55: =+C8+C32 -> 27 | D55: =+D8+D32 -> 21 | E55: =+E8+E32 -> 11 | F55: =+F8+F32 -> 4 | G55: =+G8+G32 -> 4 | H55: =+H8+H32 -> 66 | I55: =+I8+I32 -> 2 | ... M55: =+M8+M32 -> 28
A56: Aragón | B56: =B9+B33 -> 61 | C56: =C9+C33 -> 13 | D56: =D9+D33 -> 5 | E56: =E9+E33 -> 4 | F56: =F9+F33 -> 11 | G56: =G9+G33 -> 0 | H56: =H9+H33 -> 15 | I56: =I9+I33 -> 2 | ... M56: =M9+M33 -> 13
A57: Asturias | B57: =B10+B34 -> 58 | C57: =C10+C34 -> 1 | D57: =D10+D34 -> 4 | E57: =E10+E34 -> 2 | F57: =F10+F34 -> 0 | G57: =G10+G34 -> 0 | H57: =H10+H34 -> 17 | I57: =I10+I34 -> 0 | ... M57: =M10+M34 -> 4
A58: Illes Balears | B58: =B11+B35 -> 75 | C58: =C11+C35 -> 3 | D58: =D11+D35 -> 7 | E58: =E11+E35 -> 11 | F58: =F11+F35 -> 0 | G58: =G11+G35 -> 2 | H58: =H11+H35 -> 8 | I58: =I11+I35 -> 0 | ... M58: =M11+M35 -> 9
A59: Canarias | B59: =B12+B36 -> 144 | C59: =C12+C36 -> 13 | D59: =D12+D36 -> 14 | E59: =E12+E36 -> 9 | F59: =F12+F36 -> 1 | G59: =G12+G36 -> 2 | H59: =H12+H36 -> 24 | I59: =I12+I36 -> 1 | ... M59: =M12+M36 -> 20
A60: Cantabria | B60: =B13+B37 -> 50 | C60: =C13+C37 -> 7 | D60: =D13+D37 -> 3 | E60: =E13+E37 -> 0 | F60: =F13+F37 -> 8 | G60: =G13+G37 -> 1 | H60: =H13+H37 -> 4 | I60: =I13+I37 -> 6 | ... M60: =M13+M37 -> 5
A61: Castilla y León | B61: =B14+B38 -> 87 | C61: =C14+C38 -> 13 | D61: =D14+D38 -> 10 | E61: =E14+E38 -> 5 | F61: =F14+F38 -> 0 | G61: =G14+G38 -> 0 | H61: =H14+H38 -> 11 | I61: =I14+I38 -> 1 | ... M61: =M14+M38 -> 13
A62: Castilla-La Mancha | B62: =B15+B39 -> 74 | C62: =C15+C39 -> 3 | D62: =D15+D39 -> 7 | E62: =E15+E39 -> 0 | F62: =F15+F39 -> 0 | G62: =G15+G39 -> 1 | H62: =H15+H39 -> 8 | I62: =I15+I39 -> 1 | ... M62: =M15+M39 -> 8
A63: Cataluña | B63: =B16+B40 -> 571 | C63: =C16+C40 -> 53 | D63: =D16+D40 -> 35 | E63: =E16+E40 -> 77 | F63: =F16+F40 -> 7 | G63: =G16+G40 -> 3 | H63: =H16+H40 -> 224 | I63: =I16+I40 -> 19 | ... M63: =M16+M40 -> 53
A64: C. Valenciana | B64: =B17+B41 -> 312 | C64: =C17+C41 -> 34 | D64: =D17+D41 -> 21 | E64: =E17+E41 -> 22 | F64: =F17+F41 -> 5 | G64: =G17+G41 -> 4 | H64: =H17+H41 -> 44 | I64: =I17+I41 -> 2 | ... M64: =M17+M41 -> 32
A65: Extremadura | B65: =B18+B42 -> 18 | C65: =C18+C42 -> 3 | D65: =D18+D42 -> 0 | E65: =E18+E42 -> 1 | F65: =F18+F42 -> 0 | G65: =G18+G42 -> 0 | H65: =H18+H42 -> 0 | I65: =I18+I42 -> 0 | ... M65: =M18+M42 -> 1
A66: Galicia | B66: =B19+B43 -> 86 | C66: =C19+C43 -> 2 | D66: =D19+D43 -> 3 | E66: =E19+E43 -> 4 | F66: =F19+F43 -> 1 | G66: =G19+G43 -> 0 | H66: =H19+H43 -> 7 | I66: =I19+I43 -> 0 | ... M66: =M19+M43 -> 3
A67: Madrid | B67: =B20+B44 -> 452 | C67: =C20+C44 -> 17 | D67: =D20+D44 -> 20 | E67: =E20+E44 -> 45 | F67: =F20+F44 -> 3 | G67: =G20+G44 -> 5 | H67: =H20+H44 -> 53 | I67: =I20+I44 -> 2 | ... M67: =M20+M44 -> 31
... A72: TOTAL | B72: =B25+B49 -> 2524 | C72: =C25+C49 -> 205 | D72: =D25+D49 -> 171 | E72: =E25+E49 -> 212 | F72: =F25+F49 -> 45 | G72: =G25+G49 -> 24 | H72: =H25+H49 -> 496 | I72: =I25+I49 -> 37 | ... M72: =M25+M49 -> 252

Sheet Sentencias TSJ %
A5: Viviendas | B5: Acción principal ejercitada en la demanda
B6: Falta de pago de la renta o de cantidades que se asimilan | E6: Denegacion de prorroga | H6: Otros | K6: Total
B7: Estimando la demanda totalmente | C7: Estimando la demanda parcialmente | D7: Desestimando la demanda | E7: Estimando la demanda totalmente | F7: Estimando la demanda parcialmente | G7: Desestimando la demanda | H7: Estimando la demanda totalmente | I7: Estimando la demanda parcialmente | J7: Desestimando la demanda | K7: Estimando la demanda totalmente | L7: Estimando la demanda parcialmente | M7: Desestimando la demanda
A8: Andalucía | B8: =IF(('Sentencias TSJ'!$B8+'Sentencias TSJ'!$C8+'Sentencias TSJ'!$D8)=0,"-",'Sentencias TSJ'!B8/('Sentencias TSJ'!$B8+'Sentencias TSJ'!$C8+'Sentencias TSJ'!$D8)) -> 0.8538206 | C8: =IF(('Sentencias TSJ'!$B8+'Sentencias TSJ'!$C8+'Sentencias TSJ'!$D8)=0,"-",'Sentencias TSJ'!C8/('Sentencias TSJ'!$B8+'Sentencias TSJ'!$C8+'Sentencias TSJ'!$D8)) -> 0.083056478 | D8: =IF(('Sentencias TSJ'!$B8+'Sentencias TSJ'!$C8+'Sentencias TSJ'!$D8)=0,"-",'Sentencias TSJ'!D8/('Sentencias TSJ'!$B8+'Sentencias TSJ'!$C8+'Sentencias TSJ'!$D8)) -> 0.063122924 | E8: =IF(('Sentencias TSJ'!$E8+'Sentencias TSJ'!$F8+'Sentencias TSJ'!$G8)=0,"-",'Sentencias TSJ'!E8/('Sentencias TSJ'!$E8+'Sentencias TSJ'!$F8+'Sentencias TSJ'!$G8)) -> 0.64705882 | F8: =IF(('Sentencias TSJ'!$E8+'Sentencias TSJ'!$F8+'Sentencias TSJ'!$G8)=0,"-",'Sentencias TSJ'!F8/('Sentencias TSJ'!$E8+'Sentencias TSJ'!$F8+'Sentencias TSJ'!$G8)) -> 0.11764706 | G8: =IF(('Sentencias TSJ'!$E8+'Sentencias TSJ'!$F8+'Sentencias TSJ'!$G8)=0,"-",'Sentencias TSJ'!G8/('Sentencias TSJ'!$E8+'Sentencias TSJ'!$F8+'Sentencias TSJ'!$G8)) -> 0.23529412 | H8: =IF(('Sentencias TSJ'!$H8+'Sentencias TSJ'!$I8+'Sentencias TSJ'!$J8)=0,"-",'Sentencias TSJ'!H8/('Sentencias TSJ'!$H8+'Sentencias TSJ'!$I8+'Sentencias TSJ'!$J8)) -> 0.95652174 | I8: =IF(('Sentencias TSJ'!$H8+'Sentencias TSJ'!$I8+'Sentencias TSJ'!$J8)=0,"-",'Sentencias TSJ'!I8/('Sentencias TSJ'!$H8+'Sentencias TSJ'!$I8+'Sentencias TSJ'!$J8)) -> 0.028985507 | J8: =IF(('Sentencias TSJ'!$H8+'Sentencias TSJ'!$I8+'Sentencias TSJ'!$J8)=0,"-",'Sentencias TSJ'!J8/('Sentencias TSJ'!$H8+'Sentencias TSJ'!$I8+'Sentencias TSJ'!$J8)) -> 0.014492754 | K8: =IF(('Sentencias TSJ'!$K8+'Sentencias TSJ'!$L8+'Sentencias TSJ'!$M8)=0,"-",'Sentencias TSJ'!K8/('Sentencias TSJ'!$K8+'Sentencias TSJ'!$L8+'Sentencias TSJ'!$M8)) -> 0.8630491 | L8: =IF(('Sentencias TSJ'!$K8+'Sentencias TSJ'!$L8+'Sentencias TSJ'!$M8)=0,"-",'Sentencias TSJ'!L8/('Sentencias TSJ'!$K8+'Sentencias TSJ'!$L8+'Sentencias TSJ'!$M8)) -> 0.074935401 | M8: =IF(('Sentencias TSJ'!$K8+'Sentencias TSJ'!$L8+'Sentencias TSJ'!$M8)=0,"-",'Sentencias TSJ'!M8/('Sentencias TSJ'!$K8+'Sentencias TSJ'!$L8+'Sentencias TSJ'!$M8)) -> 0.062015504
A9: Aragón | B9: =IF(('Sentencias TSJ'!$B9+'Sentencias TSJ'!$C9+'Sentencias TSJ'!$D9)=0,"-",'Sentencias TSJ'!B9/('Sentencias TSJ'!$B9+'Sentencias TSJ'!$C9+'Sentencias TSJ'!$D9)) -> 0.78947368 | C9: =IF(('Sentencias TSJ'!$B9+'Sentencias TSJ'!$C9+'Sentencias TSJ'!$D9)=0,"-",'Sentencias TSJ'!C9/('Sentencias TSJ'!$B9+'Sentencias TSJ'!$C9+'Sentencias TSJ'!$D9)) -> 0.14473684 | D9: =IF(('Sentencias TSJ'!$B9+'Sentencias TSJ'!$C9+'Sentencias TSJ'!$D9)=0,"-",'Sentencias TSJ'!D9/('Sentencias TSJ'!$B9+'Sentencias TSJ'!$C9+'Sentencias TSJ'!$D9)) -> 0.065789474 | E9: =IF(('Sentencias TSJ'!$E9+'Sentencias TSJ'!$F9+'Sentencias TSJ'!$G9)=0,"-",'Sentencias TSJ'!E9/('Sentencias TSJ'!$E9+'Sentencias TSJ'!$F9+'Sentencias TSJ'!$G9)) -> 0.28571429 | F9: =IF(('Sentencias TSJ'!$E9+'Sentencias TSJ'!$F9+'Sentencias TSJ'!$G9)=0,"-",'Sentencias TSJ'!F9/('Sentencias TSJ'!$E9+'Sentencias TSJ'!$F9+'Sentencias TSJ'!$G9)) -> 0.71428571 | G9: =IF(('Sentencias TSJ'!$E9+'Sentencias TSJ'!$F9+'Sentencias TSJ'!$G9)=0,"-",'Sentencias TSJ'!G9/('Sentencias TSJ'!$E9+'Sentencias TSJ'!$F9+'Sentencias TSJ'!$G9)) -> 0 | H9: =IF(('Sentencias TSJ'!$H9+'Sentencias TSJ'!$I9+'Sentencias TSJ'!$J9)=0,"-",'Sentencias TSJ'!H9/('Sentencias TSJ'!$H9+'Sentencias TSJ'!$I9+'Sentencias TSJ'!$J9)) -> 0.63636364 | I9: =IF(('Sentencias TSJ'!$H9+'Sentencias TSJ'!$I9+'Sentencias TSJ'!$J9)=0,"-",'Sentencias TSJ'!I9/('Sentencias TSJ'!$H9+'Sentencias TSJ'!$I9+'Sentencias TSJ'!$J9)) -> 0 | J9: =IF(('Sentencias TSJ'!$H9+'Sentencias TSJ'!$I9+'Sentencias TSJ'!$J9)=0,"-",'Sentencias TSJ'!J9/('Sentencias TSJ'!$H9+'Sentencias TSJ'!$I9+'Sentencias TSJ'!$J9)) -> 0.36363636 | K9: =IF(('Sentencias TSJ'!$K9+'Sentencias TSJ'!$L9+'Sentencias TSJ'!$M9)=0,"-",'Sentencias TSJ'!K9/('Sentencias TSJ'!$K9+'Sentencias TSJ'!$L9+'Sentencias TSJ'!$M9)) -> 0.69642857 | L9: =IF(('Sentencias TSJ'!$K9+'Sentencias TSJ'!$L9+'Sentencias TSJ'!$M9)=0,"-",'Sentencias TSJ'!L9/('Sentencias TSJ'!$K9+'Sentencias TSJ'!$L9+'Sentencias TSJ'!$M9)) -> 0.1875 | M9: =IF(('Sentencias TSJ'!$K9+'Sentencias TSJ'!$L9+'Sentencias TSJ'!$M9)=0,"-",'Sentencias TSJ'!M9/('Sentencias TSJ'!$K9+'Sentencias TSJ'!$L9+'Sentencias TSJ'!$M9)) -> 0.11607143
A10: Asturias | B10: =IF(('Sentencias TSJ'!$B10+'Sentencias TSJ'!$C10+'Sentencias TSJ'!$D10)=0,"-",'Sentencias TSJ'!B10/('Sentencias TSJ'!$B10+'Sentencias TSJ'!$C10+'Sentencias TSJ'!$D10)) -> 0.91666667 | C10: =IF(('Sentencias TSJ'!$B10+'Sentencias TSJ'!$C10+'Sentencias TSJ'!$D10)=0,"-",'Sentencias TSJ'!C10/('Sentencias TSJ'!$B10+'Sentencias TSJ'!$C10+'Sentencias TSJ'!$D10)) -> 0.016666667 | D10: =IF(('Sentencias TSJ'!$B10+'Sentencias TSJ'!$C10+'Sentencias TSJ'!$D10)=0,"-",'Sentencias TSJ'!D10/('Sentencias TSJ'!$B10+'Sentencias TSJ'!$C10+'Sentencias TSJ'!$D10)) -> 0.066666667 | E10: =IF(('Sentencias TSJ'!$E10+'Sentencias TSJ'!$F10+'Sentencias TSJ'!$G10)=0,"-",'Sentencias TSJ'!E10/('Sentencias TSJ'!$E10+'Sentencias TSJ'!$F10+'Sentencias TSJ'!$G10)) -> 1 | F10: =IF(('Sentencias TSJ'!$E10+'Sentencias TSJ'!$F10+'Sentencias TSJ'!$G10)=0,"-",'Sentencias TSJ'!F10/('Sentencias TSJ'!$E10+'Sentencias TSJ'!$F10+'Sentencias TSJ'!$G10)) -> 0 | G10: =IF(('Sentencias TSJ'!$E10+'Sentencias TSJ'!$F10+'Sentencias TSJ'!$G10)=0,"-",'Sentencias TSJ'!G10/('Sentencias TSJ'!$E10+'Sentencias TSJ'!$F10+'Sentencias TSJ'!$G10)) -> 0 | H10: =IF(('Sentencias TSJ'!$H10+'Sentencias TSJ'!$I10+'Sentencias TSJ'!$J10)=0,"-",'Sentencias TSJ'!H10/('Sentencias TSJ'!$H10+'Sentencias TSJ'!$I10+'Sentencias TSJ'!$J10)) -> 1 | I10: =IF(('Sentencias TSJ'!$H10+'Sentencias TSJ'!$I10+'Sentencias TSJ'!$J10)=0,"-",'Sentencias TSJ'!I10/('Sentencias TSJ'!$H10+'Sentencias TSJ'!$I10+'Sentencias TSJ'!$J10)) -> 0 | J10: =IF(('Sentencias TSJ'!$H10+'Sentencias TSJ'!$I10+'Sentencias TSJ'!$J10)=0,"-",'Sentencias TSJ'!J10/('Sentencias TSJ'!$H10+'Sentencias TSJ'!$I10+'Sentencias TSJ'!$J10)) -> 0 | K10: =IF(('Sentencias TSJ'!$K10+'Sentencias TSJ'!$L10+'Sentencias TSJ'!$M10)=0,"-",'Sentencias TSJ'!K10/('Sentencias TSJ'!$K10+'Sentencias TSJ'!$L10+'Sentencias TSJ'!$M10)) -> 0.93421053 | L10: =IF(('Sentencias TSJ'!$K10+'Sentencias TSJ'!$L10+'Sentencias TSJ'!$M10)=0,"-",'Sentencias TSJ'!L10/('Sentencias TSJ'!$K10+'Sentencias TSJ'!$L10+'Sentencias TSJ'!$M10)) -> 0.013157895 | M10: =IF(('Sentencias TSJ'!$K10+'Sentencias TSJ'!$L10+'Sentencias TSJ'!$M10)=0,"-",'Sentencias TSJ'!M10/('Sentencias TSJ'!$K10+'Sentencias TSJ'!$L10+'Sentencias TSJ'!$M10)) -> 0.052631579
A11: Illes Balears | B11: =IF(('Sentencias TSJ'!$B11+'Sentencias TSJ'!$C11+'Sentencias TSJ'!$D11)=0,"-",'Sentencias TSJ'!B11/('Sentencias TSJ'!$B11+'Sentencias TSJ'!$C11+'Sentencias TSJ'!$D11)) -> 0.92307692 | C11: =IF(('Sentencias TSJ'!$B11+'Sentencias TSJ'!$C11+'Sentencias TSJ'!$D11)=0,"-",'Sentencias TSJ'!C11/('Sentencias TSJ'!$B11+'Sentencias TSJ'!$C11+'Sentencias TSJ'!$D11)) -> 0.025641026 | D11: =IF(('Sentencias TSJ'!$B11+'Sentencias TSJ'!$C11+'Sentencias TSJ'!$D11)=0,"-",'Sentencias TSJ'!D11/('Sentencias TSJ'!$B11+'Sentencias TSJ'!$C11+'Sentencias TSJ'!$D11)) -> 0.051282051 | E11: =IF(('Sentencias TSJ'!$E11+'Sentencias TSJ'!$F11+'Sentencias TSJ'!$G11)=0,"-",'Sentencias TSJ'!E11/('Sentencias TSJ'!$E11+'Sentencias TSJ'!$F11+'Sentencias TSJ'!$G11)) -> 0.84615385 | F11: =IF(('Sentencias TSJ'!$E11+'Sentencias TSJ'!$F11+'Sentencias TSJ'!$G11)=0,"-",'Sentencias TSJ'!F11/('Sentencias TSJ'!$E11+'Sentencias TSJ'!$F11+'Sentencias TSJ'!$G11)) -> 0 | G11: =IF(('Sentencias TSJ'!$E11+'Sentencias TSJ'!$F11+'Sentencias TSJ'!$G11)=0,"-",'Sentencias TSJ'!G11/('Sentencias TSJ'!$E11+'Sentencias TSJ'!$F11+'Sentencias TSJ'!$G11)) -> 0.15384615 | H11: =IF(('Sentencias TSJ'!$H11+'Sentencias TSJ'!$I11+'Sentencias TSJ'!$J11)=0,"-",'Sentencias TSJ'!H11/('Sentencias TSJ'!$H11+'Sentencias TSJ'!$I11+'Sentencias TSJ'!$J11)) -> 1 | I11: =IF(('Sentencias TSJ'!$H11+'Sentencias TSJ'!$I11+'Sentencias TSJ'!$J11)=0,"-",'Sentencias TSJ'!I11/('Sentencias TSJ'!$H11+'Sentencias TSJ'!$I11+'Sentencias TSJ'!$J11)) -> 0 | J11: =IF(('Sentencias TSJ'!$H11+'Sentencias TSJ'!$I11+'Sentencias TSJ'!$J11)=0,"-",'Sentencias TSJ'!J11/('Sentencias TSJ'!$H11+'Sentencias TSJ'!$I11+'Sentencias TSJ'!$J11)) -> 0 | K11: =IF(('Sentencias TSJ'!$K11+'Sentencias TSJ'!$L11+'Sentencias TSJ'!$M11)=0,"-",'Sentencias TSJ'!K11/('Sentencias TSJ'!$K11+'Sentencias TSJ'!$L11+'Sentencias TSJ'!$M11)) -> 0.91919192 | L11: =IF(('Sentencias TSJ'!$K11+'Sentencias TSJ'!$L11+'Sentencias TSJ'!$M11)=0,"-",'Sentencias TSJ'!L11/('Sentencias TSJ'!$K11+'Sentencias TSJ'!$L11+'Sentencias TSJ'!$M11)) -> 0.02020202 | M11: =IF(('Sentencias TSJ'!$K11+'Sentencias TSJ'!$L11+'Sentencias TSJ'!$M11)=0,"-",'Sentencias TSJ'!M11/('Sentencias TSJ'!$K11+'Sentencias TSJ'!$L11+'Sentencias TSJ'!$M11)) -> 0.060606061
A12: Canarias | B12: =IF(('Sentencias TSJ'!$B12+'Sentencias TSJ'!$C12+'Sentencias TSJ'!$D12)=0,"-",'Sentencias TSJ'!B12/('Sentencias TSJ'!$B12+'Sentencias TSJ'!$C12+'Sentencias TSJ'!$D12)) -> 0.84756098 | C12: =IF(('Sentencias TSJ'!$B12+'Sentencias TSJ'!$C12+'Sentencias TSJ'!$D12)=0,"-",'Sentencias TSJ'!C12/('Sentencias TSJ'!$B12+'Sentencias TSJ'!$C12+'Sentencias TSJ'!$D12)) -> 0.079268293 | D12: =IF(('Sentencias TSJ'!$B12+'Sentencias TSJ'!$C12+'Sentencias TSJ'!$D12)=0,"-",'Sentencias TSJ'!D12/('Sentencias TSJ'!$B12+'Sentencias TSJ'!$C12+'Sentencias TSJ'!$D12)) -> 0.073170732 | E12: =IF(('Sentencias TSJ'!$E12+'Sentencias TSJ'!$F12+'Sentencias TSJ'!$G12)=0,"-",'Sentencias TSJ'!E12/('Sentencias TSJ'!$E12+'Sentencias TSJ'!$F12+'Sentencias TSJ'!$G12)) -> 0.8 | F12: =IF(('Sentencias TSJ'!$E12+'Sentencias TSJ'!$F12+'Sentencias TSJ'!$G12)=0,"-",'Sentencias TSJ'!F12/('Sentencias TSJ'!$E12+'Sentencias TSJ'!$F12+'Sentencias TSJ'!$G12)) -> 0 | G12: =IF(('Sentencias TSJ'!$E12+'Sentencias TSJ'!$F12+'Sentencias TSJ'!$G12)=0,"-",'Sentencias TSJ'!G12/('Sentencias TSJ'!$E12+'Sentencias TSJ'!$F12+'Sentencias TSJ'!$G12)) -> 0.2 | H12: =IF(('Sentencias TSJ'!$H12+'Sentencias TSJ'!$I12+'Sentencias TSJ'!$J12)=0,"-",'Sentencias TSJ'!H12/('Sentencias TSJ'!$H12+'Sentencias TSJ'!$I12+'Sentencias TSJ'!$J12)) -> 0.82142857 | I12: =IF(('Sentencias TSJ'!$H12+'Sentencias TSJ'!$I12+'Sentencias TSJ'!$J12)=0,"-",'Sentencias TSJ'!I12/('Sentencias TSJ'!$H12+'Sentencias TSJ'!$I12+'Sentencias TSJ'!$J12)) -> 0.035714286 | J12: =IF(('Sentencias TSJ'!$H12+'Sentencias TSJ'!$I12+'Sentencias TSJ'!$J12)=0,"-",'Sentencias TSJ'!J12/('Sentencias TSJ'!$H12+'Sentencias TSJ'!$I12+'Sentencias TSJ'!$J12)) -> 0.14285714 | K12: =IF(('Sentencias TSJ'!$K12+'Sentencias TSJ'!$L12+'Sentencias TSJ'!$M12)=0,"-",'Sentencias TSJ'!K12/('Sentencias TSJ'!$K12+'Sentencias TSJ'!$L12+'Sentencias TSJ'!$M12)) -> 0.84158416 | L12: =IF(('Sentencias TSJ'!$K12+'Sentencias TSJ'!$L12+'Sentencias TSJ'!$M12)=0,"-",'Sentencias TSJ'!L12/('Sentencias TSJ'!$K12+'Sentencias TSJ'!$L12+'Sentencias TSJ'!$M12)) -> 0.069306931 | M12: =IF(('Sentencias TSJ'!$K12+'Sentencias TSJ'!$L12+'Sentencias TSJ'!$M12)=0,"-",'Sentencias TSJ'!M12/('Sentencias TSJ'!$K12+'Sentencias TSJ'!$L12+'Sentencias TSJ'!$M12)) -> 0.089108911
A13: Cantabria | B13: =IF(('Sentencias TSJ'!$B13+'Sentencias TSJ'!$C13+'Sentencias TSJ'!$D13)=0,"-",'Sentencias TSJ'!B13/('Sentencias TSJ'!$B13+'Sentencias TSJ'!$C13+'Sentencias TSJ'!$D13)) -> 0.89090909 | C13: =IF(('Sentencias TSJ'!$B13+'Sentencias TSJ'!$C13+'Sentencias TSJ'!$D13)=0,"-",'Sentencias TSJ'!C13/('Sentencias TSJ'!$B13+'Sentencias TSJ'!$C13+'Sentencias TSJ'!$D13)) -> 0.054545455 | D13: =IF(('Sentencias TSJ'!$B13+'Sentencias TSJ'!$C13+'Sentencias TSJ'!$D13)=0,"-",'Sentencias TSJ'!D13/('Sentencias TSJ'!$B13+'Sentencias TSJ'!$C13+'Sentencias TSJ'!$D13)) -> 0.054545455 | E13: =IF(('Sentencias TSJ'!$E13+'Sentencias TSJ'!$F13+'Sentencias TSJ'!$G13)=0,"-",'Sentencias TSJ'!E13/('Sentencias TSJ'!$E13+'Sentencias TSJ'!$F13+'Sentencias TSJ'!$G13)) -> 0 | F13: =IF(('Sentencias TSJ'!$E13+'Sentencias TSJ'!$F13+'Sentencias TSJ'!$G13)=0,"-",'Sentencias TSJ'!F13/('Sentencias TSJ'!$E13+'Sentencias TSJ'!$F13+'Sentencias TSJ'!$G13)) -> 0.88888889 | G13: =IF(('Sentencias TSJ'!$E13+'Sentencias TSJ'!$F13+'Sentencias TSJ'!$G13)=0,"-",'Sentencias TSJ'!G13/('Sentencias TSJ'!$E13+'Sentencias TSJ'!$F13+'Sentencias TSJ'!$G13)) -> 0.11111111 | H13: =IF(('Sentencias TSJ'!$H13+'Sentencias TSJ'!$I13+'Sentencias TSJ'!$J13)=0,"-",'Sentencias TSJ'!H13/('Sentencias TSJ'!$H13+'Sentencias TSJ'!$I13+'Sentencias TSJ'!$J13)) -> 0.3 | I13: =IF(('Sentencias TSJ'!$H13+'Sentencias TSJ'!$I13+'Sentencias TSJ'!$J13)=0,"-",'Sentencias TSJ'!I13/('Sentencias TSJ'!$H13+'Sentencias TSJ'!$I13+'Sentencias TSJ'!$J13)) -> 0.6 | J13: =IF(('Sentencias TSJ'!$H13+'Sentencias TSJ'!$I13+'Sentencias TSJ'!$J13)=0,"-",'Sentencias TSJ'!J13/('Sentencias TSJ'!$H13+'Sentencias TSJ'!$I13+'Sentencias TSJ'!$J13)) -> 0.1 | K13: =IF(('Sentencias TSJ'!$K13+'Sentencias TSJ'!$L13+'Sentencias TSJ'!$M13)=0,"-",'Sentencias TSJ'!K13/('Sentencias TSJ'!$K13+'Sentencias TSJ'!$L13+'Sentencias TSJ'!$M13)) -> 0.7027027 | L13: =IF(('Sentencias TSJ'!$K13+'Sentencias TSJ'!$L13+'Sentencias TSJ'!$M13)=0,"-",'Sentencias TSJ'!L13/('Sentencias TSJ'!$K13+'Sentencias TSJ'!$L13+'Sentencias TSJ'!$M13)) -> 0.22972973 | M13: =IF(('Sentencias TSJ'!$K13+'Sentencias TSJ'!$L13+'Sentencias TSJ'!$M13)=0,"-",'Sentencias TSJ'!M13/('Sentencias TSJ'!$K13+'Sentencias TSJ'!$L13+'Sentencias TSJ'!$M13)) -> 0.067567568
A14: Castilla y León | B14: =IF(('Sentencias TSJ'!$B14+'Sentencias TSJ'!$C14+'Sentencias TSJ'!$D14)=0,"-",'Sentencias TSJ'!B14/('Sentencias TSJ'!$B14+'Sentencias TSJ'!$C14+'Sentencias TSJ'!$D14)) -> 0.79411765 | C14: =IF(('Sentencias TSJ'!$B14+'Sentencias TSJ'!$C14+'Sentencias TSJ'!$D14)=0,"-",'Sentencias TSJ'!C14/('Sentencias TSJ'!$B14+'Sentencias TSJ'!$C14+'Sentencias TSJ'!$D14)) -> 0.12745098 | D14: =IF(('Sentencias TSJ'!$B14+'Sentencias TSJ'!$C14+'Sentencias TSJ'!$D14)=0,"-",'Sentencias TSJ'!D14/('Sentencias TSJ'!$B14+'Sentencias TSJ'!$C14+'Sentencias TSJ'!$D14)) -> 0.078431373 | E14: =IF(('Sentencias TSJ'!$E14+'Sentencias TSJ'!$F14+'Sentencias TSJ'!$G14)=0,"-",'Sentencias TSJ'!E14/('Sentencias TSJ'!$E14+'Sentencias TSJ'!$F14+'Sentencias TSJ'!$G14)) -> 1 | F14: =IF(('Sentencias TSJ'!$E14+'Sentencias TSJ'!$F14+'Sentencias TSJ'!$G14)=0,"-",'Sentencias TSJ'!F14/('Sentencias TSJ'!$E14+'Sentencias TSJ'!$F14+'Sentencias TSJ'!$G14)) -> 0 | G14: =IF(('Sentencias TSJ'!$E14+'Sentencias TSJ'!$F14+'Sentencias TSJ'!$G14)=0,"-",'Sentencias TSJ'!G14/('Sentencias TSJ'!$E14+'Sentencias TSJ'!$F14+'Sentencias TSJ'!$G14)) -> 0 | H14: =IF(('Sentencias TSJ'!$H14+'Sentencias TSJ'!$I14+'Sentencias TSJ'!$J14)=0,"-",'Sentencias TSJ'!H14/('Sentencias TSJ'!$H14+'Sentencias TSJ'!$I14+'Sentencias TSJ'!$J14)) -> 0.72727273 | I14: =IF(('Sentencias TSJ'!$H14+'Sentencias TSJ'!$I14+'Sentencias TSJ'!$J14)=0,"-",'Sentencias TSJ'!I14/('Sentencias TSJ'!$H14+'Sentencias TSJ'!$I14+'Sentencias TSJ'!$J14)) -> 0 | J14: =IF(('Sentencias TSJ'!$H14+'Sentencias TSJ'!$I14+'Sentencias TSJ'!$J14)=0,"-",'Sentencias TSJ'!J14/('Sentencias TSJ'!$H14+'Sentencias TSJ'!$I14+'Sentencias TSJ'!$J14)) -> 0.27272727 | K14: =IF(('Sentencias TSJ'!$K14+'Sentencias TSJ'!$L14+'Sentencias TSJ'!$M14)=0,"-",'Sentencias TSJ'!K14/('Sentencias TSJ'!$K14+'Sentencias TSJ'!$L14+'Sentencias TSJ'!$M14)) -> 0.79487179 | L14: =IF(('Sentencias TSJ'!$K14+'Sentencias TSJ'!$L14+'Sentencias TSJ'!$M14)=0,"-",'Sentencias TSJ'!L14/('Sentencias TSJ'!$K14+'Sentencias TSJ'!$L14+'Sentencias TSJ'!$M14)) -> 0.11111111 | M14: =IF(('Sentencias TSJ'!$K14+'Sentencias TSJ'!$L14+'Sentencias TSJ'!$M14)=0,"-",'Sentencias TSJ'!M14/('Sentencias TSJ'!$K14+'Sentencias TSJ'!$L14+'Sentencias TSJ'!$M14)) -> 0.094017094
A15: Castilla-La Mancha | B15: =IF(('Sentencias TSJ'!$B15+'Sentencias TSJ'!$C15+'Sentencias TSJ'!$D15)=0,"-",'Sentencias TSJ'!B15/('Sentencias TSJ'!$B15+'Sentencias TSJ'!$C15+'Sentencias TSJ'!$D15)) -> 0.88888889 | C15: =IF(('Sentencias TSJ'!$B15+'Sentencias TSJ'!$C15+'Sentencias TSJ'!$D15)=0,"-",'Sentencias TSJ'!C15/('Sentencias TSJ'!$B15+'Sentencias TSJ'!$C15+'Sentencias TSJ'!$D15)) -> 0.037037037 | D15: =IF(('Sentencias TSJ'!$B15+'Sentencias TSJ'!$C15+'Sentencias TSJ'!$D15)=0,"-",'Sentencias TSJ'!D15/('Sentencias TSJ'!$B15+'Sentencias TSJ'!$C15+'Sentencias TSJ'!$D15)) -> 0.074074074 | E15: =IF(('Sentencias TSJ'!$E15+'Sentencias TSJ'!$F15+'Sentencias TSJ'!$G15)=0,"-",'Sentencias TSJ'!E15/('Sentencias TSJ'!$E15+'Sentencias TSJ'!$F15+'Sentencias TSJ'!$G15)) -> 0 | F15: =IF(('Sentencias TSJ'!$E15+'Sentencias TSJ'!$F15+'Sentencias TSJ'!$G15)=0,"-",'Sentencias TSJ'!F15/('Sentencias TSJ'!$E15+'Sentencias TSJ'!$F15+'Sentencias TSJ'!$G15)) -> 0 | G15: =IF(('Sentencias TSJ'!$E15+'Sentencias TSJ'!$F15+'Sentencias TSJ'!$G15)=0,"-",'Sentencias TSJ'!G15/('Sentencias TSJ'!$E15+'Sentencias TSJ'!$F15+'Sentencias TSJ'!$G15)) -> 1 | H15: =IF(('Sentencias TSJ'!$H15+'Sentencias TSJ'!$I15+'Sentencias TSJ'!$J15)=0,"-",'Sentencias TSJ'!H15/('Sentencias TSJ'!$H15+'Sentencias TSJ'!$I15+'Sentencias TSJ'!$J15)) -> 0.875 | I15: =IF(('Sentencias TSJ'!$H15+'Sentencias TSJ'!$I15+'Sentencias TSJ'!$J15)=0,"-",'Sentencias TSJ'!I15/('Sentencias TSJ'!$H15+'Sentencias TSJ'!$I15+'Sentencias TSJ'!$J15)) -> 0.125 | J15: =IF(('Sentencias TSJ'!$H15+'Sentencias TSJ'!$I15+'Sentencias TSJ'!$J15)=0,"-",'Sentencias TSJ'!J15/('Sentencias TSJ'!$H15+'Sentencias TSJ'!$I15+'Sentencias TSJ'!$J15)) -> 0 | K15: =IF(('Sentencias TSJ'!$K15+'Sentencias TSJ'!$L15+'Sentencias TSJ'!$M15)=0,"-",'Sentencias TSJ'!K15/('Sentencias TSJ'!$K15+'Sentencias TSJ'!$L15+'Sentencias TSJ'!$M15)) -> 0.87777778 | L15: =IF(('Sentencias TSJ'!$K15+'Sentencias TSJ'!$L15+'Sentencias TSJ'!$M15)=0,"-",'Sentencias TSJ'!L15/('Sentencias TSJ'!$K15+'Sentencias TSJ'!$L15+'Sentencias TSJ'!$M15)) -> 0.044444444 | M15: =IF(('Sentencias TSJ'!$K15+'Sentencias TSJ'!$L15+'Sentencias TSJ'!$M15)=0,"-",'Sentencias TSJ'!M15/('Sentencias TSJ'!$K15+'Sentencias TSJ'!$L15+'Sentencias TSJ'!$M15)) -> 0.077777778
A16: Cataluña | B16: =IF(('Sentencias TSJ'!$B16+'Sentencias TSJ'!$C16+'Sentencias TSJ'!$D16)=0,"-",'Sentencias TSJ'!B16/('Sentencias TSJ'!$B16+'Sentencias TSJ'!$C16+'Sentencias TSJ'!$D16)) -> 0.87419355 | C16: =IF(('Sentencias TSJ'!$B16+'Sentencias TSJ'!$C16+'Sentencias TSJ'!$D16)=0,"-",'Sentencias TSJ'!C16/('Sentencias TSJ'!$B16+'Sentencias TSJ'!$C16+'Sentencias TSJ'!$D16)) -> 0.079032258 | D16: =IF(('Sentencias TSJ'!$B16+'Sentencias TSJ'!$C16+'Sentencias TSJ'!$D16)=0,"-",'Sentencias TSJ'!D16/('Sentencias TSJ'!$B16+'Sentencias TSJ'!$C16+'Sentencias TSJ'!$D16)) -> 0.046774194 | E16: =IF(('Sentencias TSJ'!$E16+'Sentencias TSJ'!$F16+'Sentencias TSJ'!$G16)=0,"-",'Sentencias TSJ'!E16/('Sentencias TSJ'!$E16+'Sentencias TSJ'!$F16+'Sentencias TSJ'!$G16)) -> 0.875 | F16: =IF(('Sentencias TSJ'!$E16+'Sentencias TSJ'!$F16+'Sentencias TSJ'!$G16)=0,"-",'Sentencias TSJ'!F16/('Sentencias TSJ'!$E16+'Sentencias TSJ'!$F16+'Sentencias TSJ'!$G16)) -> 0.0875 | G16: =IF(('Sentencias TSJ'!$E16+'Sentencias TSJ'!$F16+'Sentencias TSJ'!$G16)=0,"-",'Sentencias TSJ'!G16/('Sentencias TSJ'!$E16+'Sentencias TSJ'!$F16+'Sentencias TSJ'!$G16)) -> 0.0375 | H16: =IF(('Sentencias TSJ'!$H16+'Sentencias TSJ'!$I16+'Sentencias TSJ'!$J16)=0,"-",'Sentencias TSJ'!H16/('Sentencias TSJ'!$H16+'Sentencias TSJ'!$I16+'Sentencias TSJ'!$J16)) -> 0.8625 | I16: =IF(('Sentencias TSJ'!$H16+'Sentencias TSJ'!$I16+'Sentencias TSJ'!$J16)=0,"-",'Sentencias TSJ'!I16/('Sentencias TSJ'!$H16+'Sentencias TSJ'!$I16+'Sentencias TSJ'!$J16)) -> 0.075 | J16: =IF(('Sentencias TSJ'!$H16+'Sentencias TSJ'!$I16+'Sentencias TSJ'!$J16)=0,"-",'Sentencias TSJ'!J16/('Sentencias TSJ'!$H16+'Sentencias TSJ'!$I16+'Sentencias TSJ'!$J16)) -> 0.0625 | K16: =IF(('Sentencias TSJ'!$K16+'Sentencias TSJ'!$L16+'Sentencias TSJ'!$M16)=0,"-",'Sentencias TSJ'!K16/('Sentencias TSJ'!$K16+'Sentencias TSJ'!$L16+'Sentencias TSJ'!$M16)) -> 0.8712766 | L16: =IF(('Sentencias TSJ'!$K16+'Sentencias TSJ'!$L16+'Sentencias TSJ'!$M16)=0,"-",'Sentencias TSJ'!L16/('Sentencias TSJ'!$K16+'Sentencias TSJ'!$L16+'Sentencias TSJ'!$M16)) -> 0.078723404 | M16: =IF(('Sentencias TSJ'!$K16+'Sentencias TSJ'!$L16+'Sentencias TSJ'!$M16)=0,"-",'Sentencias TSJ'!M16/('Sentencias TSJ'!$K16+'Sentencias TSJ'!$L16+'Sentencias TSJ'!$M16)) -> 0.05
A17: C. Valenciana | B17: =IF(('Sentencias TSJ'!$B17+'Sentencias TSJ'!$C17+'Sentencias TSJ'!$D17)=0,"-",'Sentencias TSJ'!B17/('Sentencias TSJ'!$B17+'Sentencias TSJ'!$C17+'Sentencias TSJ'!$D17)) -> 0.86666667 | C17: =IF(('Sentencias TSJ'!$B17+'Sentencias TSJ'!$C17+'Sentencias TSJ'!$D17)=0,"-",'Sentencias TSJ'!C17/('Sentencias TSJ'!$B17+'Sentencias TSJ'!$C17+'Sentencias TSJ'!$D17)) -> 0.084057971 | D17: =IF(('Sentencias TSJ'!$B17+'Sentencias TSJ'!$C17+'Sentencias TSJ'!$D17)=0,"-",'Sentencias TSJ'!D17/('Sentencias TSJ'!$B17+'Sentencias TSJ'!$C17+'Sentencias TSJ'!$D17)) -> 0.049275362 | E17: =IF(('Sentencias TSJ'!$E17+'Sentencias TSJ'!$F17+'Sentencias TSJ'!$G17)=0,"-",'Sentencias TSJ'!E17/('Sentencias TSJ'!$E17+'Sentencias TSJ'!$F17+'Sentencias TSJ'!$G17)) -> 0.73333333 | F17: =IF(('Sentencias TSJ'!$E17+'Sentencias TSJ'!$F17+'Sentencias TSJ'!$G17)=0,"-",'Sentencias TSJ'!F17/('Sentencias TSJ'!$E17+'Sentencias TSJ'!$F17+'Sentencias TSJ'!$G17)) -> 0.16666667 | G17: =IF(('Sentencias TSJ'!$E17+'Sentencias TSJ'!$F17+'Sentencias TSJ'!$G17)=0,"-",'Sentencias TSJ'!G17/('Sentencias TSJ'!$E17+'Sentencias TSJ'!$F17+'Sentencias TSJ'!$G17)) -> 0.1 | H17: =IF(('Sentencias TSJ'!$H17+'Sentencias TSJ'!$I17+'Sentencias TSJ'!$J17)=0,"-",'Sentencias TSJ'!H17/('Sentencias TSJ'!$H17+'Sentencias TSJ'!$I17+'Sentencias TSJ'!$J17)) -> 0.83018868 | I17: =IF(('Sentencias TSJ'!$H17+'Sentencias TSJ'!$I17+'Sentencias TSJ'!$J17)=0,"-",'Sentencias TSJ'!I17/('Sentencias TSJ'!$H17+'Sentencias TSJ'!$I17+'Sentencias TSJ'!$J17)) -> 0.037735849 | J17: =IF(('Sentencias TSJ'!$H17+'Sentencias TSJ'!$I17+'Sentencias TSJ'!$J17)=0,"-",'Sentencias TSJ'!J17/('Sentencias TSJ'!$H17+'Sentencias TSJ'!$I17+'Sentencias TSJ'!$J17)) -> 0.13207547 | K17: =IF(('Sentencias TSJ'!$K17+'Sentencias TSJ'!$L17+'Sentencias TSJ'!$M17)=0,"-",'Sentencias TSJ'!K17/('Sentencias TSJ'!$K17+'Sentencias TSJ'!$L17+'Sentencias TSJ'!$M17)) -> 0.85280374 | L17: =IF(('Sentencias TSJ'!$K17+'Sentencias TSJ'!$L17+'Sentencias TSJ'!$M17)=0,"-",'Sentencias TSJ'!L17/('Sentencias TSJ'!$K17+'Sentencias TSJ'!$L17+'Sentencias TSJ'!$M17)) -> 0.08411215 | M17: =IF(('Sentencias TSJ'!$K17+'Sentencias TSJ'!$L17+'Sentencias TSJ'!$M17)=0,"-",'Sentencias TSJ'!M17/('Sentencias TSJ'!$K17+'Sentencias TSJ'!$L17+'Sentencias TSJ'!$M17)) -> 0.063084112
A18: Extremadura | B18: =IF(('Sentencias TSJ'!$B18+'Sentencias TSJ'!$C18+'Sentencias TSJ'!$D18)=0,"-",'Sentencias TSJ'!B18/('Sentencias TSJ'!$B18+'Sentencias TSJ'!$C18+'Sentencias TSJ'!$D18)) -> 0.85714286 | C18: =IF(('Sentencias TSJ'!$B18+'Sentencias TSJ'!$C18+'Sentencias TSJ'!$D18)=0,"-",'Sentencias TSJ'!C18/('Sentencias TSJ'!$B18+'Sentencias TSJ'!$C18+'Sentencias TSJ'!$D18)) -> 0.14285714 | D18: =IF(('Sentencias TSJ'!$B18+'Sentencias TSJ'!$C18+'Sentencias TSJ'!$D18)=0,"-",'Sentencias TSJ'!D18/('Sentencias TSJ'!$B18+'Sentencias TSJ'!$C18+'Sentencias TSJ'!$D18)) -> 0 | E18: =IF(('Sentencias TSJ'!$E18+'Sentencias TSJ'!$F18+'Sentencias TSJ'!$G18)=0,"-",'Sentencias TSJ'!E18/('Sentencias TSJ'!$E18+'Sentencias TSJ'!$F18+'Sentencias TSJ'!$G18)) -> - | F18: =IF(('Sentencias TSJ'!$E18+'Sentencias TSJ'!$F18+'Sentencias TSJ'!$G18)=0,"-",'Sentencias TSJ'!F18/('Sentencias TSJ'!$E18+'Sentencias TSJ'!$F18+'Sentencias TSJ'!$G18)) -> - | G18: =IF(('Sentencias TSJ'!$E18+'Sentencias TSJ'!$F18+'Sentencias TSJ'!$G18)=0,"-",'Sentencias TSJ'!G18/('Sentencias TSJ'!$E18+'Sentencias TSJ'!$F18+'Sentencias TSJ'!$G18)) -> - | H18: =IF(('Sentencias TSJ'!$H18+'Sentencias TSJ'!$I18+'Sentencias TSJ'!$J18)=0,"-",'Sentencias TSJ'!H18/('Sentencias TSJ'!$H18+'Sentencias TSJ'!$I18+'Sentencias TSJ'!$J18)) -> 0 | I18: =IF(('Sentencias TSJ'!$H18+'Sentencias TSJ'!$I18+'Sentencias TSJ'!$J18)=0,"-",'Sentencias TSJ'!I18/('Sentencias TSJ'!$H18+'Sentencias TSJ'!$I18+'Sentencias TSJ'!$J18)) -> 0 | J18: =IF(('Sentencias TSJ'!$H18+'Sentencias TSJ'!$I18+'Sentencias TSJ'!$J18)=0,"-",'Sentencias TSJ'!J18/('Sentencias TSJ'!$H18+'Sentencias TSJ'!$I18+'Sentencias TSJ'!$J18)) -> 1 | K18: =IF(('Sentencias TSJ'!$K18+'Sentencias TSJ'!$L18+'Sentencias TSJ'!$M18)=0,"-",'Sentencias TSJ'!K18/('Sentencias TSJ'!$K18+'Sentencias TSJ'!$L18+'Sentencias TSJ'!$M18)) -> 0.81818182 | L18: =IF(('Sentencias TSJ'!$K18+'Sentencias TSJ'!$L18+'Sentencias TSJ'!$M18)=0,"-",'Sentencias TSJ'!L18/('Sentencias TSJ'!$K18+'Sentencias TSJ'!$L18+'Sentencias TSJ'!$M18)) -> 0.13636364 | M18: =IF(('Sentencias TSJ'!$K18+'Sentencias TSJ'!$L18+'Sentencias TSJ'!$M18)=0,"-",'Sentencias TSJ'!M18/('Sentencias TSJ'!$K18+'Sentencias TSJ'!$L18+'Sentencias TSJ'!$M18)) -> 0.045454545
A19: Galicia | B19: =IF(('Sentencias TSJ'!$B19+'Sentencias TSJ'!$C19+'Sentencias TSJ'!$D19)=0,"-",'Sentencias TSJ'!B19/('Sentencias TSJ'!$B19+'Sentencias TSJ'!$C19+'Sentencias TSJ'!$D19)) -> 0.97560976 | C19: =IF(('Sentencias TSJ'!$B19+'Sentencias TSJ'!$C19+'Sentencias TSJ'!$D19)=0,"-",'Sentencias TSJ'!C19/('Sentencias TSJ'!$B19+'Sentencias TSJ'!$C19+'Sentencias TSJ'!$D19)) -> 0.012195122 | D19: =IF(('Sentencias TSJ'!$B19+'Sentencias TSJ'!$C19+'Sentencias TSJ'!$D19)=0,"-",'Sentencias TSJ'!D19/('Sentencias TSJ'!$B19+'Sentencias TSJ'!$C19+'Sentencias TSJ'!$D19)) -> 0.012195122 | E19: =IF(('Sentencias TSJ'!$E19+'Sentencias TSJ'!$F19+'Sentencias TSJ'!$G19)=0,"-",'Sentencias TSJ'!E19/('Sentencias TSJ'!$E19+'Sentencias TSJ'!$F19+'Sentencias TSJ'!$G19)) -> 0.75 | F19: =IF(('Sentencias TSJ'!$E19+'Sentencias TSJ'!$F19+'Sentencias TSJ'!$G19)=0,"-",'Sentencias TSJ'!F19/('Sentencias TSJ'!$E19+'Sentencias TSJ'!$F19+'Sentencias TSJ'!$G19)) -> 0.25 | G19: =IF(('Sentencias TSJ'!$E19+'Sentencias TSJ'!$F19+'Sentencias TSJ'!$G19)=0,"-",'Sentencias TSJ'!G19/('Sentencias TSJ'!$E19+'Sentencias TSJ'!$F19+'Sentencias TSJ'!$G19)) -> 0 | H19: =IF(('Sentencias TSJ'!$H19+'Sentencias TSJ'!$I19+'Sentencias TSJ'!$J19)=0,"-",'Sentencias TSJ'!H19/('Sentencias TSJ'!$H19+'Sentencias TSJ'!$I19+'Sentencias TSJ'!$J19)) -> 1 | I19: =IF(('Sentencias TSJ'!$H19+'Sentencias TSJ'!$I19+'Sentencias TSJ'!$J19)=0,"-",'Sentencias TSJ'!I19/('Sentencias TSJ'!$H19+'Sentencias TSJ'!$I19+'Sentencias TSJ'!$J19)) -> 0 | J19: =IF(('Sentencias TSJ'!$H19+'Sentencias TSJ'!$I19+'Sentencias TSJ'!$J19)=0,"-",'Sentencias TSJ'!J19/('Sentencias TSJ'!$H19+'Sentencias TSJ'!$I19+'Sentencias TSJ'!$J19)) -> 0 | K19: =IF(('Sentencias TSJ'!$K19+'Sentencias TSJ'!$L19+'Sentencias TSJ'!$M19)=0,"-",'Sentencias TSJ'!K19/('Sentencias TSJ'!$K19+'Sentencias TSJ'!$L19+'Sentencias TSJ'!$M19)) -> 0.96774194 | L19: =IF(('Sentencias TSJ'!$K19+'Sentencias TSJ'!$L19+'Sentencias TSJ'!$M19)=0,"-",'Sentencias TSJ'!L19/('Sentencias TSJ'!$K19+'Sentencias TSJ'!$L19+'Sentencias TSJ'!$M19)) -> 0.021505376 | M19: =IF(('Sentencias TSJ'!$K19+'Sentencias TSJ'!$L19+'Sentencias TSJ'!$M19)=0,"-",'Sentencias TSJ'!M19/('Sentencias TSJ'!$K19+'Sentencias TSJ'!$L19+'Sentencias TSJ'!$M19)) -> 0.010752688
... A25: TOTAL | B25: =IF(('Sentencias TSJ'!$B25+'Sentencias TSJ'!$C25+'Sentencias TSJ'!$D25)=0,"-",'Sentencias TSJ'!B25/('Sentencias TSJ'!$B25+'Sentencias TSJ'!$C25+'Sentencias TSJ'!$D25)) -> 0.88038278 | C25: =IF(('Sentencias TSJ'!$B25+'Sentencias TSJ'!$C25+'Sentencias TSJ'!$D25)=0,"-",'Sentencias TSJ'!C25/('Sentencias TSJ'!$B25+'Sentencias TSJ'!$C25+'Sentencias TSJ'!$D25)) -> 0.066985646 | D25: =IF(('Sentencias TSJ'!$B25+'Sentencias TSJ'!$C25+'Sentencias TSJ'!$D25)=0,"-",'Sentencias TSJ'!D25/('Sentencias TSJ'!$B25+'Sentencias TSJ'!$C25+'Sentencias TSJ'!$D25)) -> 0.052631579 | E25: =IF(('Sentencias TSJ'!$E25+'Sentencias TSJ'!$F25+'Sentencias TSJ'!$G25)=0,"-",'Sentencias TSJ'!E25/('Sentencias TSJ'!$E25+'Sentencias TSJ'!$F25+'Sentencias TSJ'!$G25)) -> 0.75769231 | F25: =IF(('Sentencias TSJ'!$E25+'Sentencias TSJ'!$F25+'Sentencias TSJ'!$G25)=0,"-",'Sentencias TSJ'!F25/('Sentencias TSJ'!$E25+'Sentencias TSJ'!$F25+'Sentencias TSJ'!$G25)) -> 0.15384615 | G25: =IF(('Sentencias TSJ'!$E25+'Sentencias TSJ'!$F25+'Sentencias TSJ'!$G25)=0,"-",'Sentencias TSJ'!G25/('Sentencias TSJ'!$E25+'Sentencias TSJ'!$F25+'Sentencias TSJ'!$G25)) -> 0.088461538 | H25: =IF(('Sentencias TSJ'!$H25+'Sentencias TSJ'!$I25+'Sentencias TSJ'!$J25)=0,"-",'Sentencias TSJ'!H25/('Sentencias TSJ'!$H25+'Sentencias TSJ'!$I25+'Sentencias TSJ'!$J25)) -> 0.84267631 | I25: =IF(('Sentencias TSJ'!$H25+'Sentencias TSJ'!$I25+'Sentencias TSJ'!$J25)=0,"-",'Sentencias TSJ'!I25/('Sentencias TSJ'!$H25+'Sentencias TSJ'!$I25+'Sentencias TSJ'!$J25)) -> 0.059674503 | J25: =IF(('Sentencias TSJ'!$H25+'Sentencias TSJ'!$I25+'Sentencias TSJ'!$J25)=0,"-",'Sentencias TSJ'!J25/('Sentencias TSJ'!$H25+'Sentencias TSJ'!$I25+'Sentencias TSJ'!$J25)) -> 0.097649186 | K25: =IF(('Sentencias TSJ'!$K25+'Sentencias TSJ'!$L25+'Sentencias TSJ'!$M25)=0,"-",'Sentencias TSJ'!K25/('Sentencias TSJ'!$K25+'Sentencias TSJ'!$L25+'Sentencias TSJ'!$M25)) -> 0.86543909 | L25: =IF(('Sentencias TSJ'!$K25+'Sentencias TSJ'!$L25+'Sentencias TSJ'!$M25)=0,"-",'Sentencias TSJ'!L25/('Sentencias TSJ'!$K25+'Sentencias TSJ'!$L25+'Sentencias TSJ'!$M25)) -> 0.07223796 | M25: =IF(('Sentencias TSJ'!$K25+'Sentencias TSJ'!$L25+'Sentencias TSJ'!$M25)=0,"-",'Sentencias TSJ'!M25/('Sentencias TSJ'!$K25+'Sentencias TSJ'!$L25+'Sentencias TSJ'!$M25)) -> 0.062322946
A28: Uso distinto a vivienda | B28: Acción principal ejercitada en la demanda
B29: Falta de pago de la renta o de cantidades que se asimilan | E29: Denegacion de prorroga | H29: Otros | K29: Total
B30: Estimando la demanda totalmente | C30: Estimando la demanda parcialmente | D30: Desestimando la demanda | E30: Estimando la demanda totalmente | F30: Estimando la demanda parcialmente | G30: Desestimando la demanda | H30: Estimando la demanda totalmente | I30: Estimando la demanda parcialmente | J30: Desestimando la demanda | K30: Estimando la demanda totalmente | L30: Estimando la demanda parcialmente | M30: Desestimando la demanda
A31: Andalucía | B31: =IF(('Sentencias TSJ'!$B32+'Sentencias TSJ'!$C32+'Sentencias TSJ'!$D32)=0,"-",'Sentencias TSJ'!B32/('Sentencias TSJ'!$B32+'Sentencias TSJ'!$C32+'Sentencias TSJ'!$D32)) -> 0.77777778 | C31: =IF(('Sentencias TSJ'!$B32+'Sentencias TSJ'!$C32+'Sentencias TSJ'!$D32)=0,"-",'Sentencias TSJ'!C32/('Sentencias TSJ'!$B32+'Sentencias TSJ'!$C32+'Sentencias TSJ'!$D32)) -> 0.11111111 | D31: =IF(('Sentencias TSJ'!$B32+'Sentencias TSJ'!$C32+'Sentencias TSJ'!$D32)=0,"-",'Sentencias TSJ'!D32/('Sentencias TSJ'!$B32+'Sentencias TSJ'!$C32+'Sentencias TSJ'!$D32)) -> 0.11111111 | E31: =IF(('Sentencias TSJ'!$E32+'Sentencias TSJ'!$F32+'Sentencias TSJ'!$G32)=0,"-",'Sentencias TSJ'!E32/('Sentencias TSJ'!$E32+'Sentencias TSJ'!$F32+'Sentencias TSJ'!$G32)) -> 0 | F31: =IF(('Sentencias TSJ'!$E32+'Sentencias TSJ'!$F32+'Sentencias TSJ'!$G32)=0,"-",'Sentencias TSJ'!F32/('Sentencias TSJ'!$E32+'Sentencias TSJ'!$F32+'Sentencias TSJ'!$G32)) -> 1 | G31: =IF(('Sentencias TSJ'!$E32+'Sentencias TSJ'!$F32+'Sentencias TSJ'!$G32)=0,"-",'Sentencias TSJ'!G32/('Sentencias TSJ'!$E32+'Sentencias TSJ'!$F32+'Sentencias TSJ'!$G32)) -> 0 | H31: =IF(('Sentencias TSJ'!$H32+'Sentencias TSJ'!$I32+'Sentencias TSJ'!$J32)=0,"-",'Sentencias TSJ'!H32/('Sentencias TSJ'!$H32+'Sentencias TSJ'!$I32+'Sentencias TSJ'!$J32)) -> 0 | I31: =IF(('Sentencias TSJ'!$H32+'Sentencias TSJ'!$I32+'Sentencias TSJ'!$J32)=0,"-",'Sentencias TSJ'!I32/('Sentencias TSJ'!$H32+'Sentencias TSJ'!$I32+'Sentencias TSJ'!$J32)) -> 0 | J31: =IF(('Sentencias TSJ'!$H32+'Sentencias TSJ'!$I32+'Sentencias TSJ'!$J32)=0,"-",'Sentencias TSJ'!J32/('Sentencias TSJ'!$H32+'Sentencias TSJ'!$I32+'Sentencias TSJ'!$J32)) -> 1 | K31: =IF(('Sentencias TSJ'!$K32+'Sentencias TSJ'!$L32+'Sentencias TSJ'!$M32)=0,"-",'Sentencias TSJ'!K32/('Sentencias TSJ'!$K32+'Sentencias TSJ'!$L32+'Sentencias TSJ'!$M32)) -> 0.63636364 | L31: =IF(('Sentencias TSJ'!$K32+'Sentencias TSJ'!$L32+'Sentencias TSJ'!$M32)=0,"-",'Sentencias TSJ'!L32/('Sentencias TSJ'!$K32+'Sentencias TSJ'!$L32+'Sentencias TSJ'!$M32)) -> 0.18181818 | M31: =IF(('Sentencias TSJ'!$K32+'Sentencias TSJ'!$L32+'Sentencias TSJ'!$M32)=0,"-",'Sentencias TSJ'!M32/('Sentencias TSJ'!$K32+'Sentencias TSJ'!$L32+'Sentencias TSJ'!$M32)) -> 0.18181818
A32: Aragón | B32: =IF(('Sentencias TSJ'!$B33+'Sentencias TSJ'!$C33+'Sentencias TSJ'!$D33)=0,"-",'Sentencias TSJ'!B33/('Sentencias TSJ'!$B33+'Sentencias TSJ'!$C33+'Sentencias TSJ'!$D33)) -> 0.33333333 | C32: =IF(('Sentencias TSJ'!$B33+'Sentencias TSJ'!$C33+'Sentencias TSJ'!$D33)=0,"-",'Sentencias TSJ'!C33/('Sentencias TSJ'!$B33+'Sentencias TSJ'!$C33+'Sentencias TSJ'!$D33)) -> 0.66666667 | D32: =IF(('Sentencias TSJ'!$B33+'Sentencias TSJ'!$C33+'Sentencias TSJ'!$D33)=0,"-",'Sentencias TSJ'!D33/('Sentencias TSJ'!$B33+'Sentencias TSJ'!$C33+'Sentencias TSJ'!$D33)) -> 0 | E32: =IF(('Sentencias TSJ'!$E33+'Sentencias TSJ'!$F33+'Sentencias TSJ'!$G33)=0,"-",'Sentencias TSJ'!E33/('Sentencias TSJ'!$E33+'Sentencias TSJ'!$F33+'Sentencias TSJ'!$G33)) -> 0 | F32: =IF(('Sentencias TSJ'!$E33+'Sentencias TSJ'!$F33+'Sentencias TSJ'!$G33)=0,"-",'Sentencias TSJ'!F33/('Sentencias TSJ'!$E33+'Sentencias TSJ'!$F33+'Sentencias TSJ'!$G33)) -> 1 | G32: =IF(('Sentencias TSJ'!$E33+'Sentencias TSJ'!$F33+'Sentencias TSJ'!$G33)=0,"-",'Sentencias TSJ'!G33/('Sentencias TSJ'!$E33+'Sentencias TSJ'!$F33+'Sentencias TSJ'!$G33)) -> 0 | H32: =IF(('Sentencias TSJ'!$H33+'Sentencias TSJ'!$I33+'Sentencias TSJ'!$J33)=0,"-",'Sentencias TSJ'!H33/('Sentencias TSJ'!$H33+'Sentencias TSJ'!$I33+'Sentencias TSJ'!$J33)) -> 0.33333333 | I32: =IF(('Sentencias TSJ'!$H33+'Sentencias TSJ'!$I33+'Sentencias TSJ'!$J33)=0,"-",'Sentencias TSJ'!I33/('Sentencias TSJ'!$H33+'Sentencias TSJ'!$I33+'Sentencias TSJ'!$J33)) -> 0.66666667 | J32: =IF(('Sentencias TSJ'!$H33+'Sentencias TSJ'!$I33+'Sentencias TSJ'!$J33)=0,"-",'Sentencias TSJ'!J33/('Sentencias TSJ'!$H33+'Sentencias TSJ'!$I33+'Sentencias TSJ'!$J33)) -> 0 | K32: =IF(('Sentencias TSJ'!$K33+'Sentencias TSJ'!$L33+'Sentencias TSJ'!$M33)=0,"-",'Sentencias TSJ'!K33/('Sentencias TSJ'!$K33+'Sentencias TSJ'!$L33+'Sentencias TSJ'!$M33)) -> 0.28571429 | L32: =IF(('Sentencias TSJ'!$K33+'Sentencias TSJ'!$L33+'Sentencias TSJ'!$M33)=0,"-",'Sentencias TSJ'!L33/('Sentencias TSJ'!$K33+'Sentencias TSJ'!$L33+'Sentencias TSJ'!$M33)) -> 0.71428571 | M32: =IF(('Sentencias TSJ'!$K33+'Sentencias TSJ'!$L33+'Sentencias TSJ'!$M33)=0,"-",'Sentencias TSJ'!M33/('Sentencias TSJ'!$K33+'Sentencias TSJ'!$L33+'Sentencias TSJ'!$M33)) -> 0
A33: Asturias | B33: =IF(('Sentencias TSJ'!$B34+'Sentencias TSJ'!$C34+'Sentencias TSJ'!$D34)=0,"-",'Sentencias TSJ'!B34/('Sentencias TSJ'!$B34+'Sentencias TSJ'!$C34+'Sentencias TSJ'!$D34)) -> 1 | C33: =IF(('Sentencias TSJ'!$B34+'Sentencias TSJ'!$C34+'Sentencias TSJ'!$D34)=0,"-",'Sentencias TSJ'!C34/('Sentencias TSJ'!$B34+'Sentencias TSJ'!$C34+'Sentencias TSJ'!$D34)) -> 0 | D33: =IF(('Sentencias TSJ'!$B34+'Sentencias TSJ'!$C34+'Sentencias TSJ'!$D34)=0,"-",'Sentencias TSJ'!D34/('Sentencias TSJ'!$B34+'Sentencias TSJ'!$C34+'Sentencias TSJ'!$D34)) -> 0 | E33: =IF(('Sentencias TSJ'!$E34+'Sentencias TSJ'!$F34+'Sentencias TSJ'!$G34)=0,"-",'Sentencias TSJ'!E34/('Sentencias TSJ'!$E34+'Sentencias TSJ'!$F34+'Sentencias TSJ'!$G34)) -> 1 | F33: =IF(('Sentencias TSJ'!$E34+'Sentencias TSJ'!$F34+'Sentencias TSJ'!$G34)=0,"-",'Sentencias TSJ'!F34/('Sentencias TSJ'!$E34+'Sentencias TSJ'!$F34+'Sentencias TSJ'!$G34)) -> 0 | G33: =IF(('Sentencias TSJ'!$E34+'Sentencias TSJ'!$F34+'Sentencias TSJ'!$G34)=0,"-",'Sentencias TSJ'!G34/('Sentencias TSJ'!$E34+'Sentencias TSJ'!$F34+'Sentencias TSJ'!$G34)) -> 0 | H33: =IF(('Sentencias TSJ'!$H34+'Sentencias TSJ'!$I34+'Sentencias TSJ'!$J34)=0,"-",'Sentencias TSJ'!H34/('Sentencias TSJ'!$H34+'Sentencias TSJ'!$I34+'Sentencias TSJ'!$J34)) -> 1 | I33: =IF(('Sentencias TSJ'!$H34+'Sentencias TSJ'!$I34+'Sentencias TSJ'!$J34)=0,"-",'Sentencias TSJ'!I34/('Sentencias TSJ'!$H34+'Sentencias TSJ'!$I34+'Sentencias TSJ'!$J34)) -> 0 | J33: =IF(('Sentencias TSJ'!$H34+'Sentencias TSJ'!$I34+'Sentencias TSJ'!$J34)=0,"-",'Sentencias TSJ'!J34/('Sentencias TSJ'!$H34+'Sentencias TSJ'!$I34+'Sentencias TSJ'!$J34)) -> 0 | K33: =IF(('Sentencias TSJ'!$K34+'Sentencias TSJ'!$L34+'Sentencias TSJ'!$M34)=0,"-",'Sentencias TSJ'!K34/('Sentencias TSJ'!$K34+'Sentencias TSJ'!$L34+'Sentencias TSJ'!$M34)) -> 1 | L33: =IF(('Sentencias TSJ'!$K34+'Sentencias TSJ'!$L34+'Sentencias TSJ'!$M34)=0,"-",'Sentencias TSJ'!L34/('Sentencias TSJ'!$K34+'Sentencias TSJ'!$L34+'Sentencias TSJ'!$M34)) -> 0 | M33: =IF(('Sentencias TSJ'!$K34+'Sentencias TSJ'!$L34+'Sentencias TSJ'!$M34)=0,"-",'Sentencias TSJ'!M34/('Sentencias TSJ'!$K34+'Sentencias TSJ'!$L34+'Sentencias TSJ'!$M34)) -> 0
A34: Illes Balears | B34: =IF(('Sentencias TSJ'!$B35+'Sentencias TSJ'!$C35+'Sentencias TSJ'!$D35)=0,"-",'Sentencias TSJ'!B35/('Sentencias TSJ'!$B35+'Sentencias TSJ'!$C35+'Sentencias TSJ'!$D35)) -> 0.42857143 | C34: =IF(('Sentencias TSJ'!$B35+'Sentencias TSJ'!$C35+'Sentencias TSJ'!$D35)=0,"-",'Sentencias TSJ'!C35/('Sentencias TSJ'!$B35+'Sentencias TSJ'!$C35+'Sentencias TSJ'!$D35)) -> 0.14285714 | D34: =IF(('Sentencias TSJ'!$B35+'Sentencias TSJ'!$C35+'Sentencias TSJ'!$D35)=0,"-",'Sentencias TSJ'!D35/('Sentencias TSJ'!$B35+'Sentencias TSJ'!$C35+'Sentencias TSJ'!$D35)) -> 0.42857143 | E34: =IF(('Sentencias TSJ'!$E35+'Sentencias TSJ'!$F35+'Sentencias TSJ'!$G35)=0,"-",'Sentencias TSJ'!E35/('Sentencias TSJ'!$E35+'Sentencias TSJ'!$F35+'Sentencias TSJ'!$G35)) -> - | F34: =IF(('Sentencias TSJ'!$E35+'Sentencias TSJ'!$F35+'Sentencias TSJ'!$G35)=0,"-",'Sentencias TSJ'!F35/('Sentencias TSJ'!$E35+'Sentencias TSJ'!$F35+'Sentencias TSJ'!$G35)) -> - | G34: =IF(('Sentencias TSJ'!$E35+'Sentencias TSJ'!$F35+'Sentencias TSJ'!$G35)=0,"-",'Sentencias TSJ'!G35/('Sentencias TSJ'!$E35+'Sentencias TSJ'!$F35+'Sentencias TSJ'!$G35)) -> - | H34: =IF(('Sentencias TSJ'!$H35+'Sentencias TSJ'!$I35+'Sentencias TSJ'!$J35)=0,"-",'Sentencias TSJ'!H35/('Sentencias TSJ'!$H35+'Sentencias TSJ'!$I35+'Sentencias TSJ'!$J35)) -> - | I34: =IF(('Sentencias TSJ'!$H35+'Sentencias TSJ'!$I35+'Sentencias TSJ'!$J35)=0,"-",'Sentencias TSJ'!I35/('Sentencias TSJ'!$H35+'Sentencias TSJ'!$I35+'Sentencias TSJ'!$J35)) -> - | J34: =IF(('Sentencias TSJ'!$H35+'Sentencias TSJ'!$I35+'Sentencias TSJ'!$J35)=0,"-",'Sentencias TSJ'!J35/('Sentencias TSJ'!$H35+'Sentencias TSJ'!$I35+'Sentencias TSJ'!$J35)) -> - | K34: =IF(('Sentencias TSJ'!$K35+'Sentencias TSJ'!$L35+'Sentencias TSJ'!$M35)=0,"-",'Sentencias TSJ'!K35/('Sentencias TSJ'!$K35+'Sentencias TSJ'!$L35+'Sentencias TSJ'!$M35)) -> 0.42857143 | L34: =IF(('Sentencias TSJ'!$K35+'Sentencias TSJ'!$L35+'Sentencias TSJ'!$M35)=0,"-",'Sentencias TSJ'!L35/('Sentencias TSJ'!$K35+'Sentencias TSJ'!$L35+'Sentencias TSJ'!$M35)) -> 0.14285714 | M34: =IF(('Sentencias TSJ'!$K35+'Sentencias TSJ'!$L35+'Sentencias TSJ'!$M35)=0,"-",'Sentencias TSJ'!M35/('Sentencias TSJ'!$K35+'Sentencias TSJ'!$L35+'Sentencias TSJ'!$M35)) -> 0.42857143
A35: Canarias | B35: =IF(('Sentencias TSJ'!$B36+'Sentencias TSJ'!$C36+'Sentencias TSJ'!$D36)=0,"-",'Sentencias TSJ'!B36/('Sentencias TSJ'!$B36+'Sentencias TSJ'!$C36+'Sentencias TSJ'!$D36)) -> 0.71428571 | C35: =IF(('Sentencias TSJ'!$B36+'Sentencias TSJ'!$C36+'Sentencias TSJ'!$D36)=0,"-",'Sentencias TSJ'!C36/('Sentencias TSJ'!$B36+'Sentencias TSJ'!$C36+'Sentencias TSJ'!$D36)) -> 0 | D35: =IF(('Sentencias TSJ'!$B36+'Sentencias TSJ'!$C36+'Sentencias TSJ'!$D36)=0,"-",'Sentencias TSJ'!D36/('Sentencias TSJ'!$B36+'Sentencias TSJ'!$C36+'Sentencias TSJ'!$D36)) -> 0.28571429 | E35: =IF(('Sentencias TSJ'!$E36+'Sentencias TSJ'!$F36+'Sentencias TSJ'!$G36)=0,"-",'Sentencias TSJ'!E36/('Sentencias TSJ'!$E36+'Sentencias TSJ'!$F36+'Sentencias TSJ'!$G36)) -> 0.5 | F35: =IF(('Sentencias TSJ'!$E36+'Sentencias TSJ'!$F36+'Sentencias TSJ'!$G36)=0,"-",'Sentencias TSJ'!F36/('Sentencias TSJ'!$E36+'Sentencias TSJ'!$F36+'Sentencias TSJ'!$G36)) -> 0.5 | G35: =IF(('Sentencias TSJ'!$E36+'Sentencias TSJ'!$F36+'Sentencias TSJ'!$G36)=0,"-",'Sentencias TSJ'!G36/('Sentencias TSJ'!$E36+'Sentencias TSJ'!$F36+'Sentencias TSJ'!$G36)) -> 0 | H35: =IF(('Sentencias TSJ'!$H36+'Sentencias TSJ'!$I36+'Sentencias TSJ'!$J36)=0,"-",'Sentencias TSJ'!H36/('Sentencias TSJ'!$H36+'Sentencias TSJ'!$I36+'Sentencias TSJ'!$J36)) -> 1 | I35: =IF(('Sentencias TSJ'!$H36+'Sentencias TSJ'!$I36+'Sentencias TSJ'!$J36)=0,"-",'Sentencias TSJ'!I36/('Sentencias TSJ'!$H36+'Sentencias TSJ'!$I36+'Sentencias TSJ'!$J36)) -> 0 | J35: =IF(('Sentencias TSJ'!$H36+'Sentencias TSJ'!$I36+'Sentencias TSJ'!$J36)=0,"-",'Sentencias TSJ'!J36/('Sentencias TSJ'!$H36+'Sentencias TSJ'!$I36+'Sentencias TSJ'!$J36)) -> 0 | K35: =IF(('Sentencias TSJ'!$K36+'Sentencias TSJ'!$L36+'Sentencias TSJ'!$M36)=0,"-",'Sentencias TSJ'!K36/('Sentencias TSJ'!$K36+'Sentencias TSJ'!$L36+'Sentencias TSJ'!$M36)) -> 0.7 | L35: =IF(('Sentencias TSJ'!$K36+'Sentencias TSJ'!$L36+'Sentencias TSJ'!$M36)=0,"-",'Sentencias TSJ'!L36/('Sentencias TSJ'!$K36+'Sentencias TSJ'!$L36+'Sentencias TSJ'!$M36)) -> 0.1 | M35: =IF(('Sentencias TSJ'!$K36+'Sentencias TSJ'!$L36+'Sentencias TSJ'!$M36)=0,"-",'Sentencias TSJ'!M36/('Sentencias TSJ'!$K36+'Sentencias TSJ'!$L36+'Sentencias TSJ'!$M36)) -> 0.2
A36: Cantabria | B36: =IF(('Sentencias TSJ'!$B37+'Sentencias TSJ'!$C37+'Sentencias TSJ'!$D37)=0,"-",'Sentencias TSJ'!B37/('Sentencias TSJ'!$B37+'Sentencias TSJ'!$C37+'Sentencias TSJ'!$D37)) -> 0.2 | C36: =IF(('Sentencias TSJ'!$B37+'Sentencias TSJ'!$C37+'Sentencias TSJ'!$D37)=0,"-",'Sentencias TSJ'!C37/('Sentencias TSJ'!$B37+'Sentencias TSJ'!$C37+'Sentencias TSJ'!$D37)) -> 0.8 | D36: =IF(('Sentencias TSJ'!$B37+'Sentencias TSJ'!$C37+'Sentencias TSJ'!$D37)=0,"-",'Sentencias TSJ'!D37/('Sentencias TSJ'!$B37+'Sentencias TSJ'!$C37+'Sentencias TSJ'!$D37)) -> 0 | E36: =IF(('Sentencias TSJ'!$E37+'Sentencias TSJ'!$F37+'Sentencias TSJ'!$G37)=0,"-",'Sentencias TSJ'!E37/('Sentencias TSJ'!$E37+'Sentencias TSJ'!$F37+'Sentencias TSJ'!$G37)) -> - | F36: =IF(('Sentencias TSJ'!$E37+'Sentencias TSJ'!$F37+'Sentencias TSJ'!$G37)=0,"-",'Sentencias TSJ'!F37/('Sentencias TSJ'!$E37+'Sentencias TSJ'!$F37+'Sentencias TSJ'!$G37)) -> - | G36: =IF(('Sentencias TSJ'!$E37+'Sentencias TSJ'!$F37+'Sentencias TSJ'!$G37)=0,"-",'Sentencias TSJ'!G37/('Sentencias TSJ'!$E37+'Sentencias TSJ'!$F37+'Sentencias TSJ'!$G37)) -> - | H36: =IF(('Sentencias TSJ'!$H37+'Sentencias TSJ'!$I37+'Sentencias TSJ'!$J37)=0,"-",'Sentencias TSJ'!H37/('Sentencias TSJ'!$H37+'Sentencias TSJ'!$I37+'Sentencias TSJ'!$J37)) -> 1 | I36: =IF(('Sentencias TSJ'!$H37+'Sentencias TSJ'!$I37+'Sentencias TSJ'!$J37)=0,"-",'Sentencias TSJ'!I37/('Sentencias TSJ'!$H37+'Sentencias TSJ'!$I37+'Sentencias TSJ'!$J37)) -> 0 | J36: =IF(('Sentencias TSJ'!$H37+'Sentencias TSJ'!$I37+'Sentencias TSJ'!$J37)=0,"-",'Sentencias TSJ'!J37/('Sentencias TSJ'!$H37+'Sentencias TSJ'!$I37+'Sentencias TSJ'!$J37)) -> 0 | K36: =IF(('Sentencias TSJ'!$K37+'Sentencias TSJ'!$L37+'Sentencias TSJ'!$M37)=0,"-",'Sentencias TSJ'!K37/('Sentencias TSJ'!$K37+'Sentencias TSJ'!$L37+'Sentencias TSJ'!$M37)) -> 0.33333333 | L36: =IF(('Sentencias TSJ'!$K37+'Sentencias TSJ'!$L37+'Sentencias TSJ'!$M37)=0,"-",'Sentencias TSJ'!L37/('Sentencias TSJ'!$K37+'Sentencias TSJ'!$L37+'Sentencias TSJ'!$M37)) -> 0.66666667 | M36: =IF(('Sentencias TSJ'!$K37+'Sentencias TSJ'!$L37+'Sentencias TSJ'!$M37)=0,"-",'Sentencias TSJ'!M37/('Sentencias TSJ'!$K37+'Sentencias TSJ'!$L37+'Sentencias TSJ'!$M37)) -> 0
A37: Castilla y León | B37: =IF(('Sentencias TSJ'!$B38+'Sentencias TSJ'!$C38+'Sentencias TSJ'!$D38)=0,"-",'Sentencias TSJ'!B38/('Sentencias TSJ'!$B38+'Sentencias TSJ'!$C38+'Sentencias TSJ'!$D38)) -> 0.75 | C37: =IF(('Sentencias TSJ'!$B38+'Sentencias TSJ'!$C38+'Sentencias TSJ'!$D38)=0,"-",'Sentencias TSJ'!C38/('Sentencias TSJ'!$B38+'Sentencias TSJ'!$C38+'Sentencias TSJ'!$D38)) -> 0 | D37: =IF(('Sentencias TSJ'!$B38+'Sentencias TSJ'!$C38+'Sentencias TSJ'!$D38)=0,"-",'Sentencias TSJ'!D38/('Sentencias TSJ'!$B38+'Sentencias TSJ'!$C38+'Sentencias TSJ'!$D38)) -> 0.25 | E37: =IF(('Sentencias TSJ'!$E38+'Sentencias TSJ'!$F38+'Sentencias TSJ'!$G38)=0,"-",'Sentencias TSJ'!E38/('Sentencias TSJ'!$E38+'Sentencias TSJ'!$F38+'Sentencias TSJ'!$G38)) -> 1 | F37: =IF(('Sentencias TSJ'!$E38+'Sentencias TSJ'!$F38+'Sentencias TSJ'!$G38)=0,"-",'Sentencias TSJ'!F38/('Sentencias TSJ'!$E38+'Sentencias TSJ'!$F38+'Sentencias TSJ'!$G38)) -> 0 | G37: =IF(('Sentencias TSJ'!$E38+'Sentencias TSJ'!$F38+'Sentencias TSJ'!$G38)=0,"-",'Sentencias TSJ'!G38/('Sentencias TSJ'!$E38+'Sentencias TSJ'!$F38+'Sentencias TSJ'!$G38)) -> 0 | H37: =IF(('Sentencias TSJ'!$H38+'Sentencias TSJ'!$I38+'Sentencias TSJ'!$J38)=0,"-",'Sentencias TSJ'!H38/('Sentencias TSJ'!$H38+'Sentencias TSJ'!$I38+'Sentencias TSJ'!$J38)) -> 0.75 | I37: =IF(('Sentencias TSJ'!$H38+'Sentencias TSJ'!$I38+'Sentencias TSJ'!$J38)=0,"-",'Sentencias TSJ'!I38/('Sentencias TSJ'!$H38+'Sentencias TSJ'!$I38+'Sentencias TSJ'!$J38)) -> 0.25 | J37: =IF(('Sentencias TSJ'!$H38+'Sentencias TSJ'!$I38+'Sentencias TSJ'!$J38)=0,"-",'Sentencias TSJ'!J38/('Sentencias TSJ'!$H38+'Sentencias TSJ'!$I38+'Sentencias TSJ'!$J38)) -> 0 | K37: =IF(('Sentencias TSJ'!$K38+'Sentencias TSJ'!$L38+'Sentencias TSJ'!$M38)=0,"-",'Sentencias TSJ'!K38/('Sentencias TSJ'!$K38+'Sentencias TSJ'!$L38+'Sentencias TSJ'!$M38)) -> 0.76923077 | L37: =IF(('Sentencias TSJ'!$K38+'Sentencias TSJ'!$L38+'Sentencias TSJ'!$M38)=0,"-",'Sentencias TSJ'!L38/('Sentencias TSJ'!$K38+'Sentencias TSJ'!$L38+'Sentencias TSJ'!$M38)) -> 0.076923077 | M37: =IF(('Sentencias TSJ'!$K38+'Sentencias TSJ'!$L38+'Sentencias TSJ'!$M38)=0,"-",'Sentencias TSJ'!M38/('Sentencias TSJ'!$K38+'Sentencias TSJ'!$L38+'Sentencias TSJ'!$M38)) -> 0.15384615
A38: Castilla-La Mancha | B38: =IF(('Sentencias TSJ'!$B39+'Sentencias TSJ'!$C39+'Sentencias TSJ'!$D39)=0,"-",'Sentencias TSJ'!B39/('Sentencias TSJ'!$B39+'Sentencias TSJ'!$C39+'Sentencias TSJ'!$D39)) -> 0.66666667 | C38: =IF(('Sentencias TSJ'!$B39+'Sentencias TSJ'!$C39+'Sentencias TSJ'!$D39)=0,"-",'Sentencias TSJ'!C39/('Sentencias TSJ'!$B39+'Sentencias TSJ'!$C39+'Sentencias TSJ'!$D39)) -> 0 | D38: =IF(('Sentencias TSJ'!$B39+'Sentencias TSJ'!$C39+'Sentencias TSJ'!$D39)=0,"-",'Sentencias TSJ'!D39/('Sentencias TSJ'!$B39+'Sentencias TSJ'!$C39+'Sentencias TSJ'!$D39)) -> 0.33333333 | E38: =IF(('Sentencias TSJ'!$E39+'Sentencias TSJ'!$F39+'Sentencias TSJ'!$G39)=0,"-",'Sentencias TSJ'!E39/('Sentencias TSJ'!$E39+'Sentencias TSJ'!$F39+'Sentencias TSJ'!$G39)) -> - | F38: =IF(('Sentencias TSJ'!$E39+'Sentencias TSJ'!$F39+'Sentencias TSJ'!$G39)=0,"-",'Sentencias TSJ'!F39/('Sentencias TSJ'!$E39+'Sentencias TSJ'!$F39+'Sentencias TSJ'!$G39)) -> - | G38: =IF(('Sentencias TSJ'!$E39+'Sentencias TSJ'!$F39+'Sentencias TSJ'!$G39)=0,"-",'Sentencias TSJ'!G39/('Sentencias TSJ'!$E39+'Sentencias TSJ'!$F39+'Sentencias TSJ'!$G39)) -> - | H38: =IF(('Sentencias TSJ'!$H39+'Sentencias TSJ'!$I39+'Sentencias TSJ'!$J39)=0,"-",'Sentencias TSJ'!H39/('Sentencias TSJ'!$H39+'Sentencias TSJ'!$I39+'Sentencias TSJ'!$J39)) -> 1 | I38: =IF(('Sentencias TSJ'!$H39+'Sentencias TSJ'!$I39+'Sentencias TSJ'!$J39)=0,"-",'Sentencias TSJ'!I39/('Sentencias TSJ'!$H39+'Sentencias TSJ'!$I39+'Sentencias TSJ'!$J39)) -> 0 | J38: =IF(('Sentencias TSJ'!$H39+'Sentencias TSJ'!$I39+'Sentencias TSJ'!$J39)=0,"-",'Sentencias TSJ'!J39/('Sentencias TSJ'!$H39+'Sentencias TSJ'!$I39+'Sentencias TSJ'!$J39)) -> 0 | K38: =IF(('Sentencias TSJ'!$K39+'Sentencias TSJ'!$L39+'Sentencias TSJ'!$M39)=0,"-",'Sentencias TSJ'!K39/('Sentencias TSJ'!$K39+'Sentencias TSJ'!$L39+'Sentencias TSJ'!$M39)) -> 0.75 | L38: =IF(('Sentencias TSJ'!$K39+'Sentencias TSJ'!$L39+'Sentencias TSJ'!$M39)=0,"-",'Sentencias TSJ'!L39/('Sentencias TSJ'!$K39+'Sentencias TSJ'!$L39+'Sentencias TSJ'!$M39)) -> 0 | M38: =IF(('Sentencias TSJ'!$K39+'Sentencias TSJ'!$L39+'Sentencias TSJ'!$M39)=0,"-",'Sentencias TSJ'!M39/('Sentencias TSJ'!$K39+'Sentencias TSJ'!$L39+'Sentencias TSJ'!$M39)) -> 0.25
A39: Cataluña | B39: =IF(('Sentencias TSJ'!$B40+'Sentencias TSJ'!$C40+'Sentencias TSJ'!$D40)=0,"-",'Sentencias TSJ'!B40/('Sentencias TSJ'!$B40+'Sentencias TSJ'!$C40+'Sentencias TSJ'!$D40)) -> 0.74358974 | C39: =IF(('Sentencias TSJ'!$B40+'Sentencias TSJ'!$C40+'Sentencias TSJ'!$D40)=0,"-",'Sentencias TSJ'!C40/('Sentencias TSJ'!$B40+'Sentencias TSJ'!$C40+'Sentencias TSJ'!$D40)) -> 0.1025641 | D39: =IF(('Sentencias TSJ'!$B40+'Sentencias TSJ'!$C40+'Sentencias TSJ'!$D40)=0,"-",'Sentencias TSJ'!D40/('Sentencias TSJ'!$B40+'Sentencias TSJ'!$C40+'Sentencias TSJ'!$D40)) -> 0.15384615 | E39: =IF(('Sentencias TSJ'!$E40+'Sentencias TSJ'!$F40+'Sentencias TSJ'!$G40)=0,"-",'Sentencias TSJ'!E40/('Sentencias TSJ'!$E40+'Sentencias TSJ'!$F40+'Sentencias TSJ'!$G40)) -> 1 | F39: =IF(('Sentencias TSJ'!$E40+'Sentencias TSJ'!$F40+'Sentencias TSJ'!$G40)=0,"-",'Sentencias TSJ'!F40/('Sentencias TSJ'!$E40+'Sentencias TSJ'!$F40+'Sentencias TSJ'!$G40)) -> 0 | G39: =IF(('Sentencias TSJ'!$E40+'Sentencias TSJ'!$F40+'Sentencias TSJ'!$G40)=0,"-",'Sentencias TSJ'!G40/('Sentencias TSJ'!$E40+'Sentencias TSJ'!$F40+'Sentencias TSJ'!$G40)) -> 0 | H39: =IF(('Sentencias TSJ'!$H40+'Sentencias TSJ'!$I40+'Sentencias TSJ'!$J40)=0,"-",'Sentencias TSJ'!H40/('Sentencias TSJ'!$H40+'Sentencias TSJ'!$I40+'Sentencias TSJ'!$J40)) -> 0.94444444 | I39: =IF(('Sentencias TSJ'!$H40+'Sentencias TSJ'!$I40+'Sentencias TSJ'!$J40)=0,"-",'Sentencias TSJ'!I40/('Sentencias TSJ'!$H40+'Sentencias TSJ'!$I40+'Sentencias TSJ'!$J40)) -> 0.055555556 | J39: =IF(('Sentencias TSJ'!$H40+'Sentencias TSJ'!$I40+'Sentencias TSJ'!$J40)=0,"-",'Sentencias TSJ'!J40/('Sentencias TSJ'!$H40+'Sentencias TSJ'!$I40+'Sentencias TSJ'!$J40)) -> 0 | K39: =IF(('Sentencias TSJ'!$K40+'Sentencias TSJ'!$L40+'Sentencias TSJ'!$M40)=0,"-",'Sentencias TSJ'!K40/('Sentencias TSJ'!$K40+'Sentencias TSJ'!$L40+'Sentencias TSJ'!$M40)) -> 0.828125 | L39: =IF(('Sentencias TSJ'!$K40+'Sentencias TSJ'!$L40+'Sentencias TSJ'!$M40)=0,"-",'Sentencias TSJ'!L40/('Sentencias TSJ'!$K40+'Sentencias TSJ'!$L40+'Sentencias TSJ'!$M40)) -> 0.078125 | M39: =IF(('Sentencias TSJ'!$K40+'Sentencias TSJ'!$L40+'Sentencias TSJ'!$M40)=0,"-",'Sentencias TSJ'!M40/('Sentencias TSJ'!$K40+'Sentencias TSJ'!$L40+'Sentencias TSJ'!$M40)) -> 0.09375
A40: C. Valenciana | B40: =IF(('Sentencias TSJ'!$B41+'Sentencias TSJ'!$C41+'Sentencias TSJ'!$D41)=0,"-",'Sentencias TSJ'!B41/('Sentencias TSJ'!$B41+'Sentencias TSJ'!$C41+'Sentencias TSJ'!$D41)) -> 0.59090909 | C40: =IF(('Sentencias TSJ'!$B41+'Sentencias TSJ'!$C41+'Sentencias TSJ'!$D41)=0,"-",'Sentencias TSJ'!C41/('Sentencias TSJ'!$B41+'Sentencias TSJ'!$C41+'Sentencias TSJ'!$D41)) -> 0.22727273 | D40: =IF(('Sentencias TSJ'!$B41+'Sentencias TSJ'!$C41+'Sentencias TSJ'!$D41)=0,"-",'Sentencias TSJ'!D41/('Sentencias TSJ'!$B41+'Sentencias TSJ'!$C41+'Sentencias TSJ'!$D41)) -> 0.18181818 | E40: =IF(('Sentencias TSJ'!$E41+'Sentencias TSJ'!$F41+'Sentencias TSJ'!$G41)=0,"-",'Sentencias TSJ'!E41/('Sentencias TSJ'!$E41+'Sentencias TSJ'!$F41+'Sentencias TSJ'!$G41)) -> 0 | F40: =IF(('Sentencias TSJ'!$E41+'Sentencias TSJ'!$F41+'Sentencias TSJ'!$G41)=0,"-",'Sentencias TSJ'!F41/('Sentencias TSJ'!$E41+'Sentencias TSJ'!$F41+'Sentencias TSJ'!$G41)) -> 0 | G40: =IF(('Sentencias TSJ'!$E41+'Sentencias TSJ'!$F41+'Sentencias TSJ'!$G41)=0,"-",'Sentencias TSJ'!G41/('Sentencias TSJ'!$E41+'Sentencias TSJ'!$F41+'Sentencias TSJ'!$G41)) -> 1 | H40: =IF(('Sentencias TSJ'!$H41+'Sentencias TSJ'!$I41+'Sentencias TSJ'!$J41)=0,"-",'Sentencias TSJ'!H41/('Sentencias TSJ'!$H41+'Sentencias TSJ'!$I41+'Sentencias TSJ'!$J41)) -> - | I40: =IF(('Sentencias TSJ'!$H41+'Sentencias TSJ'!$I41+'Sentencias TSJ'!$J41)=0,"-",'Sentencias TSJ'!I41/('Sentencias TSJ'!$H41+'Sentencias TSJ'!$I41+'Sentencias TSJ'!$J41)) -> - | J40: =IF(('Sentencias TSJ'!$H41+'Sentencias TSJ'!$I41+'Sentencias TSJ'!$J41)=0,"-",'Sentencias TSJ'!J41/('Sentencias TSJ'!$H41+'Sentencias TSJ'!$I41+'Sentencias TSJ'!$J41)) -> - | K40: =IF(('Sentencias TSJ'!$K41+'Sentencias TSJ'!$L41+'Sentencias TSJ'!$M41)=0,"-",'Sentencias TSJ'!K41/('Sentencias TSJ'!$K41+'Sentencias TSJ'!$L41+'Sentencias TSJ'!$M41)) -> 0.56521739 | L40: =IF(('Sentencias TSJ'!$K41+'Sentencias TSJ'!$L41+'Sentencias TSJ'!$M41)=0,"-",'Sentencias TSJ'!L41/('Sentencias TSJ'!$K41+'Sentencias TSJ'!$L41+'Sentencias TSJ'!$M41)) -> 0.2173913 | M40: =IF(('Sentencias TSJ'!$K41+'Sentencias TSJ'!$L41+'Sentencias TSJ'!$M41)=0,"-",'Sentencias TSJ'!M41/('Sentencias TSJ'!$K41+'Sentencias TSJ'!$L41+'Sentencias TSJ'!$M41)) -> 0.2173913
A41: Extremadura | B41: =IF(('Sentencias TSJ'!$B42+'Sentencias TSJ'!$C42+'Sentencias TSJ'!$D42)=0,"-",'Sentencias TSJ'!B42/('Sentencias TSJ'!$B42+'Sentencias TSJ'!$C42+'Sentencias TSJ'!$D42)) -> - | C41: =IF(('Sentencias TSJ'!$B42+'Sentencias TSJ'!$C42+'Sentencias TSJ'!$D42)=0,"-",'Sentencias TSJ'!C42/('Sentencias TSJ'!$B42+'Sentencias TSJ'!$C42+'Sentencias TSJ'!$D42)) -> - | D41: =IF(('Sentencias TSJ'!$B42+'Sentencias TSJ'!$C42+'Sentencias TSJ'!$D42)=0,"-",'Sentencias TSJ'!D42/('Sentencias TSJ'!$B42+'Sentencias TSJ'!$C42+'Sentencias TSJ'!$D42)) -> - | E41: =IF(('Sentencias TSJ'!$E42+'Sentencias TSJ'!$F42+'Sentencias TSJ'!$G42)=0,"-",'Sentencias TSJ'!E42/('Sentencias TSJ'!$E42+'Sentencias TSJ'!$F42+'Sentencias TSJ'!$G42)) -> 1 | F41: =IF(('Sentencias TSJ'!$E42+'Sentencias TSJ'!$F42+'Sentencias TSJ'!$G42)=0,"-",'Sentencias TSJ'!F42/('Sentencias TSJ'!$E42+'Sentencias TSJ'!$F42+'Sentencias TSJ'!$G42)) -> 0 | G41: =IF(('Sentencias TSJ'!$E42+'Sentencias TSJ'!$F42+'Sentencias TSJ'!$G42)=0,"-",'Sentencias TSJ'!G42/('Sentencias TSJ'!$E42+'Sentencias TSJ'!$F42+'Sentencias TSJ'!$G42)) -> 0 | H41: =IF(('Sentencias TSJ'!$H42+'Sentencias TSJ'!$I42+'Sentencias TSJ'!$J42)=0,"-",'Sentencias TSJ'!H42/('Sentencias TSJ'!$H42+'Sentencias TSJ'!$I42+'Sentencias TSJ'!$J42)) -> - | I41: =IF(('Sentencias TSJ'!$H42+'Sentencias TSJ'!$I42+'Sentencias TSJ'!$J42)=0,"-",'Sentencias TSJ'!I42/('Sentencias TSJ'!$H42+'Sentencias TSJ'!$I42+'Sentencias TSJ'!$J42)) -> - | J41: =IF(('Sentencias TSJ'!$H42+'Sentencias TSJ'!$I42+'Sentencias TSJ'!$J42)=0,"-",'Sentencias TSJ'!J42/('Sentencias TSJ'!$H42+'Sentencias TSJ'!$I42+'Sentencias TSJ'!$J42)) -> - | K41: =IF(('Sentencias TSJ'!$K42+'Sentencias TSJ'!$L42+'Sentencias TSJ'!$M42)=0,"-",'Sentencias TSJ'!K42/('Sentencias TSJ'!$K42+'Sentencias TSJ'!$L42+'Sentencias TSJ'!$M42)) -> 1 | L41: =IF(('Sentencias TSJ'!$K42+'Sentencias TSJ'!$L42+'Sentencias TSJ'!$M42)=0,"-",'Sentencias TSJ'!L42/('Sentencias TSJ'!$K42+'Sentencias TSJ'!$L42+'Sentencias TSJ'!$M42)) -> 0 | M41: =IF(('Sentencias TSJ'!$K42+'Sentencias TSJ'!$L42+'Sentencias TSJ'!$M42)=0,"-",'Sentencias TSJ'!M42/('Sentencias TSJ'!$K42+'Sentencias TSJ'!$L42+'Sentencias TSJ'!$M42)) -> 0
A42: Galicia | B42: =IF(('Sentencias TSJ'!$B43+'Sentencias TSJ'!$C43+'Sentencias TSJ'!$D43)=0,"-",'Sentencias TSJ'!B43/('Sentencias TSJ'!$B43+'Sentencias TSJ'!$C43+'Sentencias TSJ'!$D43)) -> 0.66666667 | C42: =IF(('Sentencias TSJ'!$B43+'Sentencias TSJ'!$C43+'Sentencias TSJ'!$D43)=0,"-",'Sentencias TSJ'!C43/('Sentencias TSJ'!$B43+'Sentencias TSJ'!$C43+'Sentencias TSJ'!$D43)) -> 0.11111111 | D42: =IF(('Sentencias TSJ'!$B43+'Sentencias TSJ'!$C43+'Sentencias TSJ'!$D43)=0,"-",'Sentencias TSJ'!D43/('Sentencias TSJ'!$B43+'Sentencias TSJ'!$C43+'Sentencias TSJ'!$D43)) -> 0.22222222 | E42: =IF(('Sentencias TSJ'!$E43+'Sentencias TSJ'!$F43+'Sentencias TSJ'!$G43)=0,"-",'Sentencias TSJ'!E43/('Sentencias TSJ'!$E43+'Sentencias TSJ'!$F43+'Sentencias TSJ'!$G43)) -> 1 | F42: =IF(('Sentencias TSJ'!$E43+'Sentencias TSJ'!$F43+'Sentencias TSJ'!$G43)=0,"-",'Sentencias TSJ'!F43/('Sentencias TSJ'!$E43+'Sentencias TSJ'!$F43+'Sentencias TSJ'!$G43)) -> 0 | G42: =IF(('Sentencias TSJ'!$E43+'Sentencias TSJ'!$F43+'Sentencias TSJ'!$G43)=0,"-",'Sentencias TSJ'!G43/('Sentencias TSJ'!$E43+'Sentencias TSJ'!$F43+'Sentencias TSJ'!$G43)) -> 0 | H42: =IF(('Sentencias TSJ'!$H43+'Sentencias TSJ'!$I43+'Sentencias TSJ'!$J43)=0,"-",'Sentencias TSJ'!H43/('Sentencias TSJ'!$H43+'Sentencias TSJ'!$I43+'Sentencias TSJ'!$J43)) -> - | I42: =IF(('Sentencias TSJ'!$H43+'Sentencias TSJ'!$I43+'Sentencias TSJ'!$J43)=0,"-",'Sentencias TSJ'!I43/('Sentencias TSJ'!$H43+'Sentencias TSJ'!$I43+'Sentencias TSJ'!$J43)) -> - | J42: =IF(('Sentencias TSJ'!$H43+'Sentencias TSJ'!$I43+'Sentencias TSJ'!$J43)=0,"-",'Sentencias TSJ'!J43/('Sentencias TSJ'!$H43+'Sentencias TSJ'!$I43+'Sentencias TSJ'!$J43)) -> - | K42: =IF(('Sentencias TSJ'!$K43+'Sentencias TSJ'!$L43+'Sentencias TSJ'!$M43)=0,"-",'Sentencias TSJ'!K43/('Sentencias TSJ'!$K43+'Sentencias TSJ'!$L43+'Sentencias TSJ'!$M43)) -> 0.7 | L42: =IF(('Sentencias TSJ'!$K43+'Sentencias TSJ'!$L43+'Sentencias TSJ'!$M43)=0,"-",'Sentencias TSJ'!L43/('Sentencias TSJ'!$K43+'Sentencias TSJ'!$L43+'Sentencias TSJ'!$M43)) -> 0.1 | M42: =IF(('Sentencias TSJ'!$K43+'Sentencias TSJ'!$L43+'Sentencias TSJ'!$M43)=0,"-",'Sentencias TSJ'!M43/('Sentencias TSJ'!$K43+'Sentencias TSJ'!$L43+'Sentencias TSJ'!$M43)) -> 0.2
... A48: TOTAL | B48: =IF(('Sentencias TSJ'!$B49+'Sentencias TSJ'!$C49+'Sentencias TSJ'!$D49)=0,"-",'Sentencias TSJ'!B49/('Sentencias TSJ'!$B49+'Sentencias TSJ'!$C49+'Sentencias TSJ'!$D49)) -> 0.72131148 | C48: =IF(('Sentencias TSJ'!$B49+'Sentencias TSJ'!$C49+'Sentencias TSJ'!$D49)=0,"-",'Sentencias TSJ'!C49/('Sentencias TSJ'!$B49+'Sentencias TSJ'!$C49+'Sentencias TSJ'!$D49)) -> 0.12568306 | D48: =IF(('Sentencias TSJ'!$B49+'Sentencias TSJ'!$C49+'Sentencias TSJ'!$D49)=0,"-",'Sentencias TSJ'!D49/('Sentencias TSJ'!$B49+'Sentencias TSJ'!$C49+'Sentencias TSJ'!$D49)) -> 0.15300546 | E48: =IF(('Sentencias TSJ'!$E49+'Sentencias TSJ'!$F49+'Sentencias TSJ'!$G49)=0,"-",'Sentencias TSJ'!E49/('Sentencias TSJ'!$E49+'Sentencias TSJ'!$F49+'Sentencias TSJ'!$G49)) -> 0.71428571 | F48: =IF(('Sentencias TSJ'!$E49+'Sentencias TSJ'!$F49+'Sentencias TSJ'!$G49)=0,"-",'Sentencias TSJ'!F49/('Sentencias TSJ'!$E49+'Sentencias TSJ'!$F49+'Sentencias TSJ'!$G49)) -> 0.23809524 | G48: =IF(('Sentencias TSJ'!$E49+'Sentencias TSJ'!$F49+'Sentencias TSJ'!$G49)=0,"-",'Sentencias TSJ'!G49/('Sentencias TSJ'!$E49+'Sentencias TSJ'!$F49+'Sentencias TSJ'!$G49)) -> 0.047619048 | H48: =IF(('Sentencias TSJ'!$H49+'Sentencias TSJ'!$I49+'Sentencias TSJ'!$J49)=0,"-",'Sentencias TSJ'!H49/('Sentencias TSJ'!$H49+'Sentencias TSJ'!$I49+'Sentencias TSJ'!$J49)) -> 0.81081081 | I48: =IF(('Sentencias TSJ'!$H49+'Sentencias TSJ'!$I49+'Sentencias TSJ'!$J49)=0,"-",'Sentencias TSJ'!I49/('Sentencias TSJ'!$H49+'Sentencias TSJ'!$I49+'Sentencias TSJ'!$J49)) -> 0.10810811 | J48: =IF(('Sentencias TSJ'!$H49+'Sentencias TSJ'!$I49+'Sentencias TSJ'!$J49)=0,"-",'Sentencias TSJ'!J49/('Sentencias TSJ'!$H49+'Sentencias TSJ'!$I49+'Sentencias TSJ'!$J49)) -> 0.081081081 | K48: =IF(('Sentencias TSJ'!$K49+'Sentencias TSJ'!$L49+'Sentencias TSJ'!$M49)=0,"-",'Sentencias TSJ'!K49/('Sentencias TSJ'!$K49+'Sentencias TSJ'!$L49+'Sentencias TSJ'!$M49)) -> 0.73443983 | L48: =IF(('Sentencias TSJ'!$K49+'Sentencias TSJ'!$L49+'Sentencias TSJ'!$M49)=0,"-",'Sentencias TSJ'!L49/('Sentencias TSJ'!$K49+'Sentencias TSJ'!$L49+'Sentencias TSJ'!$M49)) -> 0.13278008 | M48: =IF(('Sentencias TSJ'!$K49+'Sentencias TSJ'!$L49+'Sentencias TSJ'!$M49)=0,"-",'Sentencias TSJ'!M49/('Sentencias TSJ'!$K49+'Sentencias TSJ'!$L49+'Sentencias TSJ'!$M49)) -> 0.13278008
A51: Total | B51: Acción principal ejercitada en la demanda
B52: Falta de pago de la renta o de cantidades que se asimilan | E52: Denegacion de prorroga | H52: Otros | K52: Total
B53: Estimando la demanda totalmente | C53: Estimando la demanda parcialmente | D53: Desestimando la demanda | E53: Estimando la demanda totalmente | F53: Estimando la demanda parcialmente | G53: Desestimando la demanda | H53: Estimando la demanda totalmente | I53: Estimando la demanda parcialmente | J53: Desestimando la demanda | K53: Estimando la demanda totalmente | L53: Estimando la demanda parcialmente | M53: Desestimando la demanda
A54: Andalucía | B54: =IF(('Sentencias TSJ'!$B55+'Sentencias TSJ'!$C55+'Sentencias TSJ'!$D55)=0,"-",'Sentencias TSJ'!B55/('Sentencias TSJ'!$B55+'Sentencias TSJ'!$C55+'Sentencias TSJ'!$D55)) -> 0.84952978 | C54: =IF(('Sentencias TSJ'!$B55+'Sentencias TSJ'!$C55+'Sentencias TSJ'!$D55)=0,"-",'Sentencias TSJ'!C55/('Sentencias TSJ'!$B55+'Sentencias TSJ'!$C55+'Sentencias TSJ'!$D55)) -> 0.084639498 | D54: =IF(('Sentencias TSJ'!$B55+'Sentencias TSJ'!$C55+'Sentencias TSJ'!$D55)=0,"-",'Sentencias TSJ'!D55/('Sentencias TSJ'!$B55+'Sentencias TSJ'!$C55+'Sentencias TSJ'!$D55)) -> 0.065830721 | E54: =+'Sentencias TSJ'!E55/('Sentencias TSJ'!E55+'Sentencias TSJ'!F55+'Sentencias TSJ'!G55) -> 0.57894737 | F54: =+'Sentencias TSJ'!F55/('Sentencias TSJ'!E55+'Sentencias TSJ'!F55+'Sentencias TSJ'!G55) -> 0.21052632 | G54: =+'Sentencias TSJ'!G55/('Sentencias TSJ'!E55+'Sentencias TSJ'!F55+'Sentencias TSJ'!G55) -> 0.21052632 | H54: =IF(('Sentencias TSJ'!$H55+'Sentencias TSJ'!$I55+'Sentencias TSJ'!$J55)=0,"-",'Sentencias TSJ'!H55/('Sentencias TSJ'!$H55+'Sentencias TSJ'!$I55+'Sentencias TSJ'!$J55)) -> 0.92957746 | I54: =IF(('Sentencias TSJ'!$H55+'Sentencias TSJ'!$I55+'Sentencias TSJ'!$J55)=0,"-",'Sentencias TSJ'!I55/('Sentencias TSJ'!$H55+'Sentencias TSJ'!$I55+'Sentencias TSJ'!$J55)) -> 0.028169014 | J54: =IF(('Sentencias TSJ'!$H55+'Sentencias TSJ'!$I55+'Sentencias TSJ'!$J55)=0,"-",'Sentencias TSJ'!J55/('Sentencias TSJ'!$H55+'Sentencias TSJ'!$I55+'Sentencias TSJ'!$J55)) -> 0.042253521 | K54: =IF(('Sentencias TSJ'!$K55+'Sentencias TSJ'!$L55+'Sentencias TSJ'!$M55)=0,"-",'Sentencias TSJ'!K55/('Sentencias TSJ'!$K55+'Sentencias TSJ'!$L55+'Sentencias TSJ'!$M55)) -> 0.85085575 | L54: =IF(('Sentencias TSJ'!$K55+'Sentencias TSJ'!$L55+'Sentencias TSJ'!$M55)=0,"-",'Sentencias TSJ'!L55/('Sentencias TSJ'!$K55+'Sentencias TSJ'!$L55+'Sentencias TSJ'!$M55)) -> 0.080684597 | M54: =IF(('Sentencias TSJ'!$K55+'Sentencias TSJ'!$L55+'Sentencias TSJ'!$M55)=0,"-",'Sentencias TSJ'!M55/('Sentencias TSJ'!$K55+'Sentencias TSJ'!$L55+'Sentencias TSJ'!$M55)) -> 0.068459658
A55: Aragón | B55: =IF(('Sentencias TSJ'!$B56+'Sentencias TSJ'!$C56+'Sentencias TSJ'!$D56)=0,"-",'Sentencias TSJ'!B56/('Sentencias TSJ'!$B56+'Sentencias TSJ'!$C56+'Sentencias TSJ'!$D56)) -> 0.7721519 | C55: =IF(('Sentencias TSJ'!$B56+'Sentencias TSJ'!$C56+'Sentencias TSJ'!$D56)=0,"-",'Sentencias TSJ'!C56/('Sentencias TSJ'!$B56+'Sentencias TSJ'!$C56+'Sentencias TSJ'!$D56)) -> 0.16455696 | D55: =IF(('Sentencias TSJ'!$B56+'Sentencias TSJ'!$C56+'Sentencias TSJ'!$D56)=0,"-",'Sentencias TSJ'!D56/('Sentencias TSJ'!$B56+'Sentencias TSJ'!$C56+'Sentencias TSJ'!$D56)) -> 0.063291139 | E55: =+'Sentencias TSJ'!E56/('Sentencias TSJ'!E56+'Sentencias TSJ'!F56+'Sentencias TSJ'!G56) -> 0.26666667 | F55: =+'Sentencias TSJ'!F56/('Sentencias TSJ'!E56+'Sentencias TSJ'!F56+'Sentencias TSJ'!G56) -> 0.73333333 | G55: =+'Sentencias TSJ'!G56/('Sentencias TSJ'!E56+'Sentencias TSJ'!F56+'Sentencias TSJ'!G56) -> 0 | H55: =IF(('Sentencias TSJ'!$H56+'Sentencias TSJ'!$I56+'Sentencias TSJ'!$J56)=0,"-",'Sentencias TSJ'!H56/('Sentencias TSJ'!$H56+'Sentencias TSJ'!$I56+'Sentencias TSJ'!$J56)) -> 0.6 | I55: =IF(('Sentencias TSJ'!$H56+'Sentencias TSJ'!$I56+'Sentencias TSJ'!$J56)=0,"-",'Sentencias TSJ'!I56/('Sentencias TSJ'!$H56+'Sentencias TSJ'!$I56+'Sentencias TSJ'!$J56)) -> 0.08 | J55: =IF(('Sentencias TSJ'!$H56+'Sentencias TSJ'!$I56+'Sentencias TSJ'!$J56)=0,"-",'Sentencias TSJ'!J56/('Sentencias TSJ'!$H56+'Sentencias TSJ'!$I56+'Sentencias TSJ'!$J56)) -> 0.32 | K55: =IF(('Sentencias TSJ'!$K56+'Sentencias TSJ'!$L56+'Sentencias TSJ'!$M56)=0,"-",'Sentencias TSJ'!K56/('Sentencias TSJ'!$K56+'Sentencias TSJ'!$L56+'Sentencias TSJ'!$M56)) -> 0.67226891 | L55: =IF(('Sentencias TSJ'!$K56+'Sentencias TSJ'!$L56+'Sentencias TSJ'!$M56)=0,"-",'Sentencias TSJ'!L56/('Sentencias TSJ'!$K56+'Sentencias TSJ'!$L56+'Sentencias TSJ'!$M56)) -> 0.21848739 | M55: =IF(('Sentencias TSJ'!$K56+'Sentencias TSJ'!$L56+'Sentencias TSJ'!$M56)=0,"-",'Sentencias TSJ'!M56/('Sentencias TSJ'!$K56+'Sentencias TSJ'!$L56+'Sentencias TSJ'!$M56)) -> 0.1092437
A56: Asturias | B56: =IF(('Sentencias TSJ'!$B57+'Sentencias TSJ'!$C57+'Sentencias TSJ'!$D57)=0,"-",'Sentencias TSJ'!B57/('Sentencias TSJ'!$B57+'Sentencias TSJ'!$C57+'Sentencias TSJ'!$D57)) -> 0.92063492 | C56: =IF(('Sentencias TSJ'!$B57+'Sentencias TSJ'!$C57+'Sentencias TSJ'!$D57)=0,"-",'Sentencias TSJ'!C57/('Sentencias TSJ'!$B57+'Sentencias TSJ'!$C57+'Sentencias TSJ'!$D57)) -> 0.015873016 | D56: =IF(('Sentencias TSJ'!$B57+'Sentencias TSJ'!$C57+'Sentencias TSJ'!$D57)=0,"-",'Sentencias TSJ'!D57/('Sentencias TSJ'!$B57+'Sentencias TSJ'!$C57+'Sentencias TSJ'!$D57)) -> 0.063492063 | H56: =IF(('Sentencias TSJ'!$H57+'Sentencias TSJ'!$I57+'Sentencias TSJ'!$J57)=0,"-",'Sentencias TSJ'!H57/('Sentencias TSJ'!$H57+'Sentencias TSJ'!$I57+'Sentencias TSJ'!$J57)) -> 1 | I56: =IF(('Sentencias TSJ'!$H57+'Sentencias TSJ'!$I57+'Sentencias TSJ'!$J57)=0,"-",'Sentencias TSJ'!I57/('Sentencias TSJ'!$H57+'Sentencias TSJ'!$I57+'Sentencias TSJ'!$J57)) -> 0 | J56: =IF(('Sentencias TSJ'!$H57+'Sentencias TSJ'!$I57+'Sentencias TSJ'!$J57)=0,"-",'Sentencias TSJ'!J57/('Sentencias TSJ'!$H57+'Sentencias TSJ'!$I57+'Sentencias TSJ'!$J57)) -> 0 | K56: =IF(('Sentencias TSJ'!$K57+'Sentencias TSJ'!$L57+'Sentencias TSJ'!$M57)=0,"-",'Sentencias TSJ'!K57/('Sentencias TSJ'!$K57+'Sentencias TSJ'!$L57+'Sentencias TSJ'!$M57)) -> 0.93902439 | L56: =IF(('Sentencias TSJ'!$K57+'Sentencias TSJ'!$L57+'Sentencias TSJ'!$M57)=0,"-",'Sentencias TSJ'!L57/('Sentencias TSJ'!$K57+'Sentencias TSJ'!$L57+'Sentencias TSJ'!$M57)) -> 0.012195122 | M56: =IF(('Sentencias TSJ'!$K57+'Sentencias TSJ'!$L57+'Sentencias TSJ'!$M57)=0,"-",'Sentencias TSJ'!M57/('Sentencias TSJ'!$K57+'Sentencias TSJ'!$L57+'Sentencias TSJ'!$M57)) -> 0.048780488
A57: Illes Balears | B57: =IF(('Sentencias TSJ'!$B58+'Sentencias TSJ'!$C58+'Sentencias TSJ'!$D58)=0,"-",'Sentencias TSJ'!B58/('Sentencias TSJ'!$B58+'Sentencias TSJ'!$C58+'Sentencias TSJ'!$D58)) -> 0.88235294 | C57: =IF(('Sentencias TSJ'!$B58+'Sentencias TSJ'!$C58+'Sentencias TSJ'!$D58)=0,"-",'Sentencias TSJ'!C58/('Sentencias TSJ'!$B58+'Sentencias TSJ'!$C58+'Sentencias TSJ'!$D58)) -> 0.035294118 | D57: =IF(('Sentencias TSJ'!$B58+'Sentencias TSJ'!$C58+'Sentencias TSJ'!$D58)=0,"-",'Sentencias TSJ'!D58/('Sentencias TSJ'!$B58+'Sentencias TSJ'!$C58+'Sentencias TSJ'!$D58)) -> 0.082352941 | E57: =+'Sentencias TSJ'!E58/('Sentencias TSJ'!E58+'Sentencias TSJ'!F58+'Sentencias TSJ'!G58) -> 0.84615385 | F57: =+'Sentencias TSJ'!F58/('Sentencias TSJ'!E58+'Sentencias TSJ'!F58+'Sentencias TSJ'!G58) -> 0 | G57: =+'Sentencias TSJ'!G58/('Sentencias TSJ'!E58+'Sentencias TSJ'!F58+'Sentencias TSJ'!G58) -> 0.15384615 | H57: =IF(('Sentencias TSJ'!$H58+'Sentencias TSJ'!$I58+'Sentencias TSJ'!$J58)=0,"-",'Sentencias TSJ'!H58/('Sentencias TSJ'!$H58+'Sentencias TSJ'!$I58+'Sentencias TSJ'!$J58)) -> 1 | I57: =IF(('Sentencias TSJ'!$H58+'Sentencias TSJ'!$I58+'Sentencias TSJ'!$J58)=0,"-",'Sentencias TSJ'!I58/('Sentencias TSJ'!$H58+'Sentencias TSJ'!$I58+'Sentencias TSJ'!$J58)) -> 0 | J57: =IF(('Sentencias TSJ'!$H58+'Sentencias TSJ'!$I58+'Sentencias TSJ'!$J58)=0,"-",'Sentencias TSJ'!J58/('Sentencias TSJ'!$H58+'Sentencias TSJ'!$I58+'Sentencias TSJ'!$J58)) -> 0 | K57: =IF(('Sentencias TSJ'!$K58+'Sentencias TSJ'!$L58+'Sentencias TSJ'!$M58)=0,"-",'Sentencias TSJ'!K58/('Sentencias TSJ'!$K58+'Sentencias TSJ'!$L58+'Sentencias TSJ'!$M58)) -> 0.88679245 | L57: =IF(('Sentencias TSJ'!$K58+'Sentencias TSJ'!$L58+'Sentencias TSJ'!$M58)=0,"-",'Sentencias TSJ'!L58/('Sentencias TSJ'!$K58+'Sentencias TSJ'!$L58+'Sentencias TSJ'!$M58)) -> 0.028301887 | M57: =IF(('Sentencias TSJ'!$K58+'Sentencias TSJ'!$L58+'Sentencias TSJ'!$M58)=0,"-",'Sentencias TSJ'!M58/('Sentencias TSJ'!$K58+'Sentencias TSJ'!$L58+'Sentencias TSJ'!$M58)) -> 0.08490566
A58: Canarias | B58: =IF(('Sentencias TSJ'!$B59+'Sentencias TSJ'!$C59+'Sentencias TSJ'!$D59)=0,"-",'Sentencias TSJ'!B59/('Sentencias TSJ'!$B59+'Sentencias TSJ'!$C59+'Sentencias TSJ'!$D59)) -> 0.84210526 | C58: =IF(('Sentencias TSJ'!$B59+'Sentencias TSJ'!$C59+'Sentencias TSJ'!$D59)=0,"-",'Sentencias TSJ'!C59/('Sentencias TSJ'!$B59+'Sentencias TSJ'!$C59+'Sentencias TSJ'!$D59)) -> 0.076023392 | D58: =IF(('Sentencias TSJ'!$B59+'Sentencias TSJ'!$C59+'Sentencias TSJ'!$D59)=0,"-",'Sentencias TSJ'!D59/('Sentencias TSJ'!$B59+'Sentencias TSJ'!$C59+'Sentencias TSJ'!$D59)) -> 0.081871345 | E58: =+'Sentencias TSJ'!E59/('Sentencias TSJ'!E59+'Sentencias TSJ'!F59+'Sentencias TSJ'!G59) -> 0.75 | F58: =+'Sentencias TSJ'!F59/('Sentencias TSJ'!E59+'Sentencias TSJ'!F59+'Sentencias TSJ'!G59) -> 0.083333333 | G58: =+'Sentencias TSJ'!G59/('Sentencias TSJ'!E59+'Sentencias TSJ'!F59+'Sentencias TSJ'!G59) -> 0.16666667 | H58: =IF(('Sentencias TSJ'!$H59+'Sentencias TSJ'!$I59+'Sentencias TSJ'!$J59)=0,"-",'Sentencias TSJ'!H59/('Sentencias TSJ'!$H59+'Sentencias TSJ'!$I59+'Sentencias TSJ'!$J59)) -> 0.82758621 | I58: =IF(('Sentencias TSJ'!$H59+'Sentencias TSJ'!$I59+'Sentencias TSJ'!$J59)=0,"-",'Sentencias TSJ'!I59/('Sentencias TSJ'!$H59+'Sentencias TSJ'!$I59+'Sentencias TSJ'!$J59)) -> 0.034482759 | J58: =IF(('Sentencias TSJ'!$H59+'Sentencias TSJ'!$I59+'Sentencias TSJ'!$J59)=0,"-",'Sentencias TSJ'!J59/('Sentencias TSJ'!$H59+'Sentencias TSJ'!$I59+'Sentencias TSJ'!$J59)) -> 0.13793103 | K58: =IF(('Sentencias TSJ'!$K59+'Sentencias TSJ'!$L59+'Sentencias TSJ'!$M59)=0,"-",'Sentencias TSJ'!K59/('Sentencias TSJ'!$K59+'Sentencias TSJ'!$L59+'Sentencias TSJ'!$M59)) -> 0.83490566 | L58: =IF(('Sentencias TSJ'!$K59+'Sentencias TSJ'!$L59+'Sentencias TSJ'!$M59)=0,"-",'Sentencias TSJ'!L59/('Sentencias TSJ'!$K59+'Sentencias TSJ'!$L59+'Sentencias TSJ'!$M59)) -> 0.070754717 | M58: =IF(('Sentencias TSJ'!$K59+'Sentencias TSJ'!$L59+'Sentencias TSJ'!$M59)=0,"-",'Sentencias TSJ'!M59/('Sentencias TSJ'!$K59+'Sentencias TSJ'!$L59+'Sentencias TSJ'!$M59)) -> 0.094339623
A59: Cantabria | B59: =IF(('Sentencias TSJ'!$B60+'Sentencias TSJ'!$C60+'Sentencias TSJ'!$D60)=0,"-",'Sentencias TSJ'!B60/('Sentencias TSJ'!$B60+'Sentencias TSJ'!$C60+'Sentencias TSJ'!$D60)) -> 0.83333333 | C59: =IF(('Sentencias TSJ'!$B60+'Sentencias TSJ'!$C60+'Sentencias TSJ'!$D60)=0,"-",'Sentencias TSJ'!C60/('Sentencias TSJ'!$B60+'Sentencias TSJ'!$C60+'Sentencias TSJ'!$D60)) -> 0.11666667 | D59: =IF(('Sentencias TSJ'!$B60+'Sentencias TSJ'!$C60+'Sentencias TSJ'!$D60)=0,"-",'Sentencias TSJ'!D60/('Sentencias TSJ'!$B60+'Sentencias TSJ'!$C60+'Sentencias TSJ'!$D60)) -> 0.05 | E59: =+'Sentencias TSJ'!E60/('Sentencias TSJ'!E60+'Sentencias TSJ'!F60+'Sentencias TSJ'!G60) -> 0 | F59: =+'Sentencias TSJ'!F60/('Sentencias TSJ'!E60+'Sentencias TSJ'!F60+'Sentencias TSJ'!G60) -> 0.88888889 | G59: =+'Sentencias TSJ'!G60/('Sentencias TSJ'!E60+'Sentencias TSJ'!F60+'Sentencias TSJ'!G60) -> 0.11111111 | H59: =IF(('Sentencias TSJ'!$H60+'Sentencias TSJ'!$I60+'Sentencias TSJ'!$J60)=0,"-",'Sentencias TSJ'!H60/('Sentencias TSJ'!$H60+'Sentencias TSJ'!$I60+'Sentencias TSJ'!$J60)) -> 0.36363636 | I59: =IF(('Sentencias TSJ'!$H60+'Sentencias TSJ'!$I60+'Sentencias TSJ'!$J60)=0,"-",'Sentencias TSJ'!I60/('Sentencias TSJ'!$H60+'Sentencias TSJ'!$I60+'Sentencias TSJ'!$J60)) -> 0.54545455 | J59: =IF(('Sentencias TSJ'!$H60+'Sentencias TSJ'!$I60+'Sentencias TSJ'!$J60)=0,"-",'Sentencias TSJ'!J60/('Sentencias TSJ'!$H60+'Sentencias TSJ'!$I60+'Sentencias TSJ'!$J60)) -> 0.090909091 | K59: =IF(('Sentencias TSJ'!$K60+'Sentencias TSJ'!$L60+'Sentencias TSJ'!$M60)=0,"-",'Sentencias TSJ'!K60/('Sentencias TSJ'!$K60+'Sentencias TSJ'!$L60+'Sentencias TSJ'!$M60)) -> 0.675 | L59: =IF(('Sentencias TSJ'!$K60+'Sentencias TSJ'!$L60+'Sentencias TSJ'!$M60)=0,"-",'Sentencias TSJ'!L60/('Sentencias TSJ'!$K60+'Sentencias TSJ'!$L60+'Sentencias TSJ'!$M60)) -> 0.2625 | M59: =IF(('Sentencias TSJ'!$K60+'Sentencias TSJ'!$L60+'Sentencias TSJ'!$M60)=0,"-",'Sentencias TSJ'!M60/('Sentencias TSJ'!$K60+'Sentencias TSJ'!$L60+'Sentencias TSJ'!$M60)) -> 0.0625
A60: Castilla y León | B60: =IF(('Sentencias TSJ'!$B61+'Sentencias TSJ'!$C61+'Sentencias TSJ'!$D61)=0,"-",'Sentencias TSJ'!B61/('Sentencias TSJ'!$B61+'Sentencias TSJ'!$C61+'Sentencias TSJ'!$D61)) -> 0.79090909 | C60: =IF(('Sentencias TSJ'!$B61+'Sentencias TSJ'!$C61+'Sentencias TSJ'!$D61)=0,"-",'Sentencias TSJ'!C61/('Sentencias TSJ'!$B61+'Sentencias TSJ'!$C61+'Sentencias TSJ'!$D61)) -> 0.11818182 | D60: =IF(('Sentencias TSJ'!$B61+'Sentencias TSJ'!$C61+'Sentencias TSJ'!$D61)=0,"-",'Sentencias TSJ'!D61/('Sentencias TSJ'!$B61+'Sentencias TSJ'!$C61+'Sentencias TSJ'!$D61)) -> 0.090909091 | H60: =IF(('Sentencias TSJ'!$H61+'Sentencias TSJ'!$I61+'Sentencias TSJ'!$J61)=0,"-",'Sentencias TSJ'!H61/('Sentencias TSJ'!$H61+'Sentencias TSJ'!$I61+'Sentencias TSJ'!$J61)) -> 0.73333333 | I60: =IF(('Sentencias TSJ'!$H61+'Sentencias TSJ'!$I61+'Sentencias TSJ'!$J61)=0,"-",'Sentencias TSJ'!I61/('Sentencias TSJ'!$H61+'Sentencias TSJ'!$I61+'Sentencias TSJ'!$J61)) -> 0.066666667 | J60: =IF(('Sentencias TSJ'!$H61+'Sentencias TSJ'!$I61+'Sentencias TSJ'!$J61)=0,"-",'Sentencias TSJ'!J61/('Sentencias TSJ'!$H61+'Sentencias TSJ'!$I61+'Sentencias TSJ'!$J61)) -> 0.2 | K60: =IF(('Sentencias TSJ'!$K61+'Sentencias TSJ'!$L61+'Sentencias TSJ'!$M61)=0,"-",'Sentencias TSJ'!K61/('Sentencias TSJ'!$K61+'Sentencias TSJ'!$L61+'Sentencias TSJ'!$M61)) -> 0.79230769 | L60: =IF(('Sentencias TSJ'!$K61+'Sentencias TSJ'!$L61+'Sentencias TSJ'!$M61)=0,"-",'Sentencias TSJ'!L61/('Sentencias TSJ'!$K61+'Sentencias TSJ'!$L61+'Sentencias TSJ'!$M61)) -> 0.10769231 | M60: =IF(('Sentencias TSJ'!$K61+'Sentencias TSJ'!$L61+'Sentencias TSJ'!$M61)=0,"-",'Sentencias TSJ'!M61/('Sentencias TSJ'!$K61+'Sentencias TSJ'!$L61+'Sentencias TSJ'!$M61)) -> 0.1
A61: Castilla-La Mancha | B61: =IF(('Sentencias TSJ'!$B62+'Sentencias TSJ'!$C62+'Sentencias TSJ'!$D62)=0,"-",'Sentencias TSJ'!B62/('Sentencias TSJ'!$B62+'Sentencias TSJ'!$C62+'Sentencias TSJ'!$D62)) -> 0.88095238 | C61: =IF(('Sentencias TSJ'!$B62+'Sentencias TSJ'!$C62+'Sentencias TSJ'!$D62)=0,"-",'Sentencias TSJ'!C62/('Sentencias TSJ'!$B62+'Sentencias TSJ'!$C62+'Sentencias TSJ'!$D62)) -> 0.035714286 | D61: =IF(('Sentencias TSJ'!$B62+'Sentencias TSJ'!$C62+'Sentencias TSJ'!$D62)=0,"-",'Sentencias TSJ'!D62/('Sentencias TSJ'!$B62+'Sentencias TSJ'!$C62+'Sentencias TSJ'!$D62)) -> 0.083333333 | E61: =+'Sentencias TSJ'!E62/('Sentencias TSJ'!E62+'Sentencias TSJ'!F62+'Sentencias TSJ'!G62) -> 0 | F61: =+'Sentencias TSJ'!F62/('Sentencias TSJ'!E62+'Sentencias TSJ'!F62+'Sentencias TSJ'!G62) -> 0 | G61: =+'Sentencias TSJ'!G62/('Sentencias TSJ'!E62+'Sentencias TSJ'!F62+'Sentencias TSJ'!G62) -> 1 | H61: =IF(('Sentencias TSJ'!$H62+'Sentencias TSJ'!$I62+'Sentencias TSJ'!$J62)=0,"-",'Sentencias TSJ'!H62/('Sentencias TSJ'!$H62+'Sentencias TSJ'!$I62+'Sentencias TSJ'!$J62)) -> 0.88888889 | I61: =IF(('Sentencias TSJ'!$H62+'Sentencias TSJ'!$I62+'Sentencias TSJ'!$J62)=0,"-",'Sentencias TSJ'!I62/('Sentencias TSJ'!$H62+'Sentencias TSJ'!$I62+'Sentencias TSJ'!$J62)) -> 0.11111111 | J61: =IF(('Sentencias TSJ'!$H62+'Sentencias TSJ'!$I62+'Sentencias TSJ'!$J62)=0,"-",'Sentencias TSJ'!J62/('Sentencias TSJ'!$H62+'Sentencias TSJ'!$I62+'Sentencias TSJ'!$J62)) -> 0 | K61: =IF(('Sentencias TSJ'!$K62+'Sentencias TSJ'!$L62+'Sentencias TSJ'!$M62)=0,"-",'Sentencias TSJ'!K62/('Sentencias TSJ'!$K62+'Sentencias TSJ'!$L62+'Sentencias TSJ'!$M62)) -> 0.87234043 | L61: =IF(('Sentencias TSJ'!$K62+'Sentencias TSJ'!$L62+'Sentencias TSJ'!$M62)=0,"-",'Sentencias TSJ'!L62/('Sentencias TSJ'!$K62+'Sentencias TSJ'!$L62+'Sentencias TSJ'!$M62)) -> 0.042553191 | M61: =IF(('Sentencias TSJ'!$K62+'Sentencias TSJ'!$L62+'Sentencias TSJ'!$M62)=0,"-",'Sentencias TSJ'!M62/('Sentencias TSJ'!$K62+'Sentencias TSJ'!$L62+'Sentencias TSJ'!$M62)) -> 0.085106383
A62: Cataluña | B62: =IF(('Sentencias TSJ'!$B63+'Sentencias TSJ'!$C63+'Sentencias TSJ'!$D63)=0,"-",'Sentencias TSJ'!B63/('Sentencias TSJ'!$B63+'Sentencias TSJ'!$C63+'Sentencias TSJ'!$D63)) -> 0.86646434 | C62: =IF(('Sentencias TSJ'!$B63+'Sentencias TSJ'!$C63+'Sentencias TSJ'!$D63)=0,"-",'Sentencias TSJ'!C63/('Sentencias TSJ'!$B63+'Sentencias TSJ'!$C63+'Sentencias TSJ'!$D63)) -> 0.080424886 | D62: =IF(('Sentencias TSJ'!$B63+'Sentencias TSJ'!$C63+'Sentencias TSJ'!$D63)=0,"-",'Sentencias TSJ'!D63/('Sentencias TSJ'!$B63+'Sentencias TSJ'!$C63+'Sentencias TSJ'!$D63)) -> 0.053110774 | E62: =+'Sentencias TSJ'!E63/('Sentencias TSJ'!E63+'Sentencias TSJ'!F63+'Sentencias TSJ'!G63) -> 0.88505747 | F62: =+'Sentencias TSJ'!F63/('Sentencias TSJ'!E63+'Sentencias TSJ'!F63+'Sentencias TSJ'!G63) -> 0.08045977 | G62: =+'Sentencias TSJ'!G63/('Sentencias TSJ'!E63+'Sentencias TSJ'!F63+'Sentencias TSJ'!G63) -> 0.034482759 | H62: =IF(('Sentencias TSJ'!$H63+'Sentencias TSJ'!$I63+'Sentencias TSJ'!$J63)=0,"-",'Sentencias TSJ'!H63/('Sentencias TSJ'!$H63+'Sentencias TSJ'!$I63+'Sentencias TSJ'!$J63)) -> 0.86821705 | I62: =IF(('Sentencias TSJ'!$H63+'Sentencias TSJ'!$I63+'Sentencias TSJ'!$J63)=0,"-",'Sentencias TSJ'!I63/('Sentencias TSJ'!$H63+'Sentencias TSJ'!$I63+'Sentencias TSJ'!$J63)) -> 0.073643411 | J62: =IF(('Sentencias TSJ'!$H63+'Sentencias TSJ'!$I63+'Sentencias TSJ'!$J63)=0,"-",'Sentencias TSJ'!J63/('Sentencias TSJ'!$H63+'Sentencias TSJ'!$I63+'Sentencias TSJ'!$J63)) -> 0.058139535 | K62: =IF(('Sentencias TSJ'!$K63+'Sentencias TSJ'!$L63+'Sentencias TSJ'!$M63)=0,"-",'Sentencias TSJ'!K63/('Sentencias TSJ'!$K63+'Sentencias TSJ'!$L63+'Sentencias TSJ'!$M63)) -> 0.8685259 | L62: =IF(('Sentencias TSJ'!$K63+'Sentencias TSJ'!$L63+'Sentencias TSJ'!$M63)=0,"-",'Sentencias TSJ'!L63/('Sentencias TSJ'!$K63+'Sentencias TSJ'!$L63+'Sentencias TSJ'!$M63)) -> 0.078685259 | M62: =IF(('Sentencias TSJ'!$K63+'Sentencias TSJ'!$L63+'Sentencias TSJ'!$M63)=0,"-",'Sentencias TSJ'!M63/('Sentencias TSJ'!$K63+'Sentencias TSJ'!$L63+'Sentencias TSJ'!$M63)) -> 0.052788845
A63: C. Valenciana | B63: =IF(('Sentencias TSJ'!$B64+'Sentencias TSJ'!$C64+'Sentencias TSJ'!$D64)=0,"-",'Sentencias TSJ'!B64/('Sentencias TSJ'!$B64+'Sentencias TSJ'!$C64+'Sentencias TSJ'!$D64)) -> 0.85013624 | C63: =IF(('Sentencias TSJ'!$B64+'Sentencias TSJ'!$C64+'Sentencias TSJ'!$D64)=0,"-",'Sentencias TSJ'!C64/('Sentencias TSJ'!$B64+'Sentencias TSJ'!$C64+'Sentencias TSJ'!$D64)) -> 0.092643052 | D63: =IF(('Sentencias TSJ'!$B64+'Sentencias TSJ'!$C64+'Sentencias TSJ'!$D64)=0,"-",'Sentencias TSJ'!D64/('Sentencias TSJ'!$B64+'Sentencias TSJ'!$C64+'Sentencias TSJ'!$D64)) -> 0.057220708 | E63: =+'Sentencias TSJ'!E64/('Sentencias TSJ'!E64+'Sentencias TSJ'!F64+'Sentencias TSJ'!G64) -> 0.70967742 | F63: =+'Sentencias TSJ'!F64/('Sentencias TSJ'!E64+'Sentencias TSJ'!F64+'Sentencias TSJ'!G64) -> 0.16129032 | G63: =+'Sentencias TSJ'!G64/('Sentencias TSJ'!E64+'Sentencias TSJ'!F64+'Sentencias TSJ'!G64) -> 0.12903226 | H63: =IF(('Sentencias TSJ'!$H64+'Sentencias TSJ'!$I64+'Sentencias TSJ'!$J64)=0,"-",'Sentencias TSJ'!H64/('Sentencias TSJ'!$H64+'Sentencias TSJ'!$I64+'Sentencias TSJ'!$J64)) -> 0.83018868 | I63: =IF(('Sentencias TSJ'!$H64+'Sentencias TSJ'!$I64+'Sentencias TSJ'!$J64)=0,"-",'Sentencias TSJ'!I64/('Sentencias TSJ'!$H64+'Sentencias TSJ'!$I64+'Sentencias TSJ'!$J64)) -> 0.037735849 | J63: =IF(('Sentencias TSJ'!$H64+'Sentencias TSJ'!$I64+'Sentencias TSJ'!$J64)=0,"-",'Sentencias TSJ'!J64/('Sentencias TSJ'!$H64+'Sentencias TSJ'!$I64+'Sentencias TSJ'!$J64)) -> 0.13207547 | K63: =IF(('Sentencias TSJ'!$K64+'Sentencias TSJ'!$L64+'Sentencias TSJ'!$M64)=0,"-",'Sentencias TSJ'!K64/('Sentencias TSJ'!$K64+'Sentencias TSJ'!$L64+'Sentencias TSJ'!$M64)) -> 0.83813747 | L63: =IF(('Sentencias TSJ'!$K64+'Sentencias TSJ'!$L64+'Sentencias TSJ'!$M64)=0,"-",'Sentencias TSJ'!L64/('Sentencias TSJ'!$K64+'Sentencias TSJ'!$L64+'Sentencias TSJ'!$M64)) -> 0.090909091 | M63: =IF(('Sentencias TSJ'!$K64+'Sentencias TSJ'!$L64+'Sentencias TSJ'!$M64)=0,"-",'Sentencias TSJ'!M64/('Sentencias TSJ'!$K64+'Sentencias TSJ'!$L64+'Sentencias TSJ'!$M64)) -> 0.070953437
A64: Extremadura | B64: =IF(('Sentencias TSJ'!$B65+'Sentencias TSJ'!$C65+'Sentencias TSJ'!$D65)=0,"-",'Sentencias TSJ'!B65/('Sentencias TSJ'!$B65+'Sentencias TSJ'!$C65+'Sentencias TSJ'!$D65)) -> 0.85714286 | C64: =IF(('Sentencias TSJ'!$B65+'Sentencias TSJ'!$C65+'Sentencias TSJ'!$D65)=0,"-",'Sentencias TSJ'!C65/('Sentencias TSJ'!$B65+'Sentencias TSJ'!$C65+'Sentencias TSJ'!$D65)) -> 0.14285714 | D64: =IF(('Sentencias TSJ'!$B65+'Sentencias TSJ'!$C65+'Sentencias TSJ'!$D65)=0,"-",'Sentencias TSJ'!D65/('Sentencias TSJ'!$B65+'Sentencias TSJ'!$C65+'Sentencias TSJ'!$D65)) -> 0 | H64: =IF(('Sentencias TSJ'!$H65+'Sentencias TSJ'!$I65+'Sentencias TSJ'!$J65)=0,"-",'Sentencias TSJ'!H65/('Sentencias TSJ'!$H65+'Sentencias TSJ'!$I65+'Sentencias TSJ'!$J65)) -> 0 | I64: =IF(('Sentencias TSJ'!$H65+'Sentencias TSJ'!$I65+'Sentencias TSJ'!$J65)=0,"-",'Sentencias TSJ'!I65/('Sentencias TSJ'!$H65+'Sentencias TSJ'!$I65+'Sentencias TSJ'!$J65)) -> 0 | J64: =IF(('Sentencias TSJ'!$H65+'Sentencias TSJ'!$I65+'Sentencias TSJ'!$J65)=0,"-",'Sentencias TSJ'!J65/('Sentencias TSJ'!$H65+'Sentencias TSJ'!$I65+'Sentencias TSJ'!$J65)) -> 1 | K64: =IF(('Sentencias TSJ'!$K65+'Sentencias TSJ'!$L65+'Sentencias TSJ'!$M65)=0,"-",'Sentencias TSJ'!K65/('Sentencias TSJ'!$K65+'Sentencias TSJ'!$L65+'Sentencias TSJ'!$M65)) -> 0.82608696 | L64: =IF(('Sentencias TSJ'!$K65+'Sentencias TSJ'!$L65+'Sentencias TSJ'!$M65)=0,"-",'Sentencias TSJ'!L65/('Sentencias TSJ'!$K65+'Sentencias TSJ'!$L65+'Sentencias TSJ'!$M65)) -> 0.13043478 | M64: =IF(('Sentencias TSJ'!$K65+'Sentencias TSJ'!$L65+'Sentencias TSJ'!$M65)=0,"-",'Sentencias TSJ'!M65/('Sentencias TSJ'!$K65+'Sentencias TSJ'!$L65+'Sentencias TSJ'!$M65)) -> 0.043478261
A65: Galicia | B65: =IF(('Sentencias TSJ'!$B66+'Sentencias TSJ'!$C66+'Sentencias TSJ'!$D66)=0,"-",'Sentencias TSJ'!B66/('Sentencias TSJ'!$B66+'Sentencias TSJ'!$C66+'Sentencias TSJ'!$D66)) -> 0.94505495 | C65: =IF(('Sentencias TSJ'!$B66+'Sentencias TSJ'!$C66+'Sentencias TSJ'!$D66)=0,"-",'Sentencias TSJ'!C66/('Sentencias TSJ'!$B66+'Sentencias TSJ'!$C66+'Sentencias TSJ'!$D66)) -> 0.021978022 | D65: =IF(('Sentencias TSJ'!$B66+'Sentencias TSJ'!$C66+'Sentencias TSJ'!$D66)=0,"-",'Sentencias TSJ'!D66/('Sentencias TSJ'!$B66+'Sentencias TSJ'!$C66+'Sentencias TSJ'!$D66)) -> 0.032967033 | E65: =+'Sentencias TSJ'!E66/('Sentencias TSJ'!E66+'Sentencias TSJ'!F66+'Sentencias TSJ'!G66) -> 0.8 | F65: =+'Sentencias TSJ'!F66/('Sentencias TSJ'!E66+'Sentencias TSJ'!F66+'Sentencias TSJ'!G66) -> 0.2 | G65: =+'Sentencias TSJ'!G66/('Sentencias TSJ'!E66+'Sentencias TSJ'!F66+'Sentencias TSJ'!G66) -> 0 | H65: =IF(('Sentencias TSJ'!$H66+'Sentencias TSJ'!$I66+'Sentencias TSJ'!$J66)=0,"-",'Sentencias TSJ'!H66/('Sentencias TSJ'!$H66+'Sentencias TSJ'!$I66+'Sentencias TSJ'!$J66)) -> 1 | I65: =IF(('Sentencias TSJ'!$H66+'Sentencias TSJ'!$I66+'Sentencias TSJ'!$J66)=0,"-",'Sentencias TSJ'!I66/('Sentencias TSJ'!$H66+'Sentencias TSJ'!$I66+'Sentencias TSJ'!$J66)) -> 0 | J65: =IF(('Sentencias TSJ'!$H66+'Sentencias TSJ'!$I66+'Sentencias TSJ'!$J66)=0,"-",'Sentencias TSJ'!J66/('Sentencias TSJ'!$H66+'Sentencias TSJ'!$I66+'Sentencias TSJ'!$J66)) -> 0 | K65: =IF(('Sentencias TSJ'!$K66+'Sentencias TSJ'!$L66+'Sentencias TSJ'!$M66)=0,"-",'Sentencias TSJ'!K66/('Sentencias TSJ'!$K66+'Sentencias TSJ'!$L66+'Sentencias TSJ'!$M66)) -> 0.94174757 | L65: =IF(('Sentencias TSJ'!$K66+'Sentencias TSJ'!$L66+'Sentencias TSJ'!$M66)=0,"-",'Sentencias TSJ'!L66/('Sentencias TSJ'!$K66+'Sentencias TSJ'!$L66+'Sentencias TSJ'!$M66)) -> 0.029126214 | M65: =IF(('Sentencias TSJ'!$K66+'Sentencias TSJ'!$L66+'Sentencias TSJ'!$M66)=0,"-",'Sentencias TSJ'!M66/('Sentencias TSJ'!$K66+'Sentencias TSJ'!$L66+'Sentencias TSJ'!$M66)) -> 0.029126214
A66: Madrid | B66: =IF(('Sentencias TSJ'!$B67+'Sentencias TSJ'!$C67+'Sentencias TSJ'!$D67)=0,"-",'Sentencias TSJ'!B67/('Sentencias TSJ'!$B67+'Sentencias TSJ'!$C67+'Sentencias TSJ'!$D67)) -> 0.92433538 | C66: =IF(('Sentencias TSJ'!$B67+'Sentencias TSJ'!$C67+'Sentencias TSJ'!$D67)=0,"-",'Sentencias TSJ'!C67/('Sentencias TSJ'!$B67+'Sentencias TSJ'!$C67+'Sentencias TSJ'!$D67)) -> 0.034764826 | D66: =IF(('Sentencias TSJ'!$B67+'Sentencias TSJ'!$C67+'Sentencias TSJ'!$D67)=0,"-",'Sentencias TSJ'!D67/('Sentencias TSJ'!$B67+'Sentencias TSJ'!$C67+'Sentencias TSJ'!$D67)) -> 0.040899796 | E66: =+'Sentencias TSJ'!E67/('Sentencias TSJ'!E67+'Sentencias TSJ'!F67+'Sentencias TSJ'!G67) -> 0.8490566 | F66: =+'Sentencias TSJ'!F67/('Sentencias TSJ'!E67+'Sentencias TSJ'!F67+'Sentencias TSJ'!G67) -> 0.056603774 | G66: =+'Sentencias TSJ'!G67/('Sentencias TSJ'!E67+'Sentencias TSJ'!F67+'Sentencias TSJ'!G67) -> 0.094339623 | H66: =IF(('Sentencias TSJ'!$H67+'Sentencias TSJ'!$I67+'Sentencias TSJ'!$J67)=0,"-",'Sentencias TSJ'!H67/('Sentencias TSJ'!$H67+'Sentencias TSJ'!$I67+'Sentencias TSJ'!$J67)) -> 0.86885246 | I66: =IF(('Sentencias TSJ'!$H67+'Sentencias TSJ'!$I67+'Sentencias TSJ'!$J67)=0,"-",'Sentencias TSJ'!I67/('Sentencias TSJ'!$H67+'Sentencias TSJ'!$I67+'Sentencias TSJ'!$J67)) -> 0.032786885 | J66: =IF(('Sentencias TSJ'!$H67+'Sentencias TSJ'!$I67+'Sentencias TSJ'!$J67)=0,"-",'Sentencias TSJ'!J67/('Sentencias TSJ'!$H67+'Sentencias TSJ'!$I67+'Sentencias TSJ'!$J67)) -> 0.098360656 | K66: =IF(('Sentencias TSJ'!$K67+'Sentencias TSJ'!$L67+'Sentencias TSJ'!$M67)=0,"-",'Sentencias TSJ'!K67/('Sentencias TSJ'!$K67+'Sentencias TSJ'!$L67+'Sentencias TSJ'!$M67)) -> 0.91210614 | L66: =IF(('Sentencias TSJ'!$K67+'Sentencias TSJ'!$L67+'Sentencias TSJ'!$M67)=0,"-",'Sentencias TSJ'!L67/('Sentencias TSJ'!$K67+'Sentencias TSJ'!$L67+'Sentencias TSJ'!$M67)) -> 0.036484245 | M66: =IF(('Sentencias TSJ'!$K67+'Sentencias TSJ'!$L67+'Sentencias TSJ'!$M67)=0,"-",'Sentencias TSJ'!M67/('Sentencias TSJ'!$K67+'Sentencias TSJ'!$L67+'Sentencias TSJ'!$M67)) -> 0.051409619
A67: Murcia | B67: =IF(('Sentencias TSJ'!$B68+'Sentencias TSJ'!$C68+'Sentencias TSJ'!$D68)=0,"-",'Sentencias TSJ'!B68/('Sentencias TSJ'!$B68+'Sentencias TSJ'!$C68+'Sentencias TSJ'!$D68)) -> 0.88235294 | C67: =IF(('Sentencias TSJ'!$B68+'Sentencias TSJ'!$C68+'Sentencias TSJ'!$D68)=0,"-",'Sentencias TSJ'!C68/('Sentencias TSJ'!$B68+'Sentencias TSJ'!$C68+'Sentencias TSJ'!$D68)) -> 0.058823529 | D67: =IF(('Sentencias TSJ'!$B68+'Sentencias TSJ'!$C68+'Sentencias TSJ'!$D68)=0,"-",'Sentencias TSJ'!D68/('Sentencias TSJ'!$B68+'Sentencias TSJ'!$C68+'Sentencias TSJ'!$D68)) -> 0.058823529 | E67: =+'Sentencias TSJ'!E68/('Sentencias TSJ'!E68+'Sentencias TSJ'!F68+'Sentencias TSJ'!G68) -> 0 | F67: =+'Sentencias TSJ'!F68/('Sentencias TSJ'!E68+'Sentencias TSJ'!F68+'Sentencias TSJ'!G68) -> 1 | G67: =+'Sentencias TSJ'!G68/('Sentencias TSJ'!E68+'Sentencias TSJ'!F68+'Sentencias TSJ'!G68) -> 0 | H67: =IF(('Sentencias TSJ'!$H68+'Sentencias TSJ'!$I68+'Sentencias TSJ'!$J68)=0,"-",'Sentencias TSJ'!H68/('Sentencias TSJ'!$H68+'Sentencias TSJ'!$I68+'Sentencias TSJ'!$J68)) -> 1 | I67: =IF(('Sentencias TSJ'!$H68+'Sentencias TSJ'!$I68+'Sentencias TSJ'!$J68)=0,"-",'Sentencias TSJ'!I68/('Sentencias TSJ'!$H68+'Sentencias TSJ'!$I68+'Sentencias TSJ'!$J68)) -> 0 | J67: =IF(('Sentencias TSJ'!$H68+'Sentencias TSJ'!$I68+'Sentencias TSJ'!$J68)=0,"-",'Sentencias TSJ'!J68/('Sentencias TSJ'!$H68+'Sentencias TSJ'!$I68+'Sentencias TSJ'!$J68)) -> 0 | K67: =IF(('Sentencias TSJ'!$K68+'Sentencias TSJ'!$L68+'Sentencias TSJ'!$M68)=0,"-",'Sentencias TSJ'!K68/('Sentencias TSJ'!$K68+'Sentencias TSJ'!$L68+'Sentencias TSJ'!$M68)) -> 0.85135135 | L67: =IF(('Sentencias TSJ'!$K68+'Sentencias TSJ'!$L68+'Sentencias TSJ'!$M68)=0,"-",'Sentencias TSJ'!L68/('Sentencias TSJ'!$K68+'Sentencias TSJ'!$L68+'Sentencias TSJ'!$M68)) -> 0.094594595 | M67: =IF(('Sentencias TSJ'!$K68+'Sentencias TSJ'!$L68+'Sentencias TSJ'!$M68)=0,"-",'Sentencias TSJ'!M68/('Sentencias TSJ'!$K68+'Sentencias TSJ'!$L68+'Sentencias TSJ'!$M68)) -> 0.054054054
A68: Navarra | B68: =IF(('Sentencias TSJ'!$B69+'Sentencias TSJ'!$C69+'Sentencias TSJ'!$D69)=0,"-",'Sentencias TSJ'!B69/('Sentencias TSJ'!$B69+'Sentencias TSJ'!$C69+'Sentencias TSJ'!$D69)) -> 0.9375 | C68: =IF(('Sentencias TSJ'!$B69+'Sentencias TSJ'!$C69+'Sentencias TSJ'!$D69)=0,"-",'Sentencias TSJ'!C69/('Sentencias TSJ'!$B69+'Sentencias TSJ'!$C69+'Sentencias TSJ'!$D69)) -> 0.0625 | D68: =IF(('Sentencias TSJ'!$B69+'Sentencias TSJ'!$C69+'Sentencias TSJ'!$D69)=0,"-",'Sentencias TSJ'!D69/('Sentencias TSJ'!$B69+'Sentencias TSJ'!$C69+'Sentencias TSJ'!$D69)) -> 0 | E68: =+'Sentencias TSJ'!E69/('Sentencias TSJ'!E69+'Sentencias TSJ'!F69+'Sentencias TSJ'!G69) -> 0.5 | F68: =+'Sentencias TSJ'!F69/('Sentencias TSJ'!E69+'Sentencias TSJ'!F69+'Sentencias TSJ'!G69) -> 0.5 | G68: =+'Sentencias TSJ'!G69/('Sentencias TSJ'!E69+'Sentencias TSJ'!F69+'Sentencias TSJ'!G69) -> 0 | H68: =IF(('Sentencias TSJ'!$H69+'Sentencias TSJ'!$I69+'Sentencias TSJ'!$J69)=0,"-",'Sentencias TSJ'!H69/('Sentencias TSJ'!$H69+'Sentencias TSJ'!$I69+'Sentencias TSJ'!$J69)) -> 0 | I68: =IF(('Sentencias TSJ'!$H69+'Sentencias TSJ'!$I69+'Sentencias TSJ'!$J69)=0,"-",'Sentencias TSJ'!I69/('Sentencias TSJ'!$H69+'Sentencias TSJ'!$I69+'Sentencias TSJ'!$J69)) -> 0 | J68: =IF(('Sentencias TSJ'!$H69+'Sentencias TSJ'!$I69+'Sentencias TSJ'!$J69)=0,"-",'Sentencias TSJ'!J69/('Sentencias TSJ'!$H69+'Sentencias TSJ'!$I69+'Sentencias TSJ'!$J69)) -> 1 | K68: =IF(('Sentencias TSJ'!$K69+'Sentencias TSJ'!$L69+'Sentencias TSJ'!$M69)=0,"-",'Sentencias TSJ'!K69/('Sentencias TSJ'!$K69+'Sentencias TSJ'!$L69+'Sentencias TSJ'!$M69)) -> 0.89705882 | L68: =IF(('Sentencias TSJ'!$K69+'Sentencias TSJ'!$L69+'Sentencias TSJ'!$M69)=0,"-",'Sentencias TSJ'!L69/('Sentencias TSJ'!$K69+'Sentencias TSJ'!$L69+'Sentencias TSJ'!$M69)) -> 0.073529412 | M68: =IF(('Sentencias TSJ'!$K69+'Sentencias TSJ'!$L69+'Sentencias TSJ'!$M69)=0,"-",'Sentencias TSJ'!M69/('Sentencias TSJ'!$K69+'Sentencias TSJ'!$L69+'Sentencias TSJ'!$M69)) -> 0.029411765
A69: País Vasco | B69: =IF(('Sentencias TSJ'!$B70+'Sentencias TSJ'!$C70+'Sentencias TSJ'!$D70)=0,"-",'Sentencias TSJ'!B70/('Sentencias TSJ'!$B70+'Sentencias TSJ'!$C70+'Sentencias TSJ'!$D70)) -> 0.85333333 | C69: =IF(('Sentencias TSJ'!$B70+'Sentencias TSJ'!$C70+'Sentencias TSJ'!$D70)=0,"-",'Sentencias TSJ'!C70/('Sentencias TSJ'!$B70+'Sentencias TSJ'!$C70+'Sentencias TSJ'!$D70)) -> 0.033333333 | D69: =IF(('Sentencias TSJ'!$B70+'Sentencias TSJ'!$C70+'Sentencias TSJ'!$D70)=0,"-",'Sentencias TSJ'!D70/('Sentencias TSJ'!$B70+'Sentencias TSJ'!$C70+'Sentencias TSJ'!$D70)) -> 0.11333333 | E69: =+'Sentencias TSJ'!E70/('Sentencias TSJ'!E70+'Sentencias TSJ'!F70+'Sentencias TSJ'!G70) -> 0.86956522 | F69: =+'Sentencias TSJ'!F70/('Sentencias TSJ'!E70+'Sentencias TSJ'!F70+'Sentencias TSJ'!G70) -> 0.043478261 | G69: =+'Sentencias TSJ'!G70/('Sentencias TSJ'!E70+'Sentencias TSJ'!F70+'Sentencias TSJ'!G70) -> 0.086956522 | H69: =IF(('Sentencias TSJ'!$H70+'Sentencias TSJ'!$I70+'Sentencias TSJ'!$J70)=0,"-",'Sentencias TSJ'!H70/('Sentencias TSJ'!$H70+'Sentencias TSJ'!$I70+'Sentencias TSJ'!$J70)) -> 0.6 | I69: =IF(('Sentencias TSJ'!$H70+'Sentencias TSJ'!$I70+'Sentencias TSJ'!$J70)=0,"-",'Sentencias TSJ'!I70/('Sentencias TSJ'!$H70+'Sentencias TSJ'!$I70+'Sentencias TSJ'!$J70)) -> 0.05 | J69: =IF(('Sentencias TSJ'!$H70+'Sentencias TSJ'!$I70+'Sentencias TSJ'!$J70)=0,"-",'Sentencias TSJ'!J70/('Sentencias TSJ'!$H70+'Sentencias TSJ'!$I70+'Sentencias TSJ'!$J70)) -> 0.35 | K69: =IF(('Sentencias TSJ'!$K70+'Sentencias TSJ'!$L70+'Sentencias TSJ'!$M70)=0,"-",'Sentencias TSJ'!K70/('Sentencias TSJ'!$K70+'Sentencias TSJ'!$L70+'Sentencias TSJ'!$M70)) -> 0.82901554 | L69: =IF(('Sentencias TSJ'!$K70+'Sentencias TSJ'!$L70+'Sentencias TSJ'!$M70)=0,"-",'Sentencias TSJ'!L70/('Sentencias TSJ'!$K70+'Sentencias TSJ'!$L70+'Sentencias TSJ'!$M70)) -> 0.03626943 | M69: =IF(('Sentencias TSJ'!$K70+'Sentencias TSJ'!$L70+'Sentencias TSJ'!$M70)=0,"-",'Sentencias TSJ'!M70/('Sentencias TSJ'!$K70+'Sentencias TSJ'!$L70+'Sentencias TSJ'!$M70)) -> 0.13471503
A70: La Rioja | B70: =IF(('Sentencias TSJ'!$B71+'Sentencias TSJ'!$C71+'Sentencias TSJ'!$D71)=0,"-",'Sentencias TSJ'!B71/('Sentencias TSJ'!$B71+'Sentencias TSJ'!$C71+'Sentencias TSJ'!$D71)) -> 0.85 | C70: =IF(('Sentencias TSJ'!$B71+'Sentencias TSJ'!$C71+'Sentencias TSJ'!$D71)=0,"-",'Sentencias TSJ'!C71/('Sentencias TSJ'!$B71+'Sentencias TSJ'!$C71+'Sentencias TSJ'!$D71)) -> 0.15 | D70: =IF(('Sentencias TSJ'!$B71+'Sentencias TSJ'!$C71+'Sentencias TSJ'!$D71)=0,"-",'Sentencias TSJ'!D71/('Sentencias TSJ'!$B71+'Sentencias TSJ'!$C71+'Sentencias TSJ'!$D71)) -> 0 | H70: =IF(('Sentencias TSJ'!$H71+'Sentencias TSJ'!$I71+'Sentencias TSJ'!$J71)=0,"-",'Sentencias TSJ'!H71/('Sentencias TSJ'!$H71+'Sentencias TSJ'!$I71+'Sentencias TSJ'!$J71)) -> - | I70: =IF(('Sentencias TSJ'!$H71+'Sentencias TSJ'!$I71+'Sentencias TSJ'!$J71)=0,"-",'Sentencias TSJ'!I71/('Sentencias TSJ'!$H71+'Sentencias TSJ'!$I71+'Sentencias TSJ'!$J71)) -> - | J70: =IF(('Sentencias TSJ'!$H71+'Sentencias TSJ'!$I71+'Sentencias TSJ'!$J71)=0,"-",'Sentencias TSJ'!J71/('Sentencias TSJ'!$H71+'Sentencias TSJ'!$I71+'Sentencias TSJ'!$J71)) -> - | K70: =IF(('Sentencias TSJ'!$K71+'Sentencias TSJ'!$L71+'Sentencias TSJ'!$M71)=0,"-",'Sentencias TSJ'!K71/('Sentencias TSJ'!$K71+'Sentencias TSJ'!$L71+'Sentencias TSJ'!$M71)) -> 0.85 | L70: =IF(('Sentencias TSJ'!$K71+'Sentencias TSJ'!$L71+'Sentencias TSJ'!$M71)=0,"-",'Sentencias TSJ'!L71/('Sentencias TSJ'!$K71+'Sentencias TSJ'!$L71+'Sentencias TSJ'!$M71)) -> 0.15 | M70: =IF(('Sentencias TSJ'!$K71+'Sentencias TSJ'!$L71+'Sentencias TSJ'!$M71)=0,"-",'Sentencias TSJ'!M71/('Sentencias TSJ'!$K71+'Sentencias TSJ'!$L71+'Sentencias TSJ'!$M71)) -> 0
A71: TOTAL | B71: =IF(('Sentencias TSJ'!$B72+'Sentencias TSJ'!$C72+'Sentencias TSJ'!$D72)=0,"-",'Sentencias TSJ'!B72/('Sentencias TSJ'!$B72+'Sentencias TSJ'!$C72+'Sentencias TSJ'!$D72)) -> 0.87034483 | C71: =IF(('Sentencias TSJ'!$B72+'Sentencias TSJ'!$C72+'Sentencias TSJ'!$D72)=0,"-",'Sentencias TSJ'!C72/('Sentencias TSJ'!$B72+'Sentencias TSJ'!$C72+'Sentencias TSJ'!$D72)) -> 0.070689655 | D71: =IF(('Sentencias TSJ'!$B72+'Sentencias TSJ'!$C72+'Sentencias TSJ'!$D72)=0,"-",'Sentencias TSJ'!D72/('Sentencias TSJ'!$B72+'Sentencias TSJ'!$C72+'Sentencias TSJ'!$D72)) -> 0.058965517 | E71: =+'Sentencias TSJ'!E72/('Sentencias TSJ'!E72+'Sentencias TSJ'!F72+'Sentencias TSJ'!G72) -> 0.7544484 | F71: =+'Sentencias TSJ'!F72/('Sentencias TSJ'!E72+'Sentencias TSJ'!F72+'Sentencias TSJ'!G72) -> 0.16014235 | G71: =+'Sentencias TSJ'!G72/('Sentencias TSJ'!E72+'Sentencias TSJ'!F72+'Sentencias TSJ'!G72) -> 0.085409253 | H71: =IF(('Sentencias TSJ'!$H72+'Sentencias TSJ'!$I72+'Sentencias TSJ'!$J72)=0,"-",'Sentencias TSJ'!H72/('Sentencias TSJ'!$H72+'Sentencias TSJ'!$I72+'Sentencias TSJ'!$J72)) -> 0.84067797 | I71: =IF(('Sentencias TSJ'!$H72+'Sentencias TSJ'!$I72+'Sentencias TSJ'!$J72)=0,"-",'Sentencias TSJ'!I72/('Sentencias TSJ'!$H72+'Sentencias TSJ'!$I72+'Sentencias TSJ'!$J72)) -> 0.062711864 | J71: =IF(('Sentencias TSJ'!$H72+'Sentencias TSJ'!$I72+'Sentencias TSJ'!$J72)=0,"-",'Sentencias TSJ'!J72/('Sentencias TSJ'!$H72+'Sentencias TSJ'!$I72+'Sentencias TSJ'!$J72)) -> 0.096610169 | K71: =IF(('Sentencias TSJ'!$K72+'Sentencias TSJ'!$L72+'Sentencias TSJ'!$M72)=0,"-",'Sentencias TSJ'!K72/('Sentencias TSJ'!$K72+'Sentencias TSJ'!$L72+'Sentencias TSJ'!$M72)) -> 0.85706709 | L71: =IF(('Sentencias TSJ'!$K72+'Sentencias TSJ'!$L72+'Sentencias TSJ'!$M72)=0,"-",'Sentencias TSJ'!L72/('Sentencias TSJ'!$K72+'Sentencias TSJ'!$L72+'Sentencias TSJ'!$M72)) -> 0.076107133 | M71: =IF(('Sentencias TSJ'!$K72+'Sentencias TSJ'!$L72+'Sentencias TSJ'!$M72)=0,"-",'Sentencias TSJ'!M72/('Sentencias TSJ'!$K72+'Sentencias TSJ'!$L72+'Sentencias TSJ'!$M72)) -> 0.066825776

Sheet Decretos
B6: Vivienda | G6: Uso distinto a vivienda | L6: Total
B7: Entrega de posesion | C7: Enervacion | D7: Archivo para ejecucion | E7: Otras causas | F7: Total | G7: Entrega de posesion | H7: Enervacion | I7: Archivo para ejecucion | J7: Otras causas | K7: Total | L7: Entrega de posesion | M7: Enervacion | N7: Archivo para ejecucion | O7: Otras causas | P7: Total
A8: Andalucía | B8: 152 | C8: 22 | D8: 405 | E8: 225 | F8: 804 | G8: 17 | H8: 6 | I8: 55 | J8: 12 | K8: 90 | L8: 169 | M8: 28 | N8: 460 | O8: 237 | P8: 894 | Q8: =+B8+C8 -> 174 | R8: =+Q8/'Sentencias TSJ'!O8*100000 -> 1.9690415
A9: Aragón | B9: 29 | C9: 8 | D9: 72 | E9: 46 | F9: 155 | G9: 4 | H9: 5 | I9: 12 | J9: 22 | K9: 43 | L9: 33 | M9: 13 | N9: 84 | O9: 68 | P9: 198 | Q9: =+B9+C9 -> 37 | R9: =+Q9/'Sentencias TSJ'!O9*100000 -> 2.7229668
A10: Asturias | B10: 22 | C10: 3 | D10: 88 | E10: 37 | F10: 150 | G10: 0 | H10: 0 | I10: 14 | J10: 3 | K10: 17 | L10: 22 | M10: 3 | N10: 102 | O10: 40 | P10: 167 | Q10: =+B10+C10 -> 25 | R10: =+Q10/'Sentencias TSJ'!O10*100000 -> 2.466629
A11: Illes Balears | B11: 50 | C11: 4 | D11: 58 | E11: 45 | F11: 157 | G11: 5 | H11: 3 | I11: 14 | J11: 7 | K11: 29 | L11: 55 | M11: 7 | N11: 72 | O11: 52 | P11: 186 | Q11: =+B11+C11 -> 54 | R11: =+Q11/'Sentencias TSJ'!O11*100000 -> 4.3637069
A12: Canarias | B12: 66 | C12: 4 | D12: 82 | E12: 67 | F12: 219 | G12: 13 | H12: 0 | I12: 14 | J12: 3 | K12: 30 | L12: 79 | M12: 4 | N12: 96 | O12: 70 | P12: 249 | Q12: =+B12+C12 -> 70 | R12: =+Q12/'Sentencias TSJ'!O12*100000 -> 3.1111443
A13: Cantabria | B13: 5 | C13: 3 | D13: 48 | E13: 20 | F13: 76 | G13: 3 | H13: 0 | I13: 8 | J13: 1 | K13: 12 | L13: 8 | M13: 3 | N13: 56 | O13: 21 | P13: 88 | Q13: =+B13+C13 -> 8 | R13: =+Q13/'Sentencias TSJ'!O13*100000 -> 1.346883
A14: Castilla y León | B14: 56 | C14: 1 | D14: 113 | E14: 27 | F14: 197 | G14: 5 | H14: 0 | I14: 33 | J14: 9 | K14: 47 | L14: 61 | M14: 1 | N14: 146 | O14: 36 | P14: 244 | Q14: =+B14+C14 -> 57 | R14: =+Q14/'Sentencias TSJ'!O14*100000 -> 2.3764853
A15: Castilla-La Mancha | B15: 51 | C15: 14 | D15: 111 | E15: 76 | F15: 252 | G15: 6 | H15: 4 | I15: 15 | J15: 11 | K15: 36 | L15: 57 | M15: 18 | N15: 126 | O15: 87 | P15: 288 | Q15: =+B15+C15 -> 65 | R15: =+Q15/'Sentencias TSJ'!O15*100000 -> 3.067146
A16: Cataluña | B16: 213 | C16: 110 | D16: 861 | E16: 295 | F16: 1479 | G16: 29 | H16: 9 | I16: 97 | J16: 41 | K16: 176 | L16: 242 | M16: 119 | N16: 958 | O16: 336 | P16: 1655 | Q16: =+B16+C16 -> 323 | R16: =+Q16/'Sentencias TSJ'!O16*100000 -> 3.9650073
A17: C. Valenciana | B17: 141 | C17: 31 | D17: 350 | E17: 185 | F17: 707 | G17: 12 | H17: 0 | I17: 48 | J17: 17 | K17: 77 | L17: 153 | M17: 31 | N17: 398 | O17: 202 | P17: 784 | Q17: =+B17+C17 -> 172 | R17: =+Q17/'Sentencias TSJ'!O17*100000 -> 3.1758675
A18: Extremadura | B18: 16 | C18: 1 | D18: 27 | E18: 23 | F18: 67 | G18: 2 | H18: 0 | I18: 2 | J18: 3 | K18: 7 | L18: 18 | M18: 1 | N18: 29 | O18: 26 | P18: 74 | Q18: =+B18+C18 -> 17 | R18: =+Q18/'Sentencias TSJ'!O18*100000 -> 1.6165258
A19: Galicia | B19: 50 | C19: 2 | D19: 136 | E19: 50 | F19: 238 | G19: 5 | H19: 0 | I19: 11 | J19: 4 | K19: 20 | L19: 55 | M19: 2 | N19: 147 | O19: 54 | P19: 258 | Q19: =+B19+C19 -> 52 | R19: =+Q19/'Sentencias TSJ'!O19*100000 -> 1.916578
... A24: La Rioja | B24: 25 | C24: 0 | D24: 8 | E24: 11 | F24: 44 | G24: 2 | H24: 0 | I24: 1 | J24: 0 | K24: 3 | L24: 27 | M24: 0 | N24: 9 | O24: 11 | P24: 47 | Q24: =+B24+C24 -> 25 | R24: =+Q24/'Sentencias TSJ'!O24*100000 -> 7.6385791
A25: TOTAL | B25: 1130 | C25: 297 | D25: 3217 | E25: 1536 | F25: 6180 | G25: 129 | H25: 38 | I25: 412 | J25: 185 | K25: 764 | L25: 1259 | M25: 335 | N25: 3629 | O25: 1721 | P25: 6944 | Q25: =SUM(Q8:Q24) -> 1427 | R25: =SUM(R8:R24) -> 48.950625

Sheet Evol sent. y decret.
B6: Sentencias | E6: Decretos
B7: Vivienda | C7: Uso distinto a vivienda | D7: Total | E7: Vivienda | F7: Uso distinto a vivienda | G7: Total
A8: Andalucía | B8: -0.27548807 | C8: -0.62068966 | D8: -0.30912162 | E8: -0.18209563 | F8: -0.48275862 | G8: -0.22731201
A9: Aragón | B9: -0.1875 | C9: -0.22222222 | D9: -0.016528926 | E9: -0.21319797 | F9: -0.15686275 | G9: -0.2016129
A10: Asturias | B10: 0.29090909 | C10: -0.4 | D10: 0.17142857 | E10: -0.032258065 | F10: 0.30769231 | G10: -0.005952381
A11: Illes Balears | B11: -0.39333333 | C11: -0.58823529 | D11: -0.44502618 | E11: -0.42066421 | F11: -0.60810811 | G11: -0.46086957
A12: Canarias | B12: -0.16256158 | C12: -0.28571429 | D12: -0.12757202 | E12: -0.37606838 | F12: -0.23076923 | G12: -0.36153846
A13: Cantabria | B13: 0.23809524 | C13: 1 | D13: 0.53846154 | E13: 0.070422535 | F13: -0.36842105 | G13: -0.022222222
A14: Castilla y León | B14: -0.088235294 | C14: -0.1875 | D14: -0.015151515 | E14: -0.23643411 | F14: -0.20338983 | G14: -0.23028391
A15: Castilla-La Mancha | B15: -0.34166667 | C15: 3 | D15: -0.3037037 | E15: -0.041825095 | F15: 0.89473684 | G15: 0.021276596
A16: Cataluña | B16: -0.15479876 | C16: -0.12328767 | D16: -0.15059222 | E16: -0.14360162 | F16: -0.32307692 | G16: -0.16708606
A17: C. Valenciana | B17: -0.11622276 | C17: -0.36111111 | D17: -0.096192385 | E17: -0.11955168 | F17: -0.19791667 | G17: -0.12791991
A18: Extremadura | B18: -0.14285714 | C18: -0.66666667 | D18: -0.14814815 | E18: -0.33 | F18: 0 | G18: -0.30841121
A19: Galicia | B19: -0.21052632 | C19: -0.090909091 | D19: -0.28472222 | E19: -0.19047619 | F19: -0.64285714 | G19: -0.26285714
... A23: País Vasco | B23: 0.2920354 | C23: 2.5 | D23: 0.40875912 | E23: 0.17010309 | F23: 0.13333333 | G23: 0.16517857
A24: La Rioja | B24: 0.33333333 | C24: - | D24: 0.53846154 | E24: -0.1372549 | F24: -0.25 | G24: -0.14545455
A25: TOTAL | B25: -0.12614416 | C25: -0.19127517 | D25: -0.11686183 | E25: -0.15261209 | F25: -0.31294964 | G25: -0.1738251
A500: Vivienda
B501: 2024 | E501: 2025
B502: 463 | C502: 41 | D502: 34 | E502: 461 | F502: 30 | G502: 43
B503: 73 | C503: 15 | D503: 3 | E503: 96 | F503: 12 | G503: 4
B504: 45 | C504: 1 | D504: 2 | E504: 55 | F504: 3 | G504: 2
B505: 139 | C505: 14 | D505: 5 | E505: 150 | F505: 10 | G505: 14
B506: 187 | C506: 21 | D506: 24 | E506: 203 | F506: 7 | G506: 19
B507: 41 | C507: 3 | D507: 5 | E507: 42 | F507: 3 | G507: 4
B508: 79 | C508: 10 | D508: 5 | E508: 102 | F508: 8 | G508: 6
B509: 109 | C509: 15 | D509: 7 | E509: 120 | F509: 9 | G509: 5
B510: 946 | C510: 57 | D510: 65 | E510: 969 | F510: 67 | G510: 73
B511: 375 | C511: 47 | D511: 23 | E511: 413 | F511: 21 | G511: 29
B512: 19 | C512: 4 | D512: 0 | E512: 21 | F512: 1 | G512: 2
B513: 102 | C513: 13 | D513: 6 | E513: 114 | F513: 8 | G513: 11
... B519: 3247 | C519: 288 | D519: 226 | E519: 3496 | F519: 216 | G519: 260
A520: sentencias
A521: Distinto a vivienda
B522: VIVIENDA. ESTIMAMDO DEMANDA TOTALMENTE | C522: VIVIENDA. ESTIMAMDO DEMANDA PARCIALMENTE | D522: VIVIENDA. DESESTIMANDO LA DEMANDA | E522: OTRO USO DISTINTO VIVIENDA. ESTIMAMDO DEMANDA TOTALMENTE | F522: OTRO USO DISTINTO VIVIENDA. ESTIMAMDO DEMANDA PARCIALMENTE | G522: OTRO USO DISTINTO VIVIENDA. DESESTIMANDO LA DEMANDA | H522: VIVIENDA. ESTIMAMDO DEMANDA TOTALMENTE | I522: VIVIENDA. ESTIMAMDO DEMANDA PARCIALMENTE | J522: VIVIENDA. DESESTIMANDO LA DEMANDA | K522: OTRO USO DISTINTO VIVIENDA. ESTIMAMDO DEMANDA TOTALMENTE | L522: OTRO USO DISTINTO VIVIENDA. ESTIMAMDO DEMANDA PARCIALMENTE | M522: OTRO USO DISTINTO VIVIENDA. DESESTIMANDO LA DEMANDA
B524: 463 | C524: 41 | D524: 34 | E524: 26 | F524: 2 | G524: 2 | H524: 461 | I524: 30 | J524: 43 | K524: 48 | L524: 7 | M524: 3
B525: 73 | C525: 15 | D525: 3 | E525: 7 | F525: 1 | G525: 1 | H525: 96 | I525: 12 | J525: 4 | K525: 6 | L525: 1 | M525: 2
B526: 45 | C526: 1 | D526: 2 | E526: 3 | F526: 1 | G526: 3 | H526: 55 | I526: 3 | J526: 2 | K526: 7 | L526: 0 | M526: 3
B527: 139 | C527: 14 | D527: 5 | E527: 12 | F527: 2 | G527: 3 | H527: 150 | I527: 10 | J527: 14 | K527: 12 | L527: 3 | M527: 2
B528: 187 | C528: 21 | D528: 24 | E528: 10 | F528: 3 | G528: 3 | H528: 203 | I528: 7 | J528: 19 | K528: 12 | L528: 1 | M528: 1
B529: 41 | C529: 3 | D529: 5 | E529: 5 | F529: 0 | G529: 2 | H529: 42 | I529: 3 | J529: 4 | K529: 2 | L529: 0 | M529: 1
B530: 79 | C530: 10 | D530: 5 | E530: 10 | F530: 2 | G530: 2 | H530: 102 | I530: 8 | J530: 6 | K530: 12 | L530: 1 | M530: 3
B531: 109 | C531: 15 | D531: 7 | E531: 9 | F531: 2 | G531: 1 | H531: 120 | I531: 9 | J531: 5 | K531: 1 | L531: 0 | M531: 0
B532: 946 | C532: 57 | D532: 65 | E532: 64 | F532: 4 | G532: 7 | H532: 969 | I532: 67 | J532: 73 | K532: 52 | L532: 8 | M532: 13
B533: 375 | C533: 47 | D533: 23 | E533: 30 | F533: 3 | G533: 1 | H533: 413 | I533: 21 | J533: 29 | K533: 23 | L533: 8 | M533: 5
B534: 19 | C534: 4 | D534: 0 | E534: 4 | F534: 0 | G534: 0 | H534: 21 | I534: 1 | J534: 2 | K534: 2 | L534: 0 | M534: 1
B535: 102 | C535: 13 | D535: 6 | E535: 9 | F535: 1 | G535: 2 | H535: 114 | I535: 8 | J535: 11 | K535: 9 | L535: 2 | M535: 0
... B541: 3247 | C541: 288 | D541: 226 | E541: 251 | F541: 31 | G541: 40 | H541: 3496 | I541: 216 | J541: 260 | K541: 223 | L541: 37 | M541: 38
B542: 2024 V | C542: 2025V | D542: 2024 Nov | E542: 2025NOv | F542: 2024total | G542: 2025total
B543: =SUM(B524:D524) -> 538 | C543: =SUM(H524:J524) -> 534 | D543: =SUM(E524:G524) -> 30 | E543: =SUM(K524:M524) -> 58 | F543: =B543+D543 -> 568 | G543: =C543+E543 -> 592
B544: =SUM(B525:D525) -> 91 | C544: =SUM(H525:J525) -> 112 | D544: =SUM(E525:G525) -> 9 | E544: =SUM(K525:M525) -> 9 | F544: =B544+D544 -> 100 | G544: =C544+E544 -> 121
B545: =SUM(B526:D526) -> 48 | C545: =SUM(H526:J526) -> 60 | D545: =SUM(E526:G526) -> 7 | E545: =SUM(K526:M526) -> 10 | F545: =B545+D545 -> 55 | G545: =C545+E545 -> 70
B546: =SUM(B527:D527) -> 158 | C546: =SUM(H527:J527) -> 174 | D546: =SUM(E527:G527) -> 17 | E546: =SUM(K527:M527) -> 17 | F546: =B546+D546 -> 175 | G546: =C546+E546 -> 191
B547: =SUM(B528:D528) -> 232 | C547: =SUM(H528:J528) -> 229 | D547: =SUM(E528:G528) -> 16 | E547: =SUM(K528:M528) -> 14 | F547: =B547+D547 -> 248 | G547: =C547+E547 -> 243
B548: =SUM(B529:D529) -> 49 | C548: =SUM(H529:J529) -> 49 | D548: =SUM(E529:G529) -> 7 | E548: =SUM(K529:M529) -> 3 | F548: =B548+D548 -> 56 | G548: =C548+E548 -> 52
B549: =SUM(B530:D530) -> 94 | C549: =SUM(H530:J530) -> 116 | D549: =SUM(E530:G530) -> 14 | E549: =SUM(K530:M530) -> 16 | F549: =B549+D549 -> 108 | G549: =C549+E549 -> 132
B550: =SUM(B531:D531) -> 131 | C550: =SUM(H531:J531) -> 134 | D550: =SUM(E531:G531) -> 12 | E550: =SUM(K531:M531) -> 1 | F550: =B550+D550 -> 143 | G550: =C550+E550 -> 135
B551: =SUM(B532:D532) -> 1068 | C551: =SUM(H532:J532) -> 1109 | D551: =SUM(E532:G532) -> 75 | E551: =SUM(K532:M532) -> 73 | F551: =B551+D551 -> 1143 | G551: =C551+E551 -> 1182
B552: =SUM(B533:D533) -> 445 | C552: =SUM(H533:J533) -> 463 | D552: =SUM(E533:G533) -> 34 | E552: =SUM(K533:M533) -> 36 | F552: =B552+D552 -> 479 | G552: =C552+E552 -> 499
B553: =SUM(B534:D534) -> 23 | C553: =SUM(H534:J534) -> 24 | D553: =SUM(E534:G534) -> 4 | E553: =SUM(K534:M534) -> 3 | F553: =B553+D553 -> 27 | G553: =C553+E553 -> 27
B554: =SUM(B535:D535) -> 121 | C554: =SUM(H535:J535) -> 133 | D554: =SUM(E535:G535) -> 12 | E554: =SUM(K535:M535) -> 11 | F554: =B554+D554 -> 133 | G554: =C554+E554 -> 144
... B560: =SUM(B541:D541) -> 3761 | C560: =SUM(H541:J541) -> 3972 | D560: =SUM(E541:G541) -> 322 | E560: =SUM(K541:M541) -> 298 | F560: =B560+D560 -> 4083 | G560: =C560+E560 -> 4270
C563: =C543/B543-1 -> -0.0074349442 | E563: =E543/D543-1 -> 0.93333333 | G563: =G543/F543-1 -> 0.042253521
C564: =C544/B544-1 -> 0.23076923 | E564: =E544/D544-1 -> 0 | G564: =G544/F544-1 -> 0.21
C565: =C545/B545-1 -> 0.25 | E565: =E545/D545-1 -> 0.42857143 | G565: =G545/F545-1 -> 0.27272727
C566: =C546/B546-1 -> 0.10126582 | E566: =E546/D546-1 -> 0 | G566: =G546/F546-1 -> 0.091428571
C567: =C547/B547-1 -> -0.012931034 | E567: =E547/D547-1 -> -0.125 | G567: =G547/F547-1 -> -0.02016129
C568: =C548/B548-1 -> 0 | E568: =E548/D548-1 -> -0.57142857 | G568: =G548/F548-1 -> -0.071428571
C569: =C549/B549-1 -> 0.23404255 | E569: =E549/D549-1 -> 0.14285714 | G569: =G549/F549-1 -> 0.22222222
C570: =C550/B550-1 -> 0.022900763 | E570: =E550/D550-1 -> -0.91666667 | G570: =G550/F550-1 -> -0.055944056
C571: =C551/B551-1 -> 0.038389513 | E571: =E551/D551-1 -> -0.026666667 | G571: =G551/F551-1 -> 0.034120735
C572: =C552/B552-1 -> 0.040449438 | E572: =E552/D552-1 -> 0.058823529 | G572: =G552/F552-1 -> 0.041753653
C573: =C553/B553-1 -> 0.043478261 | E573: =E553/D553-1 -> -0.25 | G573: =G553/F553-1 -> 0
C574: =C554/B554-1 -> 0.099173554 | E574: =E554/D554-1 -> -0.083333333 | G574: =G554/F554-1 -> 0.082706767
... C580: =C560/B560-1 -> 0.056102101 | E580: =E560/D560-1 -> -0.074534161 | G580: =G560/F560-1 -> 0.045799657
A582: Decretos | C582: 2025v | E582: 2025nov | G582: 2025total
B583: 956 | C583: 983 | D583: 145 | E583: 174 | F583: 1101 | G583: 1157
B584: 224 | C584: 197 | D584: 65 | E584: 51 | F584: 289 | G584: 248
B585: 276 | C585: 155 | D585: 31 | E585: 13 | F585: 307 | G585: 168
B586: 256 | C586: 271 | D586: 69 | E586: 74 | F586: 325 | G586: 345
B587: 323 | C587: 346 | D587: 41 | E587: 39 | F587: 364 | G587: 385
B588: 102 | C588: 71 | D588: 17 | E588: 19 | F588: 119 | G588: 90
B589: 272 | C589: 258 | D589: 61 | E589: 59 | F589: 333 | G589: 317
B590: 235 | C590: 263 | D590: 24 | E590: 19 | F590: 259 | G590: 282
B591: 1575 | C591: 1727 | D591: 256 | E591: 260 | F591: 1831 | G591: 1987
B592: 765 | C592: 803 | D592: 103 | E592: 96 | F592: 868 | G592: 899
B593: 113 | C593: 100 | D593: 19 | E593: 7 | F593: 132 | G593: 107
B594: 355 | C594: 294 | D594: 70 | E594: 56 | F594: 425 | G594: 350
... B600: 7255 | C600: 7286 | D600: 1208 | E600: 1110 | F600: 8463 | G600: 8396
C603: =C583/B583-1 -> 0.028242678 | E603: =E583/D583-1 -> 0.2 | G603: =G583/F583-1 -> 0.050862852
C604: =C584/B584-1 -> -0.12053571 | E604: =E584/D584-1 -> -0.21538462 | G604: =G584/F584-1 -> -0.14186851
C605: =C585/B585-1 -> -0.4384058 | E605: =E585/D585-1 -> -0.58064516 | G605: =G585/F585-1 -> -0.45276873
C606: =C586/B586-1 -> 0.05859375 | E606: =E586/D586-1 -> 0.072463768 | G606: =G586/F586-1 -> 0.061538462
C607: =C587/B587-1 -> 0.07120743 | E607: =E587/D587-1 -> -0.048780488 | G607: =G587/F587-1 -> 0.057692308
C608: =C588/B588-1 -> -0.30392157 | E608: =E588/D588-1 -> 0.11764706 | G608: =G588/F588-1 -> -0.24369748
C609: =C589/B589-1 -> -0.051470588 | E609: =E589/D589-1 -> -0.032786885 | G609: =G589/F589-1 -> -0.048048048
C610: =C590/B590-1 -> 0.11914894 | E610: =E590/D590-1 -> -0.20833333 | G610: =G590/F590-1 -> 0.088803089
C611: =C591/B591-1 -> 0.096507937 | E611: =E591/D591-1 -> 0.015625 | G611: =G591/F591-1 -> 0.085199345
C612: =C592/B592-1 -> 0.049673203 | E612: =E592/D592-1 -> -0.067961165 | G612: =G592/F592-1 -> 0.035714286
C613: =C593/B593-1 -> -0.11504425 | E613: =E593/D593-1 -> -0.63157895 | G613: =G593/F593-1 -> -0.18939394
...
