Workbook

Sheet Inicio
B17: Fuente
B18: Definiciones
B20: Sentencias según pronunciamiento, causa del litigio, vivienda u otro uso
B21: Sentencias según pronunciamiento, causa del litigio,TSJ, vivienda u otro uso
B22: Sentencias según pronunciamiento (porcentaje) , causa del litigio, TSJ, vivienda u otro uso
B23: Decretos según tipo, TSJ, vivienda u otro uso
B24: Evolución del número de sentencias y decretos, por TSJ

Sheet Fuente
J1: i | K1: i
B7: Fuente:
B10: Datos obtenidos en los boletines trimestrales recogidos por el CGPJ en los juzgados de primera instancia y primera instancia e instrucción o los órganos correspondientes en los Tribunales de Instancia constituidos en el periodo.
B12: Se recogen por medio de dos cuadros incluidos en los boletines de los juzgados de primera instancia y primera instancia e instrucción dentro del bloque de resoluciones finales civiles

Sheet Definiciones
B5: En los decretos
B6: Entrega de posesion | C6: Si el demandado atendiere el requerimiento en cuanto al desalojo del inmueble sin formular oposición ni pagar la cantidad que se reclamase.
B7: Enervacion | C7: Si, antes de la celebración de la vista, el arrendatario paga al actor o pone a su disposición en el tribunal o notarialmente el importe de las cantidades reclamadas en la demanda y el de las que adeude en el momento de dicho pago enervador del desahucio.
B8: Archivo para ejecucion | C8: Si el demandado, en el plazo concedido no desaloja el inmueble, paga al actor la totalidad de lo adeudado o comparece para formular oposición a la demanda.
B9: Otras causas | C9: Otras formas de terminación anticipada del proceso producidas una vez admitida a trámite la demanda, por ejemplo, desistimiento
B12: En las sentencias
B13: Estimando la demanda totalmente | C13: El juez acoge la totalidad de las pretensiones del demandantes
B14: Estimando la demanda parcialmente | C14: El juez solo estima parte de las pretensiones del demandante
B15: Desestimando la demanda | C15: El juez desestima la totalidad de las pretensiones del demandante

Sheet Sentencias Nacional
B7: Vivienda | C7: parcialmente | D7: demanda | F7: Uso distinto a vivienda | G7: Estimando la demanda | H7: Desestimando la demanda | J7: Total | K7: Estimando la demanda | L7: Desestimando la demanda
B8: Estimando la demanda totalmente | C8: Estimando la demanda parcialmente | D8: Desestimando la demanda | E8: Total | F8: Estimando la demanda totalmente | G8: Estimando la demanda parcialmente | H8: Desestimando la demanda | I8: Total | J8: Estimando la demanda totalmente | K8: Estimando la demanda parcialmente | L8: Desestimando la demanda | M8: Total
A9: Falta de pago de la renta o de cantidades que se asimilan (incluido fianzas) | B9: 2392 | C9: 182 | D9: 143 | E9: 2717 | F9: 132 | G9: 23 | H9: 28 | I9: 183 | J9: =+B9+F9 -> 2524 | K9: =+C9+G9 -> 205 | L9: =+D9+H9 -> 171 | M9: 2796
A10: Subarriendo o cesion inconsentidos | B10: 22 | C10: 0 | D10: 2 | E10: 24 | F10: 1 | G10: 0 | H10: 0 | I10: 1 | J10: =+B10+F10 -> 23 | K10: =+C10+G10 -> 0 | L10: =+D10+H10 -> 2 | M10: 26
A11: Realizacion de actividades molestas, insalubres o peligrosas | B11: 0 | C11: 2 | D11: 0 | E11: 2 | F11: 0 | G11: 0 | H11: 0 | I11: 0 | J11: =+B11+F11 -> 0 | K11: =+C11+G11 -> 2 | L11: =+D11+H11 -> 0 | M11: 4
A12: No uso como vivienda permanente | B12: 4 | C12: 1 | D12: 0 | E12: 5 | F12: 0 | G12: 0 | H12: 0 | I12: 0 | J12: =+B12+F12 -> 4 | K12: =+C12+G12 -> 1 | L12: =+D12+H12 -> 0 | M12: 4
A13: Realizacion de daños u obras no consentidas | B13: 4 | C13: 1 | D13: 0 | E13: 5 | F13: 0 | G13: 1 | H13: 0 | I13: 1 | J13: =+B13+F13 -> 4 | K13: =+C13+G13 -> 2 | L13: =+D13+H13 -> 0 | M13: 5
A14: Denegacion de prorroga | B14: 197 | C14: 40 | D14: 23 | E14: 260 | F14: 15 | G14: 5 | H14: 1 | I14: 21 | J14: =+B14+F14 -> 212 | K14: =+C14+G14 -> 45 | L14: =+D14+H14 -> 24 | M14: 209
A15: Otros | B15: 436 | C15: 29 | D15: 52 | E15: 517 | F15: 29 | G15: 3 | H15: 3 | I15: 35 | J15: =+B15+F15 -> 465 | K15: =+C15+G15 -> 32 | L15: =+D15+H15 -> 55 | M15: 547
A16: TOTAL | B16: 3055 | C16: 255 | D16: 220 | E16: 3530 | F16: 177 | G16: 32 | H16: 32 | I16: 241 | J16: 3232 | K16: 287 | L16: 252 | M16: 3771
B19: Vivienda | E19: Uso distinto a vivienda | H19: Total
B20: Estimando la demanda totalmente | C20: Estimando la demanda parcialmente | D20: Desestimando la demanda | E20: Estimando la demanda totalmente | F20: Estimando la demanda parcialmente | G20: Desestimando la demanda | H20: Estimando la demanda totalmente | I20: Estimando la demanda parcialmente | J20: Desestimando la demanda
A21: Falta de pago de la renta o de cantidades que se asimilan (incluido fianzas) | B21: =IF($E9=0,"-",(B9/$E9)) -> 0.88038278 | C21: =IF($E9=0,"-",(C9/$E9)) -> 0.066985646 | D21: =IF($E9=0,"-",(D9/$E9)) -> 0.052631579 | E21: =IF($I9=0,"-",(F9/$I9)) -> 0.72131148 | F21: =IF($I9=0,"-",(G9/$I9)) -> 0.12568306 | G21: =IF($I9=0,"-",(H9/$I9)) -> 0.15300546 | H21: =IF($M9=0,"-",(J9/$M9)) -> 0.90271817 | I21: =IF($M9=0,"-",(K9/$M9)) -> 0.073319027 | J21: =IF($M9=0,"-",(L9/$M9)) -> 0.061158798
A22: Subarriendo o cesion inconsentidos | B22: =IF($E10=0,"-",(B10/$E10)) -> 0.91666667 | C22: =IF($E10=0,"-",(C10/$E10)) -> 0 | D22: =IF($E10=0,"-",(D10/$E10)) -> 0.083333333 | E22: =IF($I10=0,"-",(F10/$I10)) -> 1 | F22: =IF($I10=0,"-",(G10/$I10)) -> 0 | G22: =IF($I10=0,"-",(H10/$I10)) -> 0 | H22: =IF($M10=0,"-",(J10/$M10)) -> 0.88461538 | I22: =IF($M10=0,"-",(K10/$M10)) -> 0 | J22: =IF($M10=0,"-",(L10/$M10)) -> 0.076923077
A23: Realizacion de actividades molestas, insalubres o peligrosas | B23: =IF($E11=0,"-",(B11/$E11)) -> 0 | C23: =IF($E11=0,"-",(C11/$E11)) -> 1 | D23: =IF($E11=0,"-",(D11/$E11)) -> 0 | E23: =IF($I11=0,"-",(F11/$I11)) -> - | F23: =IF($I11=0,"-",(G11/$I11)) -> - | G23: =IF($I11=0,"-",(H11/$I11)) -> - | H23: =IF($M11=0,"-",(J11/$M11)) -> 0 | I23: =IF($M11=0,"-",(K11/$M11)) -> 0.5 | J23: =IF($M11=0,"-",(L11/$M11)) -> 0
A24: No uso como vivienda permanente | B24: =IF($E12=0,"-",(B12/$E12)) -> 0.8 | C24: =IF($E12=0,"-",(C12/$E12)) -> 0.2 | D24: =IF($E12=0,"-",(D12/$E12)) -> 0 | E24: =IF($I12=0,"-",(F12/$I12)) -> - | F24: =IF($I12=0,"-",(G12/$I12)) -> - | G24: =IF($I12=0,"-",(H12/$I12)) -> - | H24: =IF($M12=0,"-",(J12/$M12)) -> 1 | I24: =IF($M12=0,"-",(K12/$M12)) -> 0.25 | J24: =IF($M12=0,"-",(L12/$M12)) -> 0
A25: Realizacion de daños u obras no consentidas | B25: =IF($E13=0,"-",(B13/$E13)) -> 0.8 | C25: =IF($E13=0,"-",(C13/$E13)) -> 0.2 | D25: =IF($E13=0,"-",(D13/$E13)) -> 0 | E25: =IF($I13=0,"-",(F13/$I13)) -> 0 | F25: =IF($I13=0,"-",(G13/$I13)) -> 1 | G25: =IF($I13=0,"-",(H13/$I13)) -> 0 | H25: =IF($M13=0,"-",(J13/$M13)) -> 0.8 | I25: =IF($M13=0,"-",(K13/$M13)) -> 0.4 | J25: =IF($M13=0,"-",(L13/$M13)) -> 0
A26: Denegacion de proroga | B26: =IF($E14=0,"-",(B14/$E14)) -> 0.75769231 | C26: =IF($E14=0,"-",(C14/$E14)) -> 0.15384615 | D26: =IF($E14=0,"-",(D14/$E14)) -> 0.088461538 | E26: =IF($I14=0,"-",(F14/$I14)) -> 0.71428571 | F26: =IF($I14=0,"-",(G14/$I14)) -> 0.23809524 | G26: =IF($I14=0,"-",(H14/$I14)) -> 0.047619048 | H26: =IF($M14=0,"-",(J14/$M14)) -> 1.0143541 | I26: =IF($M14=0,"-",(K14/$M14)) -> 0.215311 | J26: =IF($M14=0,"-",(L14/$M14)) -> 0.11483254
A27: Otros | B27: =IF($E15=0,"-",(B15/$E15)) -> 0.84332689 | C27: =IF($E15=0,"-",(C15/$E15)) -> 0.056092843 | D27: =IF($E15=0,"-",(D15/$E15)) -> 0.10058027 | E27: =IF($I15=0,"-",(F15/$I15)) -> 0.82857143 | F27: =IF($I15=0,"-",(G15/$I15)) -> 0.085714286 | G27: =IF($I15=0,"-",(H15/$I15)) -> 0.085714286 | H27: =IF($M15=0,"-",(J15/$M15)) -> 0.85009141 | I27: =IF($M15=0,"-",(K15/$M15)) -> 0.058500914 | J27: =IF($M15=0,"-",(L15/$M15)) -> 0.10054845
A28: TOTAL | B28: =IF($E16=0,"-",(B16/$E16)) -> 0.86543909 | C28: =IF($E16=0,"-",(C16/$E16)) -> 0.07223796 | D28: =IF($E16=0,"-",(D16/$E16)) -> 0.062322946 | E28: =IF($I16=0,"-",(F16/$I16)) -> 0.73443983 | F28: =IF($I16=0,"-",(G16/$I16)) -> 0.13278008 | G28: =IF($I16=0,"-",(H16/$I16)) -> 0.13278008 | H28: =IF($M16=0,"-",(J16/$M16)) -> 0.85706709 | I28: =IF($M16=0,"-",(K16/$M16)) -> 0.076107133 | J28: =IF($M16=0,"-",(L16/$M16)) -> 0.066825776

Sheet Sentencias TSJ
A5: Viviendas | B5: Acción principal ejercitada en la demanda
B6: Falta de pago de la renta o de cantidades que se asimilan | E6: Denegacion de prorroga | H6: Otros (*) | K6: Total
B7: Estimando la demanda totalmente | C7: Estimando la demanda parcialmente | D7: Desestimando la demanda | E7: Estimando la demanda totalmente | F7: Estimando la demanda parcialmente | G7: Desestimando la demanda | H7: Estimando la demanda totalmente | I7: Estimando la demanda parcialmente | J7: Desestimando la demanda | K7: Estimando la demanda totalmente | L7: Estimando la demanda parcialmente | M7: Desestimando la demanda | O7: 45658
A8: Andalucía | B8: 257 | C8: 25 | D8: 19 | E8: 11 | F8: 2 | G8: 4 | H8: 66 | I8: 2 | J8: 1 | K8: 334 | L8: 29 | M8: 24 | N8: =+K8+L8+M8 -> 387 | O8: 8836787 | P8: =+N8/O8*100000 -> 4.3794198
A9: Aragón | B9: 60 | C9: 11 | D9: 5 | E9: 4 | F9: 10 | G9: 0 | H9: 14 | I9: 0 | J9: 8 | K9: 78 | L9: 21 | M9: 13 | N9: =+K9+L9+M9 -> 112 | O9: 1358812 | P9: =+N9/O9*100000 -> 8.2424942
A10: Asturias | B10: 55 | C10: 1 | D10: 4 | E10: 1 | F10: 0 | G10: 0 | H10: 15 | I10: 0 | J10: 0 | K10: 71 | L10: 1 | M10: 4 | N10: =+K10+L10+M10 -> 76 | O10: 1013529 | P10: =+N10/O10*100000 -> 7.4985521
A11: Illes Balears | B11: 72 | C11: 2 | D11: 4 | E11: 11 | F11: 0 | G11: 2 | H11: 8 | I11: 0 | J11: 0 | K11: 91 | L11: 2 | M11: 6 | N11: =+K11+L11+M11 -> 99 | O11: 1237480 | P11: =+N11/O11*100000 -> 8.0001293
A12: Canarias | B12: 139 | C12: 13 | D12: 12 | E12: 8 | F12: 0 | G12: 2 | H12: 23 | I12: 1 | J12: 4 | K12: 170 | L12: 14 | M12: 18 | N12: =+K12+L12+M12 -> 202 | O12: 2249976 | P12: =+N12/O12*100000 -> 8.9778735
A13: Cantabria | B13: 49 | C13: 3 | D13: 3 | E13: 0 | F13: 8 | G13: 1 | H13: 3 | I13: 6 | J13: 1 | K13: 52 | L13: 17 | M13: 5 | N13: =+K13+L13+M13 -> 74 | O13: 593964 | P13: =+N13/O13*100000 -> 12.458668
A14: Castilla y León | B14: 81 | C14: 13 | D14: 8 | E14: 4 | F14: 0 | G14: 0 | H14: 8 | I14: 0 | J14: 3 | K14: 93 | L14: 13 | M14: 11 | N14: =+K14+L14+M14 -> 117 | O14: 2398500 | P14: =+N14/O14*100000 -> 4.8780488
A15: Castilla-La Mancha | B15: 72 | C15: 3 | D15: 6 | E15: 0 | F15: 0 | G15: 1 | H15: 7 | I15: 1 | J15: 0 | K15: 79 | L15: 4 | M15: 7 | N15: =+K15+L15+M15 -> 90 | O15: 2119234 | P15: =+N15/O15*100000 -> 4.2468175
A16: Cataluña | B16: 542 | C16: 49 | D16: 29 | E16: 70 | F16: 7 | G16: 3 | H16: 207 | I16: 18 | J16: 15 | K16: 819 | L16: 74 | M16: 47 | N16: =+K16+L16+M16 -> 940 | O16: 8146265 | P16: =+N16/O16*100000 -> 11.53903
A17: C. Valenciana | B17: 299 | C17: 29 | D17: 17 | E17: 22 | F17: 5 | G17: 3 | H17: 44 | I17: 2 | J17: 7 | K17: 365 | L17: 36 | M17: 27 | N17: =+K17+L17+M17 -> 428 | O17: 5415843 | P17: =+N17/O17*100000 -> 7.9027402
A18: Extremadura | B18: 18 | C18: 3 | D18: 0 | E18: 0 | F18: 0 | G18: 0 | H18: 0 | I18: 0 | J18: 1 | K18: 18 | L18: 3 | M18: 1 | N18: =+K18+L18+M18 -> 22 | O18: 1051638 | P18: =+N18/O18*100000 -> 2.0919746
A19: Galicia | B19: 80 | C19: 1 | D19: 1 | E19: 3 | F19: 1 | G19: 0 | H19: 7 | I19: 0 | J19: 0 | K19: 90 | L19: 2 | M19: 1 | N19: =+K19+L19+M19 -> 93 | O19: 2713169 | P19: =+N19/O19*100000 -> 3.427726
... A24: La Rioja | B24: 16 | C24: 3 | D24: 0 | E24: 0 | F24: 0 | G24: 0 | H24: 0 | I24: 0 | J24: 0 | K24: 16 | L24: 3 | M24: 0 | N24: =+K24+L24+M24 -> 19 | O24: 327286 | P24: =+N24/O24*100000 -> 5.8053201
A25: TOTAL | B25: 2392 | C25: 182 | D25: 143 | E25: 197 | F25: 40 | G25: 23 | H25: 466 | I25: 33 | J25: 54 | K25: 3055 | L25: 255 | M25: 220 | N25: =SUM(N8:N24) -> 3530 | O25: 49114494 | P25: =SUM(P8:P24) -> 118.2751
A27: (*) incluye Subarriendo o cesion inconsentidos, Realizacion de actividades molestas, insalubres o peligrosas, No uso como vivienda permanente, Realizacion de daños u obras no consentidas, y Otros
A29: Uso distinto a vivienda | B29: Acción principal ejercitada en la demanda
B30: Falta de pago de la renta o de cantidades que se asimilan | E30: Denegacion de prorroga | H30: Otros (*) | K30: Total
B31: Estimando la demanda totalmente | C31: Estimando la demanda parcialmente | D31: Desestimando la demanda | E31: Estimando la demanda totalmente | F31: Estimando la demanda parcialmente | G31: Desestimando la demanda | H31: Estimando la demanda totalmente | I31: Estimando la demanda parcialmente | J31: Desestimando la demanda | K31: Estimando la demanda totalmente | L31: Estimando la demanda parcialmente | M31: Desestimando la demanda
A32: Andalucía | B32: 14 | C32: 2 | D32: 2 | E32: 0 | F32: 2 | G32: 0 | H32: 0 | I32: 0 | J32: 2 | K32: 14 | L32: 4 | M32: 4
A33: Aragón | B33: 1 | C33: 2 | D33: 0 | E33: 0 | F33: 1 | G33: 0 | H33: 1 | I33: 2 | J33: 0 | K33: 2 | L33: 5 | M33: 0
A34: Asturias | B34: 3 | C34: 0 | D34: 0 | E34: 1 | F34: 0 | G34: 0 | H34: 2 | I34: 0 | J34: 0 | K34: 6 | L34: 0 | M34: 0
A35: Illes Balears | B35: 3 | C35: 1 | D35: 3 | E35: 0 | F35: 0 | G35: 0 | H35: 0 | I35: 0 | J35: 0 | K35: 3 | L35: 1 | M35: 3
A36: Canarias | B36: 5 | C36: 0 | D36: 2 | E36: 1 | F36: 1 | G36: 0 | H36: 1 | I36: 0 | J36: 0 | K36: 7 | L36: 1 | M36: 2
A37: Cantabria | B37: 1 | C37: 4 | D37: 0 | E37: 0 | F37: 0 | G37: 0 | H37: 1 | I37: 0 | J37: 0 | K37: 2 | L37: 4 | M37: 0
A38: Castilla y León | B38: 6 | C38: 0 | D38: 2 | E38: 1 | F38: 0 | G38: 0 | H38: 3 | I38: 1 | J38: 0 | K38: 10 | L38: 1 | M38: 2
A39: Castilla-La Mancha | B39: 2 | C39: 0 | D39: 1 | E39: 0 | F39: 0 | G39: 0 | H39: 1 | I39: 0 | J39: 0 | K39: 3 | L39: 0 | M39: 1
A40: Cataluña | B40: 29 | C40: 4 | D40: 6 | E40: 7 | F40: 0 | G40: 0 | H40: 17 | I40: 1 | J40: 0 | K40: 53 | L40: 5 | M40: 6
A41: C. Valenciana | B41: 13 | C41: 5 | D41: 4 | E41: 0 | F41: 0 | G41: 1 | H41: 0 | I41: 0 | J41: 0 | K41: 13 | L41: 5 | M41: 5
A42: Extremadura | B42: 0 | C42: 0 | D42: 0 | E42: 1 | F42: 0 | G42: 0 | H42: 0 | I42: 0 | J42: 0 | K42: 1 | L42: 0 | M42: 0
A43: Galicia | B43: 6 | C43: 1 | D43: 2 | E43: 1 | F43: 0 | G43: 0 | H43: 0 | I43: 0 | J43: 0 | K43: 7 | L43: 1 | M43: 2
... A49: TOTAL | B49: 132 | C49: 23 | D49: 28 | E49: 15 | F49: 5 | G49: 1 | H49: 30 | I49: 4 | J49: 3 | K49: 177 | L49: 32 | M49: 32
A50: (*) incluye Subarriendo o cesion inconsentidos, Realizacion de actividades molestas, insalubres o peligrosas, No uso como vivienda permanente, Realizacion de daños u obras no consentidas, y Otros
A52: Total | B52: Acción principal ejercitada en la demanda
B53: Falta de pago de la renta o de cantidades que se asimilan | E53: Denegacion de prorroga | H53: Otros | K53: Total
B54: Estimando la demanda totalmente | C54: Estimando la demanda parcialmente | D54: Desestimando la demanda | E54: Estimando la demanda totalmente | F54: Estimando la demanda parcialmente | G54: Desestimando la demanda | H54: Estimando la demanda totalmente | I54: Estimando la demanda parcialmente | J54: Desestimando la demanda | K54: Estimando la demanda totalmente | L54: Estimando la demanda parcialmente | M54: Desestimando la demanda
A55: Andalucía | B55: =+B8+B32 -> 271 | C55: =+C8+C32 -> 27 | D55: =+D8+D32 -> 21 | E55: =+E8+E32 -> 11 | F55: =+F8+F32 -> 4 | G55: =+G8+G32 -> 4 | H55: =+H8+H32 -> 66 | I55: =+I8+I32 -> 2 | ... M55: =+M8+M32 -> 28
A56: Aragón | B56: =B9+B33 -> 61 | C56: =C9+C33 -> 13 | D56: =D9+D33 -> 5 | E56: =E9+E33 -> 4 | F56: =F9+F33 -> 11 | G56: =G9+G33 -> 0 | H56: =H9+H33 -> 15 | I56: =I9+I33 -> 2 | ... M56: =M9+M33 -> 13
...

Sheet Sentencias TSJ %
A5: Viviendas | B5: Acción principal ejercitada en la demanda
B6: Falta de pago de la renta o de cantidades que se asimilan | E6: Denegacion de prorroga | H6: Otros | K6: Total
B7: Estimando la demanda totalmente | C7: Estimando la demanda parcialmente | D7: Desestimando la demanda | E7: Estimando la demanda totalmente | F7: Estimando la demanda parcialmente | G7: Desestimando la demanda | H7: Estimando la demanda totalmente | I7: Estimando la demanda parcialmente | J7: Desestimando la demanda | K7: Estimando la demanda totalmente | L7: Estimando la demanda parcialmente | M7: Desestimando la demanda
A8: Andalucía | B8: =IF(('Sentencias TSJ'!$B8+'Sentencias TSJ'!$C8+'Sentencias TSJ'!$D8)=0,"-",'Sentencias TSJ'!B8/('Sentencias TSJ'!$B8+'Sentencias TSJ'!$C8+'Sentencias TSJ'!$D8)) -> 0.8538206 | C8: =IF(('Sentencias TSJ'!$B8+'Sentencias TSJ'!$C8+'Sentencias TSJ'!$D8)=0,"-",'Sentencias TSJ'!C8/('Sentencias TSJ'!$B8+'Sentencias TSJ'!$C8+'Sentencias TSJ'!$D8)) -> 0.083056478 | D8: =IF(('Sentencias TSJ'!$B8+'Sentencias TSJ'!$C8+'Sentencias TSJ'!$D8)=0,"-",'Sentencias TSJ'!D8/('Sentencias TSJ'!$B8+'Sentencias TSJ'!$C8+'Sentencias TSJ'!$D8)) -> 0.063122924 | E8: =IF(('Sentencias TSJ'!$E8+'Sentencias TSJ'!$F8+'Sentencias TSJ'!$G8)=0,"-",'Sentencias TSJ'!E8/('Sentencias TSJ'!$E8+'Sentencias TSJ'!$F8+'Sentencias TSJ'!$G8)) -> 0.64705882 | F8: =IF(('Sentencias TSJ'!$E8+'Sentencias TSJ'!$F8+'Sentencias TSJ'!$G8)=0,"-",'Sentencias TSJ'!F8/('Sentencias TSJ'!$E8+'Sentencias TSJ'!$F8+'Sentencias TSJ'!$G8)) -> 0.11764706 | G8: =IF(('Sentencias TSJ'!$E8+'Sentencias TSJ'!$F8+'Sentencias TSJ'!$G8)=0,"-",'Sentencias TSJ'!G8/('Sentencias TSJ'!$E8+'Sentencias TSJ'!$F8+'Sentencias TSJ'!$G8)) -> 0.23529412 | H8: =IF(('Sentencias TSJ'!$H8+'Sentencias TSJ'!$I8+'Sentencias TSJ'!$J8)=0,"-",'Sentencias TSJ'!H8/('Sentencias TSJ'!$H8+'Sentencias TSJ'!$I8+'Sentencias TSJ'!$J8)) -> 0.95652174 | I8: =IF(('Sentencias TSJ'!$H8+'Sentencias TSJ'!$I8+'Sentencias TSJ'!$J8)=0,"-",'Sentencias TSJ'!I8/('Sentencias TSJ'!$H8+'Sentencias TSJ'!$I8+'Sentencias TSJ'!$J8)) -> 0.028985507 | J8: =IF(('Sentencias TSJ'!$H8+'Sentencias TSJ'!$I8+'Sentencias TSJ'!$J8)=0,"-",'Sentencias TSJ'!J8/('Sentencias TSJ'!$H8+'Sentencias TSJ'!$I8+'Sentencias TSJ'!$J8)) -> 0.014492754 | K8: =IF(('Sentencias TSJ'!$K8+'Sentencias TSJ'!$L8+'Sentencias TSJ'!$M8)=0,"-",'Sentencias TSJ'!K8/('Sentencias TSJ'!$K8+'Sentencias TSJ'!$L8+'Sentencias TSJ'!$M8)) -> 0.8630491 | L8: =IF(('Sentencias TSJ'!$K8+'Sentencias TSJ'!$L8+'Sentencias TSJ'!$M8)=0,"-",'Sentencias TSJ'!L8/('Sentencias TSJ'!$K8+'Sentencias TSJ'!$L8+'Sentencias TSJ'!$M8)) -> 0.074935401 | M8: =IF(('Sentencias TSJ'!$K8+'Sentencias TSJ'!$L8+'Sentencias TSJ'!$M8)=0,"-",'Sentencias TSJ'!M8/('Sentencias TSJ'!$K8+'Sentencias TSJ'!$L8+'Sentencias TSJ'!$M8)) -> 0.062015504
A9: Aragón | B9: =IF(('Sentencias TSJ'!$B9+'Sentencias TSJ'!$C9+'Sentencias TSJ'!$D9)=0,"-",'Sentencias TSJ'!B9/('Sentencias TSJ'!$B9+'Sentencias TSJ'!$C9+'Sentencias TSJ'!$D9)) -> 0.78947368 | C9: =IF(('Sentencias TSJ'!$B9+'Sentencias TSJ'!$C9+'Sentencias TSJ'!$D9)=0,"-",'Sentencias TSJ'!C9/('Sentencias TSJ'!$B9+'Sentencias TSJ'!$C9+'Sentencias TSJ'!$D9)) -> 0.14473684 | D9: =IF(('Sentencias TSJ'!$B9+'Sentencias TSJ'!$C9+'Sentencias TSJ'!$D9)=0,"-",'Sentencias TSJ'!D9/('Sentencias TSJ'!$B9+'Sentencias TSJ'!$C9+'Sentencias TSJ'!$D9)) -> 0.065789474 | E9: =IF(('Sentencias TSJ'!$E9+'Sentencias TSJ'!$F9+'Sentencias TSJ'!$G9)=0,"-",'Sentencias TSJ'!E9/('Sentencias TSJ'!$E9+'Sentencias TSJ'!$F9+'Sentencias TSJ'!$G9)) -> 0.28571429 | F9: =IF(('Sentencias TSJ'!$E9+'Sentencias TSJ'!$F9+'Sentencias TSJ'!$G9)=0,"-",'Sentencias TSJ'!F9/('Sentencias TSJ'!$E9+'Sentencias TSJ'!$F9+'Sentencias TSJ'!$G9)) -> 0.71428571 | G9: =IF(('Sentencias TSJ'!$E9+'Sentencias TSJ'!$F9+'Sentencias TSJ'!$G9)=0,"-",'Sentencias TSJ'!G9/('Sentencias TSJ'!$E9+'Sentencias TSJ'!$F9+'Sentencias TSJ'!$G9)) -> 0 | H9: =IF(('Sentencias TSJ'!$H9+'Sentencias TSJ'!$I9+'Sentencias TSJ'!$J9)=0,"-",'Sentencias TSJ'!H9/('Sentencias TSJ'!$H9+'Sentencias TSJ'!$I9+'Sentencias TSJ'!$J9)) -> 0.63636364 | I9: =IF(('Sentencias TSJ'!$H9+'Sentencias TSJ'!$I9+'Sentencias TSJ'!$J9)=0,"-",'Sentencias TSJ'!I9/('Sentencias TSJ'!$H9+'Sentencias TSJ'!$I9+'Sentencias TSJ'!$J9)) -> 0 | J9: =IF(('Sentencias TSJ'!$H9+'Sentencias TSJ'!$I9+'Sentencias TSJ'!$J9)=0,"-",'Sentencias TSJ'!J9/('Sentencias TSJ'!$H9+'Sentencias TSJ'!$I9+'Sentencias TSJ'!$J9)) -> 0.36363636 | K9: =IF(('Sentencias TSJ'!$K9+'Sentencias TSJ'!$L9+'Sentencias TSJ'!$M9)=0,"-",'Sentencias TSJ'!K9/('Sentencias TSJ'!$K9+'Sentencias TSJ'!$L9+'Sentencias TSJ'!$M9)) -> 0.69642857 | L9: =IF(('Sentencias TSJ'!$K9+'Sentencias TSJ'!$L9+'Sentencias TSJ'!$M9)=0,"-",'Sentencias TSJ'!L9/('Sentencias TSJ'!$K9+'Sentencias TSJ'!$L9+'Sentencias TSJ'!$M9)) -> 0.1875 | M9: =IF(('Sentencias TSJ'!$K9+'Sentencias TSJ'!$L9+'Sentencias TSJ'!$M9)=0,"-",'Sentencias TSJ'!M9/('Sentencias TSJ'!$K9+'Sentencias TSJ'!$L9+'Sentencias TSJ'!$M9)) -> 0.11607143
A10: Asturias | B10: =IF(('Sentencias TSJ'!$B10+'Sentencias TSJ'!$C10+'Sentencias TSJ'!$D10)=0,"-",'Sentencias TSJ'!B10/('Sentencias TSJ'!$B10+'Sentencias TSJ'!$C10+'Sentencias TSJ'!$D10)) -> 0.91666667 | C10: =IF(('Sentencias TSJ'!$B10+'Sentencias TSJ'!$C10+'Sentencias TSJ'!$D10)=0,"-",'Sentencias TSJ'!C10/('Sentencias TSJ'!$B10+'Sentencias TSJ'!$C10+'Sentencias TSJ'!$D10)) -> 0.016666667 | D10: =IF(('Sentencias TSJ'!$B10+'Sentencias TSJ'!$C10+'Sentencias TSJ'!$D10)=0,"-",'Sentencias TSJ'!D10/('Sentencias TSJ'!$B10+'Sentencias TSJ'!$C10+'Sentencias TSJ'!$D10)) -> 0.066666667 | E10: =IF(('Sentencias TSJ'!$E10+'Sentencias TSJ'!$F10+'Sentencias TSJ'!$G10)=0,"-",'Sentencias TSJ'!E10/('Sentencias TSJ'!$E10+'Sentencias TSJ'!$F10+'Sentencias TSJ'!$G10)) -> 1 | F10: =IF(('Sentencias TSJ'!$E10+'Sentencias TSJ'!$F10+'Sentencias TSJ'!$G10)=0,"-",'Sentencias TSJ'!F10/('Sentencias TSJ'!$E10+'Sentencias TSJ'!$F10+'Sentencias TSJ'!$G10)) -> 0 | G10: =IF(('Sentencias TSJ'!$E10+'Sentencias TSJ'!$F10+'Sentencias TSJ'!$G10)=0,"-",'Sentencias TSJ'!G10/('Sentencias TSJ'!$E10+'Sentencias TSJ'!$F10+'Sentencias TSJ'!$G10)) -> 0 | H10: =IF(('Sentencias TSJ'!$H10+'Sentencias TSJ'!$I10+'Sentencias TSJ'!$J10)=0,"-",'Sentencias TSJ'!H10/('Sentencias TSJ'!$H10+'Sentencias TSJ'!$I10+'Sentencias TSJ'!$J10)) -> 1 | I10: =IF(('Sentencias TSJ'!$H10+'Sentencias TSJ'!$I10+'Sentencias TSJ'!$J10)=0,"-",'Sentencias TSJ'!I10/('Sentencias TSJ'!$H10+'Sentencias TSJ'!$I10+'Sentencias TSJ'!$J10)) -> 0 | J10: =IF(('Sentencias TSJ'!$H10+'Sentencias TSJ'!$I10+'Sentencias TSJ'!$J10)=0,"-",'Sentencias TSJ'!J10/('Sentencias TSJ'!$H10+'Sentencias TSJ'!$I10+'Sentencias TSJ'!$J10)) -> 0 | K10: =IF(('Sentencias TSJ'!$K10+'Sentencias TSJ'!$L10+'Sentencias TSJ'!$M10)=0,"-",'Sentencias TSJ'!K10/('Sentencias TSJ'!$K10+'Sentencias TSJ'!$L10+'Sentencias TSJ'!$M10)) -> 0.93421053 | L10: =IF(('Sentencias TSJ'!$K10+'Sentencias TSJ'!$L10+'Sentencias TSJ'!$M10)=0,"-",'Sentencias TSJ'!L10/('Sentencias TSJ'!$K10+'Sentencias TSJ'!$L10+'Sentencias TSJ'!$M10)) -> 0.013157895 | M10: =IF(('Sentencias TSJ'!$K10+'Sentencias TSJ'!$L10+'Sentencias TSJ'!$M10)=0,"-",'Sentencias TSJ'!M10/('Sentencias TSJ'!$K10+'Sentencias TSJ'!$L10+'Sentencias TSJ'!$M10)) -> 0.052631579
A11: Illes Balears | B11: =IF(('Sentencias TSJ'!$B11+'Sentencias TSJ'!$C11+'Sentencias TSJ'!$D11)=0,"-",'Sentencias TSJ'!B11/('Sentencias TSJ'!$B11+'Sentencias TSJ'!$C11+'Sentencias TSJ'!$D11)) -> 0.92307692 | C11: =IF(('Sentencias TSJ'!$B11+'Sentencias TSJ'!$C11+'Sentencias TSJ'!$D11)=0,"-",'Sentencias TSJ'!C11/('Sentencias TSJ'!$B11+'Sentencias TSJ'!$C11+'Sentencias TSJ'!$D11)) -> 0.025641026 | D11: =IF(('Sentencias TSJ'!$B11+'Sentencias TSJ'!$C11+'Sentencias TSJ'!$D11)=0,"-",'Sentencias TSJ'!D11/('Sentencias TSJ'!$B11+'Sentencias TSJ'!$C11+'Sentencias TSJ'!$D11)) -> 0.051282051 | E11: =IF(('Sentencias TSJ'!$E11+'Sentencias TSJ'!$F11+'Sentencias TSJ'!$G11)=0,"-",'Sentencias TSJ'!E11/('Sentencias TSJ'!$E11+'Sentencias TSJ'!$F11+'Sentencias TSJ'!$G11)) -> 0.84615385 | F11: =IF(('Sentencias TSJ'!$E11+'Sentencias TSJ'!$F11+'Sentencias TSJ'!$G11)=0,"-",'Sentencias TSJ'!F11/('Sentencias TSJ'!$E11+'Sentencias TSJ'!$F11+'Sentencias TSJ'!$G11)) -> 0 | G11: =IF(('Sentencias TSJ'!$E11+'Sentencias TSJ'!$F11+'Sentencias TSJ'!$G11)=0,"-",'Sentencias TSJ'!G11/('Sentencias TSJ'!$E11+'Sentencias TSJ'!$F11+'Sentencias TSJ'!$G11)) -> 0.15384615 | H11: =IF(('Sentencias TSJ'!$H11+'Sentencias TSJ'!$I11+'Sentencias TSJ'!$J11)=0,"-",'Sentencias TSJ'!H11/('Sentencias TSJ'!$H11+'Sentencias TSJ'!$I11+'Sentencias TSJ'!$J11)) -> 1 | I11: =IF(('Sentencias TSJ'!$H11+'Sentencias TSJ'!$I11+'Sentencias TSJ'!$J11)=0,"-",'Sentencias TSJ'!I11/('Sentencias TSJ'!$H11+'Sentencias TSJ'!$I11+'Sentencias TSJ'!$J11)) -> 0 | J11: =IF(('Sentencias TSJ'!$H11+'Sentencias TSJ'!$I11+'Sentencias TSJ'!$J11)=0,"-",'Sentencias TSJ'!J11/('Sentencias TSJ'!$H11+'Sentencias TSJ'!$I11+'Sentencias TSJ'!$J11)) -> 0 | K11: =IF(('Sentencias TSJ'!$K11+'Sentencias TSJ'!$L11+'Sentencias TSJ'!$M11)=0,"-",'Sentencias TSJ'!K11/('Sentencias TSJ'!$K11+'Sentencias TSJ'!$L11+'Sentencias TSJ'!$M11)) -> 0.91919192 | L11: =IF(('Sentencias TSJ'!$K11+'Sentencias TSJ'!$L11+'Sentencias TSJ'!$M11)=0,"-",'Sentencias TSJ'!L11/('Sentencias TSJ'!$K11+'Sentencias TSJ'!$L11+'Sentencias TSJ'!$M11)) -> 0.02020202 | M11: =IF(('Sentencias TSJ'!$K11+'Sentencias TSJ'!$L11+'Sentencias TSJ'!$M11)=0,"-",'Sentencias TSJ'!M11/('Sentencias TSJ'!$K11+'Sentencias TSJ'!$L11+'Sentencias TSJ'!$M11)) -> 0.060606061
A12: Canarias | B12: =IF(('Sentencias TSJ'!$B12+'Sentencias TSJ'!$C12+'Sentencias TSJ'!$D12)=0,"-",'Sentencias TSJ'!B12/('Sentencias TSJ'!$B12+'Sentencias TSJ'!$C12+'Sentencias TSJ'!$D12)) -> 0.84756098 | C12: =IF(('Sentencias TSJ'!$B12+'Sentencias TSJ'!$C12+'Sentencias TSJ'!$D12)=0,"-",'Sentencias TSJ'!C12/('Sentencias TSJ'!$B12+'Sentencias TSJ'!$C12+'Sentencias TSJ'!$D12)) -> 0.079268293 | D12: =IF(('Sentencias TSJ'!$B12+'Sentencias TSJ'!$C12+'Sentencias TSJ'!$D12)=0,"-",'Sentencias TSJ'!D12/('Sentencias TSJ'!$B12+'Sentencias TSJ'!$C12+'Sentencias TSJ'!$D12)) -> 0.073170732 | E12: =IF(('Sentencias TSJ'!$E12+'Sentencias TSJ'!$F12+'Sentencias TSJ'!$G12)=0,"-",'Sentencias TSJ'!E12/('Sentencias TSJ'!$E12+'Sentencias TSJ'!$F12+'Sentencias TSJ'!$G12)) -> 0.8 | F12: =IF(('Sentencias TSJ'!$E12+'Sentencias TSJ'!$F12+'Sentencias TSJ'!$G12)=0,"-",'Sentencias TSJ'!F12/('Sentencias TSJ'!$E12+'Sentencias TSJ'!$F12+'Sentencias TSJ'!$G12)) -> 0 | G12: =IF(('Sentencias TSJ'!$E12+'Sentencias TSJ'!$F12+'Sentencias TSJ'!$G12)=0,"-",'Sentencias TSJ'!G12/('Sentencias TSJ'!$E12+'Sentencias TSJ'!$F12+'Sentencias TSJ'!$G12)) -> 0.2 | H12: =IF(('Sentencias TSJ'!$H12+'Sentencias TSJ'!$I12+'Sentencias TSJ'!$J12)=0,"-",'Sentencias TSJ'!H12/('Sentencias TSJ'!$H12+'Sentencias TSJ'!$I12+'Sentencias TSJ'!$J12)) -> 0.82142857 | I12: =IF(('Sentencias TSJ'!$H12+'Sentencias TSJ'!$I12+'Sentencias TSJ'!$J12)=0,"-",'Sentencias TSJ'!I12/('Sentencias TSJ'!$H12+'Sentencias TSJ'!$I12+'Sentencias TSJ'!$J12)) -> 0.035714286 | J12: =IF(('Sentencias TSJ'!$H12+'Sentencias TSJ'!$I12+'Sentencias TSJ'!$J12)=0,"-",'Sentencias TSJ'!J12/('Sentencias TSJ'!$H12+'Sentencias TSJ'!$I12+'Sentencias TSJ'!$J12)) -> 0.14285714 | K12: =IF(('Sentencias TSJ'!$K12+'Sentencias TSJ'!$L12+'Sentencias TSJ'!$M12)=0,"-",'Sentencias TSJ'!K12/('Sentencias TSJ'!$K12+'Sentencias TSJ'!$L12+'Sentencias TSJ'!$M12)) -> 0.84158416 | L12: =IF(('Sentencias TSJ'!$K12+'Sentencias TSJ'!$L12+'Sentencias TSJ'!$M12)=0,"-",'Sentencias TSJ'!L12/('Sentencias TSJ'!$K12+'Sentencias TSJ'!$L12+'Sentencias TSJ'!$M12)) -> 0.069306931 | M12: =IF(('Sentencias TSJ'!$K12+'Sentencias TSJ'!$L12+'Sentencias TSJ'!$M12)=0,"-",'Sentencias TSJ'!M12/('Sentencias TSJ'!$K12+'Sentencias TSJ'!$L12+'Sentencias TSJ'!$M12)) -> 0.089108911
A13: Cantabria | B13: =IF(('Sentencias TSJ'!$B13+'Sentencias TSJ'!$C13+'Sentencias TSJ'!$D13)=0,"-",'Sentencias TSJ'!B13/('Sentencias TSJ'!$B13+'Sentencias TSJ'!$C13+'Sentencias TSJ'!$D13)) -> 0.89090909 | C13: =IF(('Sentencias TSJ'!$B13+'Sentencias TSJ'!$C13+'Sentencias TSJ'!$D13)=0,"-",'Sentencias TSJ'!C13/('Sentencias TSJ'!$B13+'Sentencias TSJ'!$C13+'Sentencias TSJ'!$D13)) -> 0.054545455 | D13: =IF(('Sentencias TSJ'!$B13+'Sentencias TSJ'!$C13+'Sentencias TSJ'!$D13)=0,"-",'Sentencias TSJ'!D13/('Sentencias TSJ'!$B13+'Sentencias TSJ'!$C13+'Sentencias TSJ'!$D13)) -> 0.054545455 | E13: =IF(('Sentencias TSJ'!$E13+'Sentencias TSJ'!$F13+'Sentencias TSJ'!$G13)=0,"-",'Sentencias TSJ'!E13/('Sentencias TSJ'!$E13+'Sentencias TSJ'!$F13+'Sentencias TSJ'!$G13)) -> 0 | F13: =IF(('Sentencias TSJ'!$E13+'Sentencias TSJ'!$F13+'Sentencias TSJ'!$G13)=0,"-",'Sentencias TSJ'!F13/('Sentencias TSJ'!$E13+'Sentencias TSJ'!$F13+'Sentencias TSJ'!$G13)) -> 0.88888889 | G13: =IF(('Sentencias TSJ'!$E13+'Sentencias TSJ'!$F13+'Sentencias TSJ'!$G13)=0,"-",'Sentencias TSJ'!G13/('Sentencias TSJ'!$E13+'Sentencias TSJ'!$F13+'Sentencias TSJ'!$G13)) -> 0.11111111 | H13: =IF(('Sentencias TSJ'!$H13+'Sentencias TSJ'!$I13+'Sentencias TSJ'!$J13)=0,"-",'Sentencias TSJ'!H13/('Sentencias TSJ'!$H13+'Sentencias TSJ'!$I13+'Sentencias TSJ'!$J13)) -> 0.3 | I13: =IF(('Sentencias TSJ'!$H13+'Sentencias TSJ'!$I13+'Sentencias TSJ'!$J13)=0,"-",'Sentencias TSJ'!I13/('Sentencias TSJ'!$H13+'Sentencias TSJ'!$I13+'Sentencias TSJ'!$J13)) -> 0.6 | J13: =IF(('Sentencias TSJ'!$H13+'Sentencias TSJ'!$I13+'Sentencias TSJ'!$J13)=0,"-",'Sentencias TSJ'!J13/('Sentencias TSJ'!$H13+'Sentencias TSJ'!$I13+'Sentencias TSJ'!$J13)) -> 0.1 | K13: =IF(('Sentencias TSJ'!$K13+'Sentencias TSJ'!$L13+'Sentencias TSJ'!$M13)=0,"-",'Sentencias TSJ'!K13/('Sentencias TSJ'!$K13+'Sentencias TSJ'!$L13+'Sentencias TSJ'!$M13)) -> 0.7027027 | L13: =IF(('Sentencias TSJ'!$K13+'Sentencias TSJ'!$L13+'Sentencias TSJ'!$M13)=0,"-",'Sentencias TSJ'!L13/('Sentencias TSJ'!$K13+'Sentencias TSJ'!$L13+'Sentencias TSJ'!$M13)) -> 0.22972973 | M13: =IF(('Sentencias TSJ'!$K13+'Sentencias TSJ'!$L13+'Sentencias TSJ'!$M13)=0,"-",'Sentencias TSJ'!M13/('Sentencias TSJ'!$K13+'Sentencias TSJ'!$L13+'Sentencias TSJ'!$M13)) -> 0.067567568
A14: Castilla y León | B14: =IF(('Sentencias TSJ'!$B14+'Sentencias TSJ'!$C14+'Sentencias TSJ'!$D14)=0,"-",'Sentencias TSJ'!B14/('Sentencias TSJ'!$B14+'Sentencias TSJ'!$C14+'Sentencias TSJ'!$D14)) -> 0.79411765 | C14: =IF(('Sentencias TSJ'!$B14+'Sentencias TSJ'!$C14+'Sentencias TSJ'!$D14)=0,"-",'Sentencias TSJ'!C14/('Sentencias TSJ'!$B14+'Sentencias TSJ'!$C14+'Sentencias TSJ'!$D14)) -> 0.12745098 | D14: =IF(('Sentencias TSJ'!$B14+'Sentencias TSJ'!$C14+'Sentencias TSJ'!$D14)=0,"-",'Sentencias TSJ'!D14/('Sentencias TSJ'!$B14+'Sentencias TSJ'!$C14+'Sentencias TSJ'!$D14)) -> 0.078431373 | E14: =IF(('Sentencias TSJ'!$E14+'Sentencias TSJ'!$F14+'Sentencias TSJ'!$G14)=0,"-",'Sentencias TSJ'!E14/('Sentencias TSJ'!$E14+'Sentencias TSJ'!$F14+'Sentencias TSJ'!$G14)) -> 1 | F14: =IF(('Sentencias TSJ'!$E14+'Sentencias TSJ'!$F14+'Sentencias TSJ'!$G14)=0,"-",'Sentencias TSJ'!F14/('Sentencias TSJ'!$E14+'Sentencias TSJ'!$F14+'Sentencias TSJ'!$G14)) -> 0 | G14: =IF(('Sentencias TSJ'!$E14+'Sentencias TSJ'!$F14+'Sentencias TSJ'!$G14)=0,"-",'Sentencias TSJ'!G14/('Sentencias TSJ'!$E14+'Sentencias TSJ'!$F14+'Sentencias TSJ'!$G14)) -> 0 | H14: =IF(('Sentencias TSJ'!$H14+'Sentencias TSJ'!$I14+'Sentencias TSJ'!$J14)=0,"-",'Sentencias TSJ'!H14/('Sentencias TSJ'!$H14+'Sentencias TSJ'!$I14+'Sentencias TSJ'!$J14)) -> 0.72727273 | I14: =IF(('Sentencias TSJ'!$H14+'Sentencias TSJ'!$I14+'Sentencias TSJ'!$J14)=0,"-",'Sentencias TSJ'!I14/('Sentencias TSJ'!$H14+'Sentencias TSJ'!$I14+'Sentencias TSJ'!$J14)) -> 0 | J14: =IF(('Sentencias TSJ'!$H14+'Sentencias TSJ'!$I14+'Sentencias TSJ'!$J14)=0,"-",'Sentencias TSJ'!J14/('Sentencias TSJ'!$H14+'Sentencias TSJ'!$I14+'Sentencias TSJ'!$J14)) -> 0.27272727 | K14: =IF(('Sentencias TSJ'!$K14+'Sentencias TSJ'!$L14+'Sentencias TSJ'!$M14)=0,"-",'Sentencias TSJ'!K14/('Sentencias TSJ'!$K14+'Sentencias TSJ'!$L14+'Sentencias TSJ'!$M14)) -> 0.79487179 | L14: =IF(('Sentencias TSJ'!$K14+'Sentencias TSJ'!$L14+'Sentencias TSJ'!$M14)=0,"-",'Sentencias TSJ'!L14/('Sentencias TSJ'!$K14+'Sentencias TSJ'!$L14+'Sentencias TSJ'!$M14)) -> 0.11111111 | M14: =IF(('Sentencias TSJ'!$K14+'Sentencias TSJ'!$L14+'Sentencias TSJ'!$M14)=0,"-",'Sentencias TSJ'!M14/('Sentencias TSJ'!$K14+'Sentencias TSJ'!$L14+'Sentencias TSJ'!$M14)) -> 0.094017094
A15: Castilla-La Mancha | B15: =IF(('Sentencias TSJ'!$B15+'Sentencias TSJ'!$C15+'Sentencias TSJ'!$D15)=0,"-",'Sentencias TSJ'!B15/('Sentencias TSJ'!$B15+'Sentencias TSJ'!$C15+'Sentencias TSJ'!$D15)) -> 0.88888889 | C15: =IF(('Sentencias TSJ'!$B15+'Sentencias TSJ'!$C15+'Sentencias TSJ'!$D15)=0,"-",'Sentencias TSJ'!C15/('Sentencias TSJ'!$B15+'Sentencias TSJ'!$C15+'Sentencias TSJ'!$D15)) -> 0.037037037 | D15: =IF(('Sentencias TSJ'!$B15+'Sentencias TSJ'!$C15+'Sentencias TSJ'!$D15)=0,"-",'Sentencias TSJ'!D15/('Sentencias TSJ'!$B15+'Sentencias TSJ'!$C15+'Sentencias TSJ'!$D15)) -> 0.074074074 | E15: =IF(('Sentencias TSJ'!$E15+'Sentencias TSJ'!$F15+'Sentencias TSJ'!$G15)=0,"-",'Sentencias TSJ'!E15/('Sentencias TSJ'!$E15+'Sentencias TSJ'!$F15+'Sentencias TSJ'!$G15)) -> 0 | F15: =IF(('Sentencias TSJ'!$E15+'Sentencias TSJ'!$F15+'Sentencias TSJ'!$G15)=0,"-",'Sentencias TSJ'!F15/('Sentencias TSJ'!$E15+'Sentencias TSJ'!$F15+'Sentencias TSJ'!$G15)) -> 0 | G15: =IF(('Sentencias TSJ'!$E15+'Sentencias TSJ'!$F15+'Sentencias TSJ'!$G15)=0,"-",'Sentencias TSJ'!G15/('Sentencias TSJ'!$E15+'Sentencias TSJ'!$F15+'Sentencias TSJ'!$G15)) -> 1 | H15: =IF(('Sentencias TSJ'!$H15+'Sentencias TSJ'!$I15+'Sentencias TSJ'!$J15)=0,"-",'Sentencias TSJ'!H15/('Sentencias TSJ'!$H15+'Sentencias TSJ'!$I15+'Sentencias TSJ'!$J15)) -> 0.875 | I15: =IF(('Sentencias TSJ'!$H15+'Sentencias TSJ'!$I15+'Sentencias TSJ'!$J15)=0,"-",'Sentencias TSJ'!I15/('Sentencias TSJ'!$H15+'Sentencias TSJ'!$I15+'Sentencias TSJ'!$J15)) -> 0.125 | J15: =IF(('Sentencias TSJ'!$H15+'Sentencias TSJ'!$I15+'Sentencias TSJ'!$J15)=0,"-",'Sentencias TSJ'!J15/('Sentencias TSJ'!$H15+'Sentencias TSJ'!$I15+'Sentencias TSJ'!$J15)) -> 0 | K15: =IF(('Sentencias TSJ'!$K15+'Sentencias TSJ'!$L15+'Sentencias TSJ'!$M15)=0,"-",'Sentencias TSJ'!K15/('Sentencias TSJ'!$K15+'Sentencias TSJ'!$L15+'Sentencias TSJ'!$M15)) -> 0.87777778 | L15: =IF(('Sentencias TSJ'!$K15+'Sentencias TSJ'!$L15+'Sentencias TSJ'!$M15)=0,"-",'Sentencias TSJ'!L15/('Sentencias TSJ'!$K15+'Sentencias TSJ'!$L15+'Sentencias TSJ'!$M15)) -> 0.044444444 | M15: =IF(('Sentencias TSJ'!$K15+'Sentencias TSJ'!$L15+'Sentencias TSJ'!$M15)=0,"-",'Sentencias TSJ'!M15/('Sentencias TSJ'!$K15+'Sentencias TSJ'!$L15+'Sentencias TSJ'!$M15)) -> 0.077777778
A16: Cataluña | B16: =IF(('Sentencias TSJ'!$B16+'Sentencias TSJ'!$C16+'Sentencias TSJ'!$D16)=0,"-",'Sentencias TSJ'!B16/('Sentencias TSJ'!$B16+'Sentencias TSJ'!$C16+'Sentencias TSJ'!$D16)) -> 0.87419355 | C16: =IF(('Sentencias TSJ'!$B16+'Sentencias TSJ'!$C16+'Sentencias TSJ'!$D16)=0,"-",'Sentencias TSJ'!C16/('Sentencias TSJ'!$B16+'Sentencias TSJ'!$C16+'Sentencias TSJ'!$D16)) -> 0.079032258 | D16: =IF(('Sentencias TSJ'!$B16+'Sentencias TSJ'!$C16+'Sentencias TSJ'!$D16)=0,"-",'Sentencias TSJ'!D16/('Sentencias TSJ'!$B16+'Sentencias TSJ'!$C16+'Sentencias TSJ'!$D16)) -> 0.046774194 | E16: =IF(('Sentencias TSJ'!$E16+'Sentencias TSJ'!$F16+'Sentencias TSJ'!$G16)=0,"-",'Sentencias TSJ'!E16/('Sentencias TSJ'!$E16+'Sentencias TSJ'!$F16+'Sentencias TSJ'!$G16)) -> 0.875 | F16: =IF(('Sentencias TSJ'!$E16+'Sentencias TSJ'!$F16+'Sentencias TSJ'!$G16)=0,"-",'Sentencias TSJ'!F16/('Sentencias TSJ'!$E16+'Sentencias TSJ'!$F16+'Sentencias TSJ'!$G16)) -> 0.0875 | G16: =IF(('Sentencias TSJ'!$E16+'Sentencias TSJ'!$F16+'Sentencias TSJ'!$G16)=0,"-",'Sentencias TSJ'!G16/('Sentencias TSJ'!$E16+'Sentencias TSJ'!$F16+'Sentencias TSJ'!$G16)) -> 0.0375 | H16: =IF(('Sentencias TSJ'!$H16+'Sentencias TSJ'!$I16+'Sentencias TSJ'!$J16)=0,"-",'Sentencias TSJ'!H16/('Sentencias TSJ'!$H16+'Sentencias TSJ'!$I16+'Sentencias TSJ'!$J16)) -> 0.8625 | I16: =IF(('Sentencias TSJ'!$H16+'Sentencias TSJ'!$I16+'Sentencias TSJ'!$J16)=0,"-",'Sentencias TSJ'!I16/('Sentencias TSJ'!$H16+'Sentencias TSJ'!$I16+'Sentencias TSJ'!$J16)) -> 0.075 | J16: =IF(('Sentencias TSJ'!$H16+'Sentencias TSJ'!$I16+'Sentencias TSJ'!$J16)=0,"-",'Sentencias TSJ'!J16/('Sentencias TSJ'!$H16+'Sentencias TSJ'!$I16+'Sentencias TSJ'!$J16)) -> 0.0625 | K16: =IF(('Sentencias TSJ'!$K16+'Sentencias TSJ'!$L16+'Sentencias TSJ'!$M16)=0,"-",'Sentencias TSJ'!K16/('Sentencias TSJ'!$K16+'Sentencias TSJ'!$L16+'Sentencias TSJ'!$M16)) -> 0.8712766 | L16: =IF(('Sentencias TSJ'!$K16+'Sentencias TSJ'!$L16+'Sentencias TSJ'!$M16)=0,"-",'Sentencias TSJ'!L16/('Sentencias TSJ'!$K16+'Sentencias TSJ'!$L16+'Sentencias TSJ'!$M16)) -> 0.078723404 | M16: =IF(('Sentencias TSJ'!$K16+'Sentencias TSJ'!$L16+'Sentencias TSJ'!$M16)=0,"-",'Sentencias TSJ'!M16/('Sentencias TSJ'!$K16+'Sentencias TSJ'!$L16+'Sentencias TSJ'!$M16)) -> 0.05
A17: C. Valenciana | B17: =IF(('Sentencias TSJ'!$B17+'Sentencias TSJ'!$C17+'Sentencias TSJ'!$D17)=0,"-",'Sentencias TSJ'!B17/('Sentencias TSJ'!$B17+'Sentencias TSJ'!$C17+'Sentencias TSJ'!$D17)) -> 0.86666667 | C17: =IF(('Sentencias TSJ'!$B17+'Sentencias TSJ'!$C17+'Sentencias TSJ'!$D17)=0,"-",'Sentencias TSJ'!C17/('Sentencias TSJ'!$B17+'Sentencias TSJ'!$C17+'Sentencias TSJ'!$D17)) -> 0.084057971 | D17: =IF(('Sentencias TSJ'!$B17+'Sentencias TSJ'!$C17+'Sentencias TSJ'!$D17)=0,"-",'Sentencias TSJ'!D17/('Sentencias TSJ'!$B17+'Sentencias TSJ'!$C17+'Sentencias TSJ'!$D17)) -> 0.049275362 | E17: =IF(('Sentencias TSJ'!$E17+'Sentencias TSJ'!$F17+'Sentencias TSJ'!$G17)=0,"-",'Sentencias TSJ'!E17/('Sentencias TSJ'!$E17+'Sentencias TSJ'!$F17+'Sentencias TSJ'!$G17)) -> 0.73333333 | F17: =IF(('Sentencias TSJ'!$E17+'Sentencias TSJ'!$F17+'Sentencias TSJ'!$G17)=0,"-",'Sentencias TSJ'!F17/('Sentencias TSJ'!$E17+'Sentencias TSJ'!$F17+'Sentencias TSJ'!$G17)) -> 0.16666667 | G17: =IF(('Sentencias TSJ'!$E17+'Sentencias TSJ'!$F17+'Sentencias TSJ'!$G17)=0,"-",'Sentencias TSJ'!G17/('Sentencias TSJ'!$E17+'Sentencias TSJ'!$F17+'Sentencias TSJ'!$G17)) -> 0.1 | H17: =IF(('Sentencias TSJ'!$H17+'Sentencias TSJ'!$I17+'Sentencias TSJ'!$J17)=0,"-",'Sentencias TSJ'!H17/('Sentencias TSJ'!$H17+'Sentencias TSJ'!$I17+'Sentencias TSJ'!$J17)) -> 0.83018868 | I17: =IF(('Sentencias TSJ'!$H17+'Sentencias TSJ'!$I17+'Sentencias TSJ'!$J17)=0,"-",'Sentencias TSJ'!I17/('Sentencias TSJ'!$H17+'Sentencias TSJ'!$I17+'Sentencias TSJ'!$J17)) -> 0.037735849 | J17: =IF(('Sentencias TSJ'!$H17+'Sentencias TSJ'!$I17+'Sentencias TSJ'!$J17)=0,"-",'Sentencias TSJ'!J17/('Sentencias TSJ'!$H17+'Sentencias TSJ'!$I17+'Sentencias TSJ'!$J17)) -> 0.13207547 | K17: =IF(('Sentencias TSJ'!$K17+'Sentencias TSJ'!$L17+'Sentencias TSJ'!$M17)=0,"-",'Sentencias TSJ'!K17/('Sentencias TSJ'!$K17+'Sentencias TSJ'!$L17+'Sentencias TSJ'!$M17)) -> 0.85280374 | L17: =IF(('Sentencias TSJ'!$K17+'Sentencias TSJ'!$L17+'Sentencias TSJ'!$M17)=0,"-",'Sentencias TSJ'!L17/('Sentencias TSJ'!$K17+'Sentencias TSJ'!$L17+'Sentencias TSJ'!$M17)) -> 0.08411215 | M17: =IF(('Sentencias TSJ'!$K17+'Sentencias TSJ'!$L17+'Sentencias TSJ'!$M17)=0,"-",'Sentencias TSJ'!M17/('Sentencias TSJ'!$K17+'Sentencias TSJ'!$L17+'Sentencias TSJ'!$M17)) -> 0.063084112
A18: Extremadura | B18: =IF(('Sentencias TSJ'!$B18+'Sentencias TSJ'!$C18+'Sentencias TSJ'!$D18)=0,"-",'Sentencias TSJ'!B18/('Sentencias TSJ'!$B18+'Sentencias TSJ'!$C18+'Sentencias TSJ'!$D18)) -> 0.85714286 | C18: =IF(('Sentencias TSJ'!$B18+'Sentencias TSJ'!$C18+'Sentencias TSJ'!$D18)=0,"-",'Sentencias TSJ'!C18/('Sentencias TSJ'!$B18+'Sentencias TSJ'!$C18+'Sentencias TSJ'!$D18)) -> 0.14285714 | D18: =IF(('Sentencias TSJ'!$B18+'Sentencias TSJ'!$C18+'Sentencias TSJ'!$D18)=0,"-",'Sentencias TSJ'!D18/('Sentencias TSJ'!$B18+'Sentencias TSJ'!$C18+'Sentencias TSJ'!$D18)) -> 0 | E18: =IF(('Sentencias TSJ'!$E18+'Sentencias TSJ'!$F18+'Sentencias TSJ'!$G18)=0,"-",'Sentencias TSJ'!E18/('Sentencias TSJ'!$E18+'Sentencias TSJ'!$F18+'Sentencias TSJ'!$G18)) -> - | F18: =IF(('Sentencias TSJ'!$E18+'Sentencias TSJ'!$F18+'Sentencias TSJ'!$G18)=0,"-",'Sentencias TSJ'!F18/('Sentencias TSJ'!$E18+'Sentencias TSJ'!$F18+'Sentencias TSJ'!$G18)) -> - | G18: =IF(('Sentencias TSJ'!$E18+'Sentencias TSJ'!$F18+'Sentencias TSJ'!$G18)=0,"-",'Sentencias TSJ'!G18/('Sentencias TSJ'!$E18+'Sentencias TSJ'!$F18+'Sentencias TSJ'!$G18)) -> - | H18: =IF(('Sentencias TSJ'!$H18+'Sentencias TSJ'!$I18+'Sentencias TSJ'!$J18)=0,"-",'Sentencias TSJ'!H18/('Sentencias TSJ'!$H18+'Sentencias TSJ'!$I18+'Sentencias TSJ'!$J18)) -> 0 | I18: =IF(('Sentencias TSJ'!$H18+'Sentencias TSJ'!$I18+'Sentencias TSJ'!$J18)=0,"-",'Sentencias TSJ'!I18/('Sentencias TSJ'!$H18+'Sentencias TSJ'!$I18+'Sentencias TSJ'!$J18)) -> 0 | J18: =IF(('Sentencias TSJ'!$H18+'Sentencias TSJ'!$I18+'Sentencias TSJ'!$J18)=0,"-",'Sentencias TSJ'!J18/('Sentencias TSJ'!$H18+'Sentencias TSJ'!$I18+'Sentencias TSJ'!$J18)) -> 1 | K18: =IF(('Sentencias TSJ'!$K18+'Sentencias TSJ'!$L18+'Sentencias TSJ'!$M18)=0,"-",'Sentencias TSJ'!K18/('Sentencias TSJ'!$K18+'Sentencias TSJ'!$L18+'Sentencias TSJ'!$M18)) -> 0.81818182 | L18: =IF(('Sentencias TSJ'!$K18+'Sentencias TSJ'!$L18+'Sentencias TSJ'!$M18)=0,"-",'Sentencias TSJ'!L18/('Sentencias TSJ'!$K18+'Sentencias TSJ'!$L18+'Sentencias TSJ'!$M18)) -> 0.13636364 | M18: =IF(('Sentencias TSJ'!$K18+'Sentencias TSJ'!$L18+'Sentencias TSJ'!$M18)=0,"-",'Sentencias TSJ'!M18/('Sentencias TSJ'!$K18+'Sentencias TSJ'!$L18+'Sentencias TSJ'!$M18)) -> 0.045454545
A19: Galicia | B19: =IF(('Sentencias TSJ'!$B19+'Sentencias TSJ'!$C19+'Sentencias TSJ'!$D19)=0,"-",'Sentencias TSJ'!B19/('Sentencias TSJ'!$B19+'Sentencias TSJ'!$C19+'Sentencias TSJ'!$D19)) -> 0.97560976 | C19: =IF(('Sentencias TSJ'!$B19+'Sentencias TSJ'!$C19+'Sentencias TSJ'!$D19)=0,"-",'Sentencias TSJ'!C19/('Sentencias TSJ'!$B19+'Sentencias TSJ'!$C19+'Sentencias TSJ'!$D19)) -> 0.012195122 | D19: =IF(('Sentencias TSJ'!$B19+'Sentencias TSJ'!$C19+'Sentencias TSJ'!$D19)=0,"-",'Sentencias TSJ'!D19/('Sentencias TSJ'!$B19+'Sentencias TSJ'!$C19+'Sentencias TSJ'!$D19)) -> 0.012195122 | E19: =IF(('Sentencias TSJ'!$E19+'Sentencias TSJ'!$F19+'Sentencias TSJ'!$G19)=0,"-",'Sentencias TSJ'!E19/('Sentencias TSJ'!$E19+'Sentencias TSJ'!$F19+'Sentencias TSJ'!$G19)) -> 0.75 | F19: =IF(('Sentencias TSJ'!$E19+'Sentencias TSJ'!$F19+'Sentencias TSJ'!$G19)=0,"-",'Sentencias TSJ'!F19/('Sentencias TSJ'!$E19+'Sentencias TSJ'!$F19+'Sentencias TSJ'!$G19)) -> 0.25 | G19: =IF(('Sentencias TSJ'!$E19+'Sentencias TSJ'!$F19+'Sentencias TSJ'!$G19)=0,"-",'Sentencias TSJ'!G19/('Sentencias TSJ'!$E19+'Sentencias TSJ'!$F19+'Sentencias TSJ'!$G19)) -> 0 | H19: =IF(('Sentencias TSJ'!$H19+'Sentencias TSJ'!$I19+'Sentencias TSJ'!$J19)=0,"-",'Sentencias TSJ'!H19/('Sentencias TSJ'!$H19+'Sentencias TSJ'!$I19+'Sentencias TSJ'!$J19)) -> 1 | I19: =IF(('Sentencias TSJ'!$H19+'Sentencias TSJ'!$I19+'Sentencias TSJ'!$J19)=0,"-",'Sentencias TSJ'!I19/('Sentencias TSJ'!$H19+'Sentencias TSJ'!$I19+'Sentencias TSJ'!$J19)) -> 0 | J19: =IF(('Sentencias TSJ'!$H19+'Sentencias TSJ'!$I19+'Sentencias TSJ'!$J19)=0,"-",'Sentencias TSJ'!J19/('Sentencias TSJ'!$H19+'Sentencias TSJ'!$I19+'Sentencias TSJ'!$J19)) -> 0 | K19: =IF(('Sentencias TSJ'!$K19+'Sentencias TSJ'!$L19+'Sentencias TSJ'!$M19)=0,"-",'Sentencias TSJ'!K19/('Sentencias TSJ'!$K19+'Sentencias TSJ'!$L19+'Sentencias TSJ'!$M19)) -> 0.96774194 | L19: =IF(('Sentencias TSJ'!$K19+'Sentencias TSJ'!$L19+'Sentencias TSJ'!$M19)=0,"-",'Sentencias TSJ'!L19/('Sentencias TSJ'!$K19+'Sentencias TSJ'!$L19+'Sentencias TSJ'!$M19)) -> 0.021505376 | M19: =IF(('Sentencias TSJ'!$K19+'Sentencias TSJ'!$L19+'Sentencias TSJ'!$M19)=0,"-",'Sentencias TSJ'!M19/('Sentencias TSJ'!$K19+'Sentencias TSJ'!$L19+'Sentencias TSJ'!$M19)) -> 0.010752688
... A25: TOTAL | B25: =IF(('Sentencias TSJ'!$B25+'Sentencias TSJ'!$C25+'Sentencias TSJ'!$D25)=0,"-",'Sentencias TSJ'!B25/('Sentencias TSJ'!$B25+'Sentencias TSJ'!$C25+'Sentencias TSJ'!$D25)) -> 0.88038278 | C25: =IF(('Sentencias TSJ'!$B25+'Sentencias TSJ'!$C25+'Sentencias TSJ'!$D25)=0,"-",'Sentencias TSJ'!C25/('Sentencias TSJ'!$B25+'Sentencias TSJ'!$C25+'Sentencias TSJ'!$D25)) -> 0.066985646 | D25: =IF(('Sentencias TSJ'!$B25+'Sentencias TSJ'!$C25+'Sentencias TSJ'!$D25)=0,"-",'Sentencias TSJ'!D25/('Sentencias TSJ'!$B25+'Sentencias TSJ'!$C25+'Sentencias TSJ'!$D25)) -> 0.052631579 | E25: =IF(('Sentencias TSJ'!$E25+'Sentencias TSJ'!$F25+'Sentencias TSJ'!$G25)=0,"-",'Sentencias TSJ'!E25/('Sentencias TSJ'!$E25+'Sentencias TSJ'!$F25+'Sentencias TSJ'!$G25)) -> 0.75769231 | F25: =IF(('Sentencias TSJ'!$E25+'Sentencias TSJ'!$F25+'Sentencias TSJ'!$G25)=0,"-",'Sentencias TSJ'!F25/('Sentencias TSJ'!$E25+'Sentencias TSJ'!$F25+'Sentencias TSJ'!$G25)) -> 0.15384615 | G25: =IF(('Sentencias TSJ'!$E25+'Sentencias TSJ'!$F25+'Sentencias TSJ'!$G25)=0,"-",'Sentencias TSJ'!G25/('Sentencias TSJ'!$E25+'Sentencias TSJ'!$F25+'Sentencias TSJ'!$G25)) -> 0.088461538 | H25: =IF(('Sentencias TSJ'!$H25+'Sentencias TSJ'!$I25+'Sentencias TSJ'!$J25)=0,"-",'Sentencias TSJ'!H25/('Sentencias TSJ'!$H25+'Sentencias TSJ'!$I25+'Sentencias TSJ'!$J25)) -> 0.84267631 | I25: =IF(('Sentencias TSJ'!$H25+'Sentencias TSJ'!$I25+'Sentencias TSJ'!$J25)=0,"-",'Sentencias TSJ'!I25/('Sentencias TSJ'!$H25+'Sentencias TSJ'!$I25+'Sentencias TSJ'!$J25)) -> 0.059674503 | J25: =IF(('Sentencias TSJ'!$H25+'Sentencias TSJ'!$I25+'Sentencias TSJ'!$J25)=0,"-",'Sentencias TSJ'!J25/('Sentencias TSJ'!$H25+'Sentencias TSJ'!$I25+'Sentencias TSJ'!$J25)) -> 0.097649186 | K25: =IF(('Sentencias TSJ'!$K25+'Sentencias TSJ'!$L25+'Sentencias TSJ'!$M25)=0,"-",'Sentencias TSJ'!K25/('Sentencias TSJ'!$K25+'Sentencias TSJ'!$L25+'Sentencias TSJ'!$M25)) -> 0.86543909 | L25: =IF(('Sentencias TSJ'!$K25+'Sentencias TSJ'!$L25+'Sentencias TSJ'!$M25)=0,"-",'Sentencias TSJ'!L25/('Sentencias TSJ'!$K25+'Sentencias TSJ'!$L25+'Sentencias TSJ'!$M25)) -> 0.07223796 | M25: =IF(('Sentencias TSJ'!$K25+'Sentencias TSJ'!$L25+'Sentencias TSJ'!$M25)=0,"-",'Sentencias TSJ'!M25/('Sentencias TSJ'!$K25+'Sentencias TSJ'!$L25+'Sentencias TSJ'!$M25)) -> 0.062322946
A28: Uso distinto a vivienda | B28: Acción principal ejercitada en la demanda
B29: Falta de pago de la renta o de cantidades que se asimilan | E29: Denegacion de prorroga | H29: Otros | K29: Total
B30: Estimando la demanda totalmente | C30: Estimando la demanda parcialmente | D30: Desestimando la demanda | E30: Estimando la demanda totalmente | F30: Estimando la demanda parcialmente | G30: Desestimando la demanda | H30: Estimando la demanda totalmente | I30: Estimando la demanda parcialmente | J30: Desestimando la demanda | K30: Estimando la demanda totalmente | L30: Estimando la demanda parcialmente | M30: Desestimando la demanda
A31: Andalucía | B31: =IF(('Sentencias TSJ'!$B32+'Sentencias TSJ'!$C32+'Sentencias TSJ'!$D32)=0,"-",'Sentencias TSJ'!B32/('Sentencias TSJ'!$B32+'Sentencias TSJ'!$C32+'Sentencias TSJ'!$D32)) -> 0.77777778 | C31: =IF(('Sentencias TSJ'!$B32+'Sentencias TSJ'!$C32+'Sentencias TSJ'!$D32)=0,"-",'Sentencias TSJ'!C32/('Sentencias TSJ'!$B32+'Sentencias TSJ'!$C32+'Sentencias TSJ'!$D32)) -> 0.11111111 | D31: =IF(('Sentencias TSJ'!$B32+'Sentencias TSJ'!$C32+'Sentencias TSJ'!$D32)=0,"-",'Sentencias TSJ'!D32/('Sentencias TSJ'!$B32+'Sentencias TSJ'!$C32+'Sentencias TSJ'!$D32)) -> 0.11111111 | E31: =IF(('Sentencias TSJ'!$E32+'Sentencias TSJ'!$F32+'Sentencias TSJ'!$G32)=0,"-",'Sentencias TSJ'!E32/('Sentencias TSJ'!$E32+'Sentencias TSJ'!$F32+'Sentencias TSJ'!$G32)) -> 0 | F31: =IF(('Sentencias TSJ'!$E32+'Sentencias TSJ'!$F32+'Sentencias TSJ'!$G32)=0,"-",'Sentencias TSJ'!F32/('Sentencias TSJ'!$E32+'Sentencias TSJ'!$F32+'Sentencias TSJ'!$G32)) -> 1 | G31: =IF(('Sentencias TSJ'!$E32+'Sentencias TSJ'!$F32+'Sentencias TSJ'!$G32)=0,"-",'Sentencias TSJ'!G32/('Sentencias TSJ'!$E32+'Sentencias TSJ'!$F32+'Sentencias TSJ'!$G32)) -> 0 | H31: =IF(('Sentencias TSJ'!$H32+'Sentencias TSJ'!$I32+'Sentencias TSJ'!$J32)=0,"-",'Sentencias TSJ'!H32/('Sentencias TSJ'!$H32+'Sentencias TSJ'!$I32+'Sentencias TSJ'!$J32)) -> 0 | I31: =IF(('Sentencias TSJ'!$H32+'Sentencias TSJ'!$I32+'Sentencias TSJ'!$J32)=0,"-",'Sentencias TSJ'!I32/('Sentencias TSJ'!$H32+'Sentencias TSJ'!$I32+'Sentencias TSJ'!$J32)) -> 0 | J31: =IF(('Sentencias TSJ'!$H32+'Sentencias TSJ'!$I32+'Sentencias TSJ'!$J32)=0,"-",'Sentencias TSJ'!J32/('Sentencias TSJ'!$H32+'Sentencias TSJ'!$I32+'Sentencias TSJ'!$J32)) -> 1 | K31: =IF(('Sentencias TSJ'!$K32+'Sentencias TSJ'!$L32+'Sentencias TSJ'!$M32)=0,"-",'Sentencias TSJ'!K32/('Sentencias TSJ'!$K32+'Sentencias TSJ'!$L32+'Sentencias TSJ'!$M32)) -> 0.63636364 | L31: =IF(('Sentencias TSJ'!$K32+'Sentencias TSJ'!$L32+'Sentencias TSJ'!$M32)=0,"-",'Sentencias TSJ'!L32/('Sentencias TSJ'!$K32+'Sentencias TSJ'!$L32+'Sentencias TSJ'!$M32)) -> 0.18181818 | M31: =IF(('Sentencias TSJ'!$K32+'Sentencias TSJ'!$L32+'Sentencias TSJ'!$M32)=0,"-",'Sentencias TSJ'!M32/('Sentencias TSJ'!$K32+'Sentencias TSJ'!$L32+'Sentencias TSJ'!$M32)) -> 0.18181818
A32: Aragón | B32: =IF(('Sentencias TSJ'!$B33+'Sentencias TSJ'!$C33+'Sentencias TSJ'!$D33)=0,"-",'Sentencias TSJ'!B33/('Sentencias TSJ'!$B33+'Sentencias TSJ'!$C33+'Sentencias TSJ'!$D33)) -> 0.33333333 | C32: =IF(('Sentencias TSJ'!$B33+'Sentencias TSJ'!$C33+'Sentencias TSJ'!$D33)=0,"-",'Sentencias TSJ'!C33/('Sentencias TSJ'!$B33+'Sentencias TSJ'!$C33+'Sentencias TSJ'!$D33)) -> 0.66666667 | D32: =IF(('Sentencias TSJ'!$B33+'Sentencias TSJ'!$C33+'Sentencias TSJ'!$D33)=0,"-",'Sentencias TSJ'!D33/('Sentencias TSJ'!$B33+'Sentencias TSJ'!$C33+'Sentencias TSJ'!$D33)) -> 0 | E32: =IF(('Sentencias TSJ'!$E33+'Sentencias TSJ'!$F33+'Sentencias TSJ'!$G33)=0,"-",'Sentencias TSJ'!E33/('Sentencias TSJ'!$E33+'Sentencias TSJ'!$F33+'Sentencias TSJ'!$G33)) -> 0 | F32: =IF(('Sentencias TSJ'!$E33+'Sentencias TSJ'!$F33+'Sentencias TSJ'!$G33)=0,"-",'Sentencias TSJ'!F33/('Sentencias TSJ'!$E33+'Sentencias TSJ'!$F33+'Sentencias TSJ'!$G33)) -> 1 | G32: =IF(('Sentencias TSJ'!$E33+'Sentencias TSJ'!$F33+'Sentencias TSJ'!$G33)=0,"-",'Sentencias TSJ'!G33/('Sentencias TSJ'!$E33+'Sentencias TSJ'!$F33+'Sentencias TSJ'!$G33)) -> 0 | H32: =IF(('Sentencias TSJ'!$H33+'Sentencias TSJ'!$I33+'Sentencias TSJ'!$J33)=0,"-",'Sentencias TSJ'!H33/('Sentencias TSJ'!$H33+'Sentencias TSJ'!$I33+'Sentencias TSJ'!$J33)) -> 0.33333333 | I32: =IF(('Sentencias TSJ'!$H33+'Sentencias TSJ'!$I33+'Sentencias TSJ'!$J33)=0,"-",'Sentencias TSJ'!I33/('Sentencias TSJ'!$H33+'Sentencias TSJ'!$I33+'Sentencias TSJ'!$J33)) -> 0.66666667 | J32: =IF(('Sentencias TSJ'!$H33+'Sentencias TSJ'!$I33+'Sentencias TSJ'!$J33)=0,"-",'Sentencias TSJ'!J33/('Sentencias TSJ'!$H33+'Sentencias TSJ'!$I33+'Sentencias TSJ'!$J33)) -> 0 | K32: =IF(('Sentencias TSJ'!$K33+'Sentencias TSJ'!$L33+'Sentencias TSJ'!$M33)=0,"-",'Sentencias TSJ'!K33/('Sentencias TSJ'!$K33+'Sentencias TSJ'!$L33+'Sentencias TSJ'!$M33)) -> 0.28571429 | L32: =IF(('Sentencias TSJ'!$K33+'Sentencias TSJ'!$L33+'Sentencias TSJ'!$M33)=0,"-",'Sentencias TSJ'!L33/('Sentencias TSJ'!$K33+'Sentencias TSJ'!$L33+'Sentencias TSJ'!$M33)) -> 0.71428571 | M32: =IF(('Sentencias TSJ'!$K33+'Sentencias TSJ'!$L33+'Sentencias TSJ'!$M33)=0,"-",'Sentencias TSJ'!M33/('Sentencias TSJ'!$K33+'Sentencias TSJ'!$L33+'Sentencias TSJ'!$M33)) -> 0
A33: Asturias | B33: =IF(('Sentencias TSJ'!$B34+'Sentencias TSJ'!$C34+'Sentencias TSJ'!$D34)=0,"-",'Sentencias TSJ'!B34/('Sentencias TSJ'!$B34+'Sentencias TSJ'!$C34+'Sentencias TSJ'!$D34)) -> 1 | C33: =IF(('Sentencias TSJ'!$B34+'Sentencias TSJ'!$C34+'Sentencias TSJ'!$D34)=0,"-",'Sentencias TSJ'!C34/('Sentencias TSJ'!$B34+'Sentencias TSJ'!$C34+'Sentencias TSJ'!$D34)) -> 0 | D33: =IF(('Sentencias TSJ'!$B34+'Sentencias TSJ'!$C34+'Sentencias TSJ'!$D34)=0,"-",'Sentencias TSJ'!D34/('Sentencias TSJ'!$B34+'Sentencias TSJ'!$C34+'Sentencias TSJ'!$D34)) -> 0 | E33: =IF(('Sentencias TSJ'!$E34+'Sentencias TSJ'!$F34+'Sentencias TSJ'!$G34)=0,"-",'Sentencias TSJ'!E34/('Sentencias TSJ'!$E34+'Sentencias TSJ'!$F34+'Sentencias TSJ'!$G34)) -> 1 | F33: =IF(('Sentencias TSJ'!$E34+'Sentencias TSJ'!$F34+'Sentencias TSJ'!$G34)=0,"-",'Sentencias TSJ'!F34/('Sentencias TSJ'!$E34+'Sentencias TSJ'!$F34+'Sentencias TSJ'!$G34)) -> 0 | G33: =IF(('Sentencias TSJ'!$E34+'Sentencias TSJ'!$F34+'Sentencias TSJ'!$G34)=0,"-",'Sentencias TSJ'!G34/('Sentencias TSJ'!$E34+'Sentencias TSJ'!$F34+'Sentencias TSJ'!$G34)) -> 0 | H33: =IF(('Sentencias TSJ'!$H34+'Sentencias TSJ'!$I34+'Sentencias TSJ'!$J34)=0,"-",'Sentencias TSJ'!H34/('Sentencias TSJ'!$H34+'Sentencias TSJ'!$I34+'Sentencias TSJ'!$J34)) -> 1 | I33: =IF(('Sentencias TSJ'!$H34+'Sentencias TSJ'!$I34+'Sentencias TSJ'!$J34)=0,"-",'Sentencias TSJ'!I34/('Sentencias TSJ'!$H34+'Sentencias TSJ'!$I34+'Sentencias TSJ'!$J34)) -> 0 | J33: =IF(('Sentencias TSJ'!$H34+'Sentencias TSJ'!$I34+'Sentencias TSJ'!$J34)=0,"-",'Sentencias TSJ'!J34/('Sentencias TSJ'!$H34+'Sentencias TSJ'!$I34+'Sentencias TSJ'!$J34)) -> 0 | K33: =IF(('Sentencias TSJ'!$K34+'Sentencias TSJ'!$L34+'Sentencias TSJ'!$M34)=0,"-",'Sentencias TSJ'!K34/('Sentencias TSJ'!$K34+'Sentencias TSJ'!$L34+'Sentencias TSJ'!$M34)) -> 1 | L33: =IF(('Sentencias TSJ'!$K34+'Sentencias TSJ'!$L34+'Sentencias TSJ'!$M34)=0,"-",'Sentencias TSJ'!L34/('Sentencias TSJ'!$K34+'Sentencias TSJ'!$L34+'Sentencias TSJ'!$M34)) -> 0 | M33: =IF(('Sentencias TSJ'!$K34+'Sentencias TSJ'!$L34+'Sentencias TSJ'!$M34)=0,"-",'Sentencias TSJ'!M34/('Sentencias TSJ'!$K34+'Sentencias TSJ'!$L34+'Sentencias TSJ'!$M34)) -> 0
A34: Illes Balears | B34: =IF(('Sentencias TSJ'!$B35+'Sentencias TSJ'!$C35+'Sentencias TSJ'!$D35)=0,"-",'Sentencias TSJ'!B35/('Sentencias TSJ'!$B35+'Sentencias TSJ'!$C35+'Sentencias TSJ'!$D35)) -> 0.42857143 | C34: =IF(('Sentencias TSJ'!$B35+'Sentencias TSJ'!$C35+'Sentencias TSJ'!$D35)=0,"-",'Sentencias TSJ'!C35/('Sentencias TSJ'!$B35+'Sentencias TSJ'!$C35+'Sentencias TSJ'!$D35)) -> 0.14285714 | D34: =IF(('Sentencias TSJ'!$B35+'Sentencias TSJ'!$C35+'Sentencias TSJ'!$D35)=0,"-",'Sentencias TSJ'!D35/('Sentencias TSJ'!$B35+'Sentencias TSJ'!$C35+'Sentencias TSJ'!$D35)) -> 0.42857143 | E34: =IF(('Sentencias TSJ'!$E35+'Sentencias TSJ'!$F35+'Sentencias TSJ'!$G35)=0,"-",'Sentencias TSJ'!E35/('Sentencias TSJ'!$E35+'Sentencias TSJ'!$F35+'Sentencias TSJ'!$G35)) -> - | F34: =IF(('Sentencias TSJ'!$E35+'Sentencias TSJ'!$F35+'Sentencias TSJ'!$G35)=0,"-",'Sentencias TSJ'!F35/('Sentencias TSJ'!$E35+'Sentencias TSJ'!$F35+'Sentencias TSJ'!$G35)) -> - | G34: =IF(('Sentencias TSJ'!$E35+'Sentencias TSJ'!$F35+'Sentencias TSJ'!$G35)=0,"-",'Sentencias TSJ'!G35/('Sentencias TSJ'!$E35+'Sentencias TSJ'!$F35+'Sentencias TSJ'!$G35)) -> - | H34: =IF(('Sentencias TSJ'!$H35+'Sentencias TSJ'!$I35+'Sentencias TSJ'!$J35)=0,"-",'Sentencias TSJ'!H35/('Sentencias TSJ'!$H35+'Sentencias TSJ'!$I35+'Sentencias TSJ'!$J35)) -> - | I34: =IF(('Sentencias TSJ'!$H35+'Sentencias TSJ'!$I35+'Sentencias TSJ'!$J35)=0,"-",'Sentencias TSJ'!I35/('Sentencias TSJ'!$H35+'Sentencias TSJ'!$I35+'Sentencias TSJ'!$J35)) -> - | J34: =IF(('Sentencias TSJ'!$H35+'Sentencias TSJ'!$I35+'Sentencias TSJ'!$J35)=0,"-",'Sentencias TSJ'!J35/('Sentencias TSJ'!$H35+'Sentencias TSJ'!$I35+'Sentencias TSJ'!$J35)) -> - | K34: =IF(('Sentencias TSJ'!$K35+'Sentencias TSJ'!$L35+'Sentencias TSJ'!$M35)=0,"-",'Sentencias TSJ'!K35/('Sentencias TSJ'!$K35+'Sentencias TSJ'!$L35+'Sentencias TSJ'!$M35)) -> 0.42857143 | L34: =IF(('Sentencias TSJ'!$K35+'Sentencias TSJ'!$L35+'Sentencias TSJ'!$M35)=0,"-",'Sentencias TSJ'!L35/('Sentencias TSJ'!$K35+'Sentencias TSJ'!$L35+'Sentencias TSJ'!$M35)) -> 0.14285714 | M34: =IF(('Sentencias TSJ'!$K35+'Sentencias TSJ'!$L35+'Sentencias TSJ'!$M35)=0,"-",'Sentencias TSJ'!M35/('Sentencias TSJ'!$K35+'Sentencias TSJ'!$L35+'Sentencias TSJ'!$M35)) -> 0.42857143
A35: Canarias | B35: =IF(('Sentencias TSJ'!$B36+'Sentencias TSJ'!$C36+'Sentencias TSJ'!$D36)=0,"-",'Sentencias TSJ'!B36/('Sentencias TSJ'!$B36+'Sentencias TSJ'!$C36+'Sentencias TSJ'!$D36)) -> 0.71428571 | C35: =IF(('Sentencias TSJ'!$B36+'Sentencias TSJ'!$C36+'Sentencias TSJ'!$D36)=0,"-",'Sentencias TSJ'!C36/('Sentencias TSJ'!$B36+'Sentencias TSJ'!$C36+'Sentencias TSJ'!$D36)) -> 0 | D35: =IF(('Sentencias TSJ'!$B36+'Sentencias TSJ'!$C36+'Sentencias TSJ'!$D36)=0,"-",'Sentencias TSJ'!D36/('Sentencias TSJ'!$B36+'Sentencias TSJ'!$C36+'Sentencias TSJ'!$D36)) -> 0.28571429 | E35: =IF(('Sentencias TSJ'!$E36+'Sentencias TSJ'!$F36+'Sentencias TSJ'!$G36)=0,"-",'Sentencias TSJ'!E36/('Sentencias TSJ'!$E36+'Sentencias TSJ'!$F36+'Sentencias TSJ'!$G36)) -> 0.5 | F35: =IF(('Sentencias TSJ'!$E36+'Sentencias TSJ'!$F36+'Sentencias TSJ'!$G36)=0,"-",'Sentencias TSJ'!F36/('Sentencias TSJ'!$E36+'Sentencias TSJ'!$F36+'Sentencias TSJ'!$G36)) -> 0.5 | G35: =IF(('Sentencias TSJ'!$E36+'Sentencias TSJ'!$F36+'Sentencias TSJ'!$G36)=0,"-",'Sentencias TSJ'!G36/('Sentencias TSJ'!$E36+'Sentencias TSJ'!$F36+'Sentencias TSJ'!$G36)) -> 0 | H35: =IF(('Sentencias TSJ'!$H36+'Sentencias TSJ'!$I36+'Sentencias TSJ'!$J36)=0,"-",'Sentencias TSJ'!H36/('Sentencias TSJ'!$H36+'Sentencias TSJ'!$I36+'Sentencias TSJ'!$J36)) -> 1 | I35: =IF(('Sentencias TSJ'!$H36+'Sentencias TSJ'!$I36+'Sentencias TSJ'!$J36)=0,"-",'Sentencias TSJ'!I36/('Sentencias TSJ'!$H36+'Sentencias TSJ'!$I36+'Sentencias TSJ'!$J36)) -> 0 | J35: =IF(('Sentencias TSJ'!$H36+'Sentencias TSJ'!$I36+'Sentencias TSJ'!$J36)=0,"-",'Sentencias TSJ'!J36/('Sentencias TSJ'!$H36+'Sentencias TSJ'!$I36+'Sentencias TSJ'!$J36)) -> 0 | K35: =IF(('Sentencias TSJ'!$K36+'Sentencias TSJ'!$L36+'Sentencias TSJ'!$M36)=0,"-",'Sentencias TSJ'!K36/('Sentencias TSJ'!$K36+'Sentencias TSJ'!$L36+'Sentencias TSJ'!$M36)) -> 0.7 | L35: =IF(('Sentencias TSJ'!$K36+'Sentencias TSJ'!$L36+'Sentencias TSJ'!$M36)=0,"-",'Sentencias TSJ'!L36/('Sentencias TSJ'!$K36+'Sentencias TSJ'!$L36+'Sentencias TSJ'!$M36)) -> 0.1 | M35: =IF(('Sentencias TSJ'!$K36+'Sentencias TSJ'!$L36+'Sentencias TSJ'!$M36)=0,"-",'Sentencias TSJ'!M36/('Sentencias TSJ'!$K36+'Sentencias TSJ'!$L36+'Sentencias TSJ'!$M36)) -> 0.2
A36: Cantabria | B36: =IF(('Sentencias TSJ'!$B37+'Sentencias TSJ'!$C37+'Sentencias TSJ'!$D37)=0,"-",'Sentencias TSJ'!B37/('Sentencias TSJ'!$B37+'Sentencias TSJ'!$C37+'Sentencias TSJ'!$D37)) -> 0.2 | C36: =IF(('Sentencias TSJ'!$B37+'Sentencias TSJ'!$C37+'Sentencias TSJ'!$D37)=0,"-",'Sentencias TSJ'!C37/('Sentencias TSJ'!$B37+'Sentencias TSJ'!$C37+'Sentencias TSJ'!$D37)) -> 0.8 | D36: =IF(('Sentencias TSJ'!$B37+'Sentencias TSJ'!$C37+'Sentencias TSJ'!$D37)=0,"-",'Sentencias TSJ'!D37/('Sentencias TSJ'!$B37+'Sentencias TSJ'!$C37+'Sentencias TSJ'!$D37)) -> 0 | E36: =IF(('Sentencias TSJ'!$E37+'Sentencias TSJ'!$F37+'Sentencias TSJ'!$G37)=0,"-",'Sentencias TSJ'!E37/('Sentencias TSJ'!$E37+'Sentencias TSJ'!$F37+'Sentencias TSJ'!$G37)) -> - | F36: =IF(('Sentencias TSJ'!$E37+'Sentencias TSJ'!$F37+'Sentencias TSJ'!$G37)=0,"-",'Sentencias TSJ'!F37/('Sentencias TSJ'!$E37+'Sentencias TSJ'!$F37+'Sentencias TSJ'!$G37)) -> - | G36: =IF(('Sentencias TSJ'!$E37+'Sentencias TSJ'!$F37+'Sentencias TSJ'!$G37)=0,"-",'Sentencias TSJ'!G37/('Sentencias TSJ'!$E37+'Sentencias TSJ'!$F37+'Sentencias TSJ'!$G37)) -> - | H36: =IF(('Sentencias TSJ'!$H37+'Sentencias TSJ'!$I37+'Sentencias TSJ'!$J37)=0,"-",'Sentencias TSJ'!H37/('Sentencias TSJ'!$H37+'Sentencias TSJ'!$I37+'Sentencias TSJ'!$J37)) -> 1 | I36: =IF(('Sentencias TSJ'!$H37+'Sentencias TSJ'!$I37+'Sentencias TSJ'!$J37)=0,"-",'Sentencias TSJ'!I37/('Sentencias TSJ'!$H37+'Sentencias TSJ'!$I37+'Sentencias TSJ'!$J37)) -> 0 | J36: =IF(('Sentencias TSJ'!$H37+'Sentencias TSJ'!$I37+'Sentencias TSJ'!$J37)=0,"-",'Sentencias TSJ'!J37/('Sentencias TSJ'!$H37+'Sentencias TSJ'!$I37+'Sentencias TSJ'!$J37)) -> 0 | K36: =IF(('Sentencias TSJ'!$K37+'Sentencias TSJ'!$L37+'Sentencias TSJ'!$M37)=0,"-",'Sentencias TSJ'!K37/('Sentencias TSJ'!$K37+'Sentencias TSJ'!$L37+'Sentencias TSJ'!$M37)) -> 0.33333333 | L36: =IF(('Sentencias TSJ'!$K37+'Sentencias TSJ'!$L37+'Sentencias TSJ'!$M37)=0,"-",'Sentencias TSJ'!L37/('Sentencias TSJ'!$K37+'Sentencias TSJ'!$L37+'Sentencias TSJ'!$M37)) -> 0.66666667 | M36: =IF(('Sentencias TSJ'!$K37+'Sentencias TSJ'!$L37+'Sentencias TSJ'!$M37)=0,"-",'Sentencias TSJ'!M37/('Sentencias TSJ'!$K37+'Sentencias TSJ'!$L37+'Sentencias TSJ'!$M37)) -> 0
